Workbook

Sheet 調査票D
A2: 1 | B2: 事業所No.（調査票Aの番号） | AF2: 発送コード | AI2: ： | AO2: 調査票D
B4: ○ | C4: 主に化学製品の製造を行っている場合はご記入ください。ご記入は本調査の対象化学物質別にお願いいたします。なお、ゴム添加剤やプラスチック成型品の添加剤、燃料添加剤自体を製造する場合は本調査票にご記入いただき、それらを使用してゴム製品やプラスチック製品、燃料を製造する場合は調査票Cの「チ：ゴム添加剤」や「ツ：プラスチック成型品の原料・添加剤」、「ワ：燃料又は燃料添加剤」にご記入ください。 同様に「ガラス、ほうろう、セメント」、「陶磁器、耐火物、ファインセラミックス」、「研削砥石、研磨剤、摩擦材、固体潤滑剤」、「電気・電子用の部品・デバイス」、「電池用の部品・部材」、「建設資材」を製造する場合は調査票Cにご記入ください。
B5: ○ | C5: 対象化学物質ごとに、取扱区分別に年間取扱量及び環境への排出率をご記入ください。
A7: 2 | B7: 管理番号：対象化学物質名
B9: 取扱区分 ※該当するものに○をご記入ください。 | X9: 年間取扱量 （トン／年） | AB9: 環境への排出率（該当する欄に○）
AB10: ゼロ | AD10: 0.01%未満 （ゼロ以外） | AF10: 0.01～0.1% | AH10: 0.1～1% | AJ10: 1～10% | AL10: 10～30% | AN10: 30～90% | AP10: 90%以上
A11: 3 | D11: ア）PRTR対象化学物質自体の製造 （別の化学物質を原料として反応させてPRTR対象化学物質を製造）
A12: 4 | D12: イ）化学品の合成原料（合成・重合等によりPRTR対象化学物質が別の化学物質へ転化）
A13: 5 | D13: ウ）反応溶剤・抽出溶剤等（別の化学物質の合成等のためにPRTR対象化学物質を溶剤として使用）
A14: 6 | D14: エ）化学品の配合原料（PRTR対象化学物質を塗料等の化学品の成分として配合）
D15: ※具体的な品名をご記入ください：
A16: 7 | D16: オ）化学プロセス調節剤（化学プロセスに関わる単位操作（例えば、反応、発酵、分離・精製、攪拌・混合、伝熱、流動、調湿・乾燥、集塵、成形、洗浄など）の制御等のために使用）
A17: 8 | D17: カ）PRTR対象化学物質を含む化学品の小分け
A18: 9 | D18: キ）反応による副生成物
A19: 10 | D19: ク）その他
D20: ※具体的にご記入ください：
A21: 11 | D21: ケ）その他
D22: ※具体的にご記入ください：
B23: 注１：表中の環境への排出率の幅は「○％以上○％未満」を表します。（0.1～1％⇒0.1％以上1％未満）
B24: 注２：年間取扱量の正確な数量が把握できない場合には有効数字１桁程度の概算（例：約800トン）で結構です。
B25: 注３：PRTRの届出とは異なり、年間取扱量が1t未満の物質につきましても調査対象としておりますので、可能な限りご協力をお願いいたします。
B26: 注４：調査票Cに含まれる資材（例：試薬）を事業所で使用する場合には、調査票Cにご記入ください。
A29: =A2+11 -> 12 | B29: 事業所No.（調査票Aの番号） | AF29: 発送コード | AI29: ： | AO29: 調査票D
B31: ○ | C31: 主に化学製品の製造を行っている場合はご記入ください。ご記入は本調査の対象化学物質別にお願いいたします。なお、ゴム添加剤やプラスチック成型品の添加剤、燃料添加剤自体を製造する場合は本調査票にご記入いただき、それらを使用してゴム製品やプラスチック製品、燃料を製造する場合は調査票Cの「チ：ゴム添加剤」や「ツ：プラスチック成型品の原料・添加剤」、「ワ：燃料又は燃料添加剤」にご記入ください。 同様に「ガラス、ほうろう、セメント」、「陶磁器、耐火物、ファインセラミックス」、「研削砥石、研磨剤、摩擦材、固体潤滑剤」、「電気・電子用の部品・デバイス」、「電池用の部品・部材」、「建設資材」を製造する場合は調査票Cにご記入ください。
B32: ○ | C32: 対象化学物質ごとに、取扱区分別に年間取扱量及び環境への排出率をご記入ください。
A34: =A7+11 -> 13 | B34: 管理番号：対象化学物質名
B36: 取扱区分 ※該当するものに○をご記入ください。 | X36: 年間取扱量 （トン／年） | AB36: 環境への排出率（該当する欄に○）
AB37: ゼロ | AD37: 0.01%未満 （ゼロ以外） | AF37: 0.01～0.1% | AH37: 0.1～1% | AJ37: 1～10% | AL37: 10～30% | AN37: 30～90% | AP37: 90%以上
A38: =A11+11 -> 14 | D38: ア）PRTR対象化学物質自体の製造 （別の化学物質を原料として反応させてPRTR対象化学物質を製造）
A39: =A12+11 -> 15 | D39: イ）化学品の合成原料（合成・重合等によりPRTR対象化学物質が別の化学物質へ転化）
A40: =A13+11 -> 16 | D40: ウ）反応溶剤・抽出溶剤等（別の化学物質の合成等のためにPRTR対象化学物質を溶剤として使用）
A41: =A14+11 -> 17 | D41: エ）化学品の配合原料（PRTR対象化学物質を塗料等の化学品の成分として配合）
D42: ※具体的な品名をご記入ください：
A43: =A16+11 -> 18 | D43: オ）化学プロセス調節剤（化学プロセスに関わる単位操作（例えば、反応、発酵、分離・精製、攪拌・混合、伝熱、流動、調湿・乾燥、集塵、成形、洗浄など）の制御等のために使用）
A44: =A17+11 -> 19 | D44: カ）PRTR対象化学物質を含む化学品の小分け
A45: =A18+11 -> 20 | D45: キ）反応による副生成物
A46: =A19+11 -> 21 | D46: ク）その他
D47: ※具体的にご記入ください：
A48: =A21+11 -> 22 | D48: ケ）その他
D49: ※具体的にご記入ください：
B50: 注１：表中の環境への排出率の幅は「○％以上○％未満」を表します。（0.1～1％⇒0.1％以上1％未満）
B51: 注２：年間取扱量の正確な数量が把握できない場合には有効数字１桁程度の概算（例：約800トン）で結構です。
B52: 注３：PRTRの届出とは異なり、年間取扱量が1t未満の物質につきましても調査対象としておりますので、可能な限りご協力をお願いいたします。
B53: 注４：調査票Cに含まれる資材（例：試薬）を事業所で使用する場合には、調査票Cにご記入ください。
A56: =A29+11 -> 23 | B56: 事業所No.（調査票Aの番号） | AF56: 発送コード | AI56: ： | AO56: 調査票D
B58: ○ | C58: 主に化学製品の製造を行っている場合はご記入ください。ご記入は本調査の対象化学物質別にお願いいたします。なお、ゴム添加剤やプラスチック成型品の添加剤、燃料添加剤自体を製造する場合は本調査票にご記入いただき、それらを使用してゴム製品やプラスチック製品、燃料を製造する場合は調査票Cの「チ：ゴム添加剤」や「ツ：プラスチック成型品の原料・添加剤」、「ワ：燃料又は燃料添加剤」にご記入ください。 同様に「ガラス、ほうろう、セメント」、「陶磁器、耐火物、ファインセラミックス」、「研削砥石、研磨剤、摩擦材、固体潤滑剤」、「電気・電子用の部品・デバイス」、「電池用の部品・部材」、「建設資材」を製造する場合は調査票Cにご記入ください。
B59: ○ | C59: 対象化学物質ごとに、取扱区分別に年間取扱量及び環境への排出率をご記入ください。
A61: =A34+11 -> 24 | B61: 管理番号：対象化学物質名
B63: 取扱区分 ※該当するものに○をご記入ください。 | X63: 年間取扱量 （トン／年） | AB63: 環境への排出率（該当する欄に○）
AB64: ゼロ | AD64: 0.01%未満 （ゼロ以外） | AF64: 0.01～0.1% | AH64: 0.1～1% | AJ64: 1～10% | AL64: 10～30% | AN64: 30～90% | AP64: 90%以上
A65: =A38+11 -> 25 | D65: ア）PRTR対象化学物質自体の製造 （別の化学物質を原料として反応させてPRTR対象化学物質を製造）
A66: =A39+11 -> 26 | D66: イ）化学品の合成原料（合成・重合等によりPRTR対象化学物質が別の化学物質へ転化）
A67: =A40+11 -> 27 | D67: ウ）反応溶剤・抽出溶剤等（別の化学物質の合成等のためにPRTR対象化学物質を溶剤として使用）
A68: =A41+11 -> 28 | D68: エ）化学品の配合原料（PRTR対象化学物質を塗料等の化学品の成分として配合）
D69: ※具体的な品名をご記入ください：
A70: =A43+11 -> 29 | D70: オ）化学プロセス調節剤（化学プロセスに関わる単位操作（例えば、反応、発酵、分離・精製、攪拌・混合、伝熱、流動、調湿・乾燥、集塵、成形、洗浄など）の制御等のために使用）
A71: =A44+11 -> 30 | D71: カ）PRTR対象化学物質を含む化学品の小分け
A72: =A45+11 -> 31 | D72: キ）反応による副生成物
A73: =A46+11 -> 32 | D73: ク）その他
D74: ※具体的にご記入ください：
A75: =A48+11 -> 33 | D75: ケ）その他
D76: ※具体的にご記入ください：
B77: 注１：表中の環境への排出率の幅は「○％以上○％未満」を表します。（0.1～1％⇒0.1％以上1％未満）
B78: 注２：年間取扱量の正確な数量が把握できない場合には有効数字１桁程度の概算（例：約800トン）で結構です。
B79: 注３：PRTRの届出とは異なり、年間取扱量が1t未満の物質につきましても調査対象としておりますので、可能な限りご協力をお願いいたします。
B80: 注４：調査票Cに含まれる資材（例：試薬）を事業所で使用する場合には、調査票Cにご記入ください。
A83: =A56+11 -> 34 | B83: 事業所No.（調査票Aの番号） | AF83: 発送コード | AI83: ： | AO83: 調査票D
B85: ○ | C85: 主に化学製品の製造を行っている場合はご記入ください。ご記入は本調査の対象化学物質別にお願いいたします。なお、ゴム添加剤やプラスチック成型品の添加剤、燃料添加剤自体を製造する場合は本調査票にご記入いただき、それらを使用してゴム製品やプラスチック製品、燃料を製造する場合は調査票Cの「チ：ゴム添加剤」や「ツ：プラスチック成型品の原料・添加剤」、「ワ：燃料又は燃料添加剤」にご記入ください。 同様に「ガラス、ほうろう、セメント」、「陶磁器、耐火物、ファインセラミックス」、「研削砥石、研磨剤、摩擦材、固体潤滑剤」、「電気・電子用の部品・デバイス」、「電池用の部品・部材」、「建設資材」を製造する場合は調査票Cにご記入ください。
B86: ○ | C86: 対象化学物質ごとに、取扱区分別に年間取扱量及び環境への排出率をご記入ください。
A88: =A61+11 -> 35 | B88: 管理番号：対象化学物質名
B90: 取扱区分 ※該当するものに○をご記入ください。 | X90: 年間取扱量 （トン／年） | AB90: 環境への排出率（該当する欄に○）
AB91: ゼロ | AD91: 0.01%未満 （ゼロ以外） | AF91: 0.01～0.1% | AH91: 0.1～1% | AJ91: 1～10% | AL91: 10～30% | AN91: 30～90% | AP91: 90%以上
A92: =A65+11 -> 36 | D92: ア）PRTR対象化学物質自体の製造 （別の化学物質を原料として反応させてPRTR対象化学物質を製造）
A93: =A66+11 -> 37 | D93: イ）化学品の合成原料（合成・重合等によりPRTR対象化学物質が別の化学物質へ転化）
A94: =A67+11 -> 38 | D94: ウ）反応溶剤・抽出溶剤等（別の化学物質の合成等のためにPRTR対象化学物質を溶剤として使用）
A95: =A68+11 -> 39 | D95: エ）化学品の配合原料（PRTR対象化学物質を塗料等の化学品の成分として配合）
D96: ※具体的な品名をご記入ください：
A97: =A70+11 -> 40 | D97: オ）化学プロセス調節剤（化学プロセスに関わる単位操作（例えば、反応、発酵、分離・精製、攪拌・混合、伝熱、流動、調湿・乾燥、集塵、成形、洗浄など）の制御等のために使用）
A98: =A71+11 -> 41 | D98: カ）PRTR対象化学物質を含む化学品の小分け
A99: =A72+11 -> 42 | D99: キ）反応による副生成物
A100: =A73+11 -> 43 | D100: ク）その他
D101: ※具体的にご記入ください：
A102: =A75+11 -> 44 | D102: ケ）その他
D103: ※具体的にご記入ください：
B104: 注１：表中の環境への排出率の幅は「○％以上○％未満」を表します。（0.1～1％⇒0.1％以上1％未満）
B105: 注２：年間取扱量の正確な数量が把握できない場合には有効数字１桁程度の概算（例：約800トン）で結構です。
B106: 注３：PRTRの届出とは異なり、年間取扱量が1t未満の物質につきましても調査対象としておりますので、可能な限りご協力をお願いいたします。
B107: 注４：調査票Cに含まれる資材（例：試薬）を事業所で使用する場合には、調査票Cにご記入ください。
A110: =A83+11 -> 45 | B110: 事業所No.（調査票Aの番号） | AF110: 発送コード | AI110: ： | AO110: 調査票D
B112: ○ | C112: 主に化学製品の製造を行っている場合はご記入ください。ご記入は本調査の対象化学物質別にお願いいたします。なお、ゴム添加剤やプラスチック成型品の添加剤、燃料添加剤自体を製造する場合は本調査票にご記入いただき、それらを使用してゴム製品やプラスチック製品、燃料を製造する場合は調査票Cの「チ：ゴム添加剤」や「ツ：プラスチック成型品の原料・添加剤」、「ワ：燃料又は燃料添加剤」にご記入ください。 同様に「ガラス、ほうろう、セメント」、「陶磁器、耐火物、ファインセラミックス」、「研削砥石、研磨剤、摩擦材、固体潤滑剤」、「電気・電子用の部品・デバイス」、「電池用の部品・部材」、「建設資材」を製造する場合は調査票Cにご記入ください。
B113: ○ | C113: 対象化学物質ごとに、取扱区分別に年間取扱量及び環境への排出率をご記入ください。
A115: =A88+11 -> 46 | B115: 管理番号：対象化学物質名
B117: 取扱区分 ※該当するものに○をご記入ください。 | X117: 年間取扱量 （トン／年） | AB117: 環境への排出率（該当する欄に○）
AB118: ゼロ | AD118: 0.01%未満 （ゼロ以外） | AF118: 0.01～0.1% | AH118: 0.1～1% | AJ118: 1～10% | AL118: 10～30% | AN118: 30～90% | AP118: 90%以上
A119: =A92+11 -> 47 | D119: ア）PRTR対象化学物質自体の製造 （別の化学物質を原料として反応させてPRTR対象化学物質を製造）
A120: =A93+11 -> 48 | D120: イ）化学品の合成原料（合成・重合等によりPRTR対象化学物質が別の化学物質へ転化）
A121: =A94+11 -> 49 | D121: ウ）反応溶剤・抽出溶剤等（別の化学物質の合成等のためにPRTR対象化学物質を溶剤として使用）
A122: =A95+11 -> 50 | D122: エ）化学品の配合原料（PRTR対象化学物質を塗料等の化学品の成分として配合）
D123: ※具体的な品名をご記入ください：
A124: =A97+11 -> 51 | D124: オ）化学プロセス調節剤（化学プロセスに関わる単位操作（例えば、反応、発酵、分離・精製、攪拌・混合、伝熱、流動、調湿・乾燥、集塵、成形、洗浄など）の制御等のために使用）
...

Sheet 別表3　対象化学物質の一覧
A1: 別表3 対象化学物質の一覧
A2: 管理番号・物質名 | X2: CAS番号 | Y2: 換算元素
A3: 1：亜鉛の水溶性化合物 | Y3: 亜鉛(Zn)
A4: 2：アクリルアミド | X4: 79-06-1
A5: 3：アクリル酸エチル | X5: 140-88-5
A6: 4：アクリル酸及びその水溶性塩
A7: 7：アクリル酸ブチル | X7: 141-32-2
A8: 8：アクリル酸メチル | X8: 96-33-3
A9: 9：アクリロニトリル | X9: 107-13-1
A10: 12：アセトアルデヒド | X10: 75-07-0
A11: 15：アセナフテン | X11: 83-32-9
A12: 18：アニリン | X12: 62-53-3
A13: 20：２－アミノエタノール | X13: 141-43-5
A14: 30：直鎖アルキルベンゼンスルホン酸及びその塩（アルキル基の炭素数が１０から１４までのもの及びその混合物に限る。）
A15: 31：アンチモン及びその化合物 | Y15: アンチモン(Sb)
A16: 32：アントラセン | X16: 120-12-7
A17: 34：３－イソシアナトメチル－３，５，５－トリメチルシクロヘキシル＝イソシアネート | X17: 4098-71-9
A18: 36：イソプレン | X18: 78-79-5
A19: 37：ビスフェノールＡ | X19: 80-05-7
A20: 44：インジウム及びその化合物 | Y20: インジウム(In)
A21: 53：エチルベンゼン | X21: 100-41-4
A22: 56：エチレンオキシド | X22: 75-21-8
A23: 57：エチレングリコールモノエチルエーテル | X23: 110-80-5
A24: 58：エチレングリコールモノメチルエーテル | X24: 109-86-4
A25: 59：エチレンジアミン | X25: 107-15-3
A26: 64：エトフェンプロックス | X26: 80844-07-1
A27: 65：エピクロロヒドリン | X27: 106-89-8
A28: 66：１，２－エポキシブタン | X28: 106-88-7
A29: 68：酸化プロピレン | X29: 75-56-9
A30: 73：１－オクタノール | X30: 111-87-5
A31: 74：パラ－アルキルフェノール（アルキル基の炭素数が８のものに限る。） | X31: 1806-26-4
A32: 75：カドミウム及びその化合物 | Y32: カドミウム(Cd)
A33: 80：キシレン | X33: 1330-20-7
A34: 81：キノリン | X34: 91-22-5
A35: 82：銀及びその水溶性化合物 | Y35: 銀(Ag)
A36: 83：クメン | X36: 98-82-8
A37: 84：グリオキサール | X37: 107-22-2
A38: 85：グルタルアルデヒド | X38: 111-30-8
A39: 86：クレゾール | X39: 1319-77-3
A40: 87：クロム及び三価クロム化合物 | Y40: クロム(Cr)
A41: 88：六価クロム化合物 | Y41: クロム(Cr)
A42: 94：塩化ビニル | X42: 75-01-4
A43: 98：クロロ酢酸 | X43: 79-11-8
A44: 123：塩化アリル | X44: 107-05-1
A45: 125：クロロベンゼン | X45: 108-90-7
A46: 127：クロロホルム | X46: 67-66-3
A47: 132：コバルト及びその化合物 | Y47: コバルト(Co)
A48: 133：エチレングリコール モノエチルエーテル アセテート | X48: 111-15-9
A49: 134：酢酸ビニル | X49: 108-05-4
A50: 135：エチレングリコール モノメチルエーテル アセテート | X50: 110-49-6
A51: 144：無機シアン化合物（錯塩及びシアン酸塩を除く。） | Y51: シアン(CN)
A52: 150：１，４－ジオキサン | X52: 123-91-1
A53: 154：シクロヘキシルアミン | X53: 108-91-8
A54: 157：１，２－ジクロロエタン | X54: 107-06-2
A55: 160：３，３’－ジクロロ－４，４’－ジアミノジフェニルメタン | X55: 101-14-4
A56: 181：ジクロロベンゼン | X56: 95-50-1, 106-46-7, 541-73-1, 25321-22-6
A57: 186：塩化メチレン | X57: 75-09-2
A58: 188：Ｎ，Ｎ－ジシクロヘキシルアミン | X58: 101-83-7
A59: 190：ジシクロペンタジエン | X59: 77-73-6
A60: 203：ジフェニルアミン | X60: 122-39-4
A61: 207：２，６－ジ－ターシャリ－ブチル－４－クレゾール | X61: 128-37-0
A62: 213：Ｎ，Ｎ－ジメチルアセトアミド | X62: 127-19-5
A63: 218：ジメチルアミン | X63: 124-40-3
... A66: 232：Ｎ，Ｎ－ジメチルホルムアミド | X66: 68-12-2
A67: 237：水銀及びその化合物 | Y67: 水銀(Hg)
A68: 240：スチレン | X68: 100-42-5
A69: 242：セレン及びその化合物 | Y69: セレン(Se)
A70: 245：チオ尿素 | X70: 62-56-6
A71: 255：デカブロモジフェニルエーテル | X71: 1163-19-5
A72: 257：デカノール | X72: 112-30-1, 1120-06-5, 1565-81-7, 2051-31-2, 5205-34-5, 25339-17-7, 36729-58-5
A73: 258：ヘキサメチレンテトラミン | X73: 100-97-0
A74: 259：ジスルフィラム | X74: 97-77-8
A75: 262：テトラクロロエチレン | X75: 127-18-4
A76: 270：テレフタル酸 | X76: 100-21-0
A77: 271：テレフタル酸ジメチル | X77: 120-61-6
A78: 272：銅水溶性塩（錯塩を除く。） | Y78: 銅(Cu)
A79: 273：ノルマル－ドデシル アルコール | X79: 112-53-8
A80: 275：ドデシル硫酸ナトリウム | X80: 151-21-3
A81: 277：トリエチルアミン | X81: 121-44-8
A82: 281：トリクロロエチレン | X82: 79-01-6
A83: 285：クロロピクリン | X83: 76-06-2
A84: 292：トリブチルアミン | X84: 102-82-9
A85: 298：トリレンジイソシアネート | X85: 26471-62-5
A86: 299：トルイジン | X86: 95-53-4, 106-49-0, 108-44-1, 26915-12-8
A87: 300：トルエン | X87: 108-88-3
A88: 302：ナフタレン | X88: 91-20-3
A89: 308：ニッケル | X89: 7440-02-0
A90: 309：ニッケル化合物 | Y90: ニッケル(Ni)
A91: 316：ニトロベンゼン | X91: 98-95-3
A92: 317：ニトロメタン | X92: 75-52-5
A93: 318：二硫化炭素 | X93: 75-15-0
A94: 320：アルキルフェノール（アルキル基の炭素数が９のものに限る。） | X94: 25154-52-3
A95: 321：バナジウム化合物 | Y95: バナジウム(V)
A96: 332：砒素及びその無機化合物 | Y96: 砒素(As)
A97: 333：ヒドラジン | X97: 302-01-2
A98: 336：ヒドロキノン | X98: 123-31-9
A99: 342：ピリジン | X99: 110-86-1
A100: 343：カテコール | X100: 120-80-9
A101: 349：フェノール | X101: 108-95-2
A102: 351：１，３－ブタジエン | X102: 106-99-0
...

Sheet 集計
B1: 36 | C1: 11 | D1: 11 | E1: 2 | F1: 14 | G1: 24 | H1: 28 | I1: 30 | J1: 32 | K1: 34 | L1: 36 | M1: 38 | N1: 40 | O1: 42
B2: 発送コード | C2: 事業所No. | D2: 管理番号・物質名 | E2: 取扱区分 | F2: 具体手な品目 | G2: 年間取扱量（トン／年） | H2: 環境への排出率_ゼロ | I2: 環境への排出率_0.01%未満 | J2: 環境への排出率_0.01～0.1% | K2: 環境への排出率_0.1～1% | L2: 環境への排出率_1～10% | M2: 環境への排出率_10～30% | N2: 環境への排出率_30～90% | O2: 環境への排出率_90%以上
A3: 3 | B3: =調査票D!$AJ$2 -> 0 | C3: =調査票D!$K$2 -> 0 | D3: =調査票D!$K$7 -> 0 | E3: =IF((VLOOKUP($A3,調査票D!$A:$AQ,E$1,FALSE))="○",PDリスト!$F$2,"") | F3: - | G3: =VLOOKUP($A3,調査票D!$A:$AQ,G$1,FALSE) -> 0 | H3: =VLOOKUP($A3,調査票D!$A:$AQ,H$1,FALSE) -> 0 | I3: =VLOOKUP($A3,調査票D!$A:$AQ,I$1,FALSE) -> 0 | J3: =VLOOKUP($A3,調査票D!$A:$AQ,J$1,FALSE) -> 0 | K3: =VLOOKUP($A3,調査票D!$A:$AQ,K$1,FALSE) -> 0 | L3: =VLOOKUP($A3,調査票D!$A:$AQ,L$1,FALSE) -> 0 | M3: =VLOOKUP($A3,調査票D!$A:$AQ,M$1,FALSE) -> 0 | N3: =VLOOKUP($A3,調査票D!$A:$AQ,N$1,FALSE) -> 0 | O3: =VLOOKUP($A3,調査票D!$A:$AQ,O$1,FALSE) -> 0
A4: 4 | B4: =調査票D!$AJ$2 -> 0 | C4: =調査票D!$K$2 -> 0 | D4: =調査票D!$K$7 -> 0 | E4: =IF((VLOOKUP($A4,調査票D!$A:$AQ,E$1,FALSE))="○",PDリスト!$F$3,"") | F4: - | G4: =VLOOKUP($A4,調査票D!$A:$AQ,G$1,FALSE) -> 0 | H4: =VLOOKUP($A4,調査票D!$A:$AQ,H$1,FALSE) -> 0 | I4: =VLOOKUP($A4,調査票D!$A:$AQ,I$1,FALSE) -> 0 | J4: =VLOOKUP($A4,調査票D!$A:$AQ,J$1,FALSE) -> 0 | K4: =VLOOKUP($A4,調査票D!$A:$AQ,K$1,FALSE) -> 0 | L4: =VLOOKUP($A4,調査票D!$A:$AQ,L$1,FALSE) -> 0 | M4: =VLOOKUP($A4,調査票D!$A:$AQ,M$1,FALSE) -> 0 | N4: =VLOOKUP($A4,調査票D!$A:$AQ,N$1,FALSE) -> 0 | O4: =VLOOKUP($A4,調査票D!$A:$AQ,O$1,FALSE) -> 0
A5: 5 | B5: =調査票D!$AJ$2 -> 0 | C5: =調査票D!$K$2 -> 0 | D5: =調査票D!$K$7 -> 0 | E5: =IF((VLOOKUP($A5,調査票D!$A:$AQ,E$1,FALSE))="○",PDリスト!$F$4,"") | F5: - | G5: =VLOOKUP($A5,調査票D!$A:$AQ,G$1,FALSE) -> 0 | H5: =VLOOKUP($A5,調査票D!$A:$AQ,H$1,FALSE) -> 0 | I5: =VLOOKUP($A5,調査票D!$A:$AQ,I$1,FALSE) -> 0 | J5: =VLOOKUP($A5,調査票D!$A:$AQ,J$1,FALSE) -> 0 | K5: =VLOOKUP($A5,調査票D!$A:$AQ,K$1,FALSE) -> 0 | L5: =VLOOKUP($A5,調査票D!$A:$AQ,L$1,FALSE) -> 0 | M5: =VLOOKUP($A5,調査票D!$A:$AQ,M$1,FALSE) -> 0 | N5: =VLOOKUP($A5,調査票D!$A:$AQ,N$1,FALSE) -> 0 | O5: =VLOOKUP($A5,調査票D!$A:$AQ,O$1,FALSE) -> 0
A6: 6 | B6: =調査票D!$AJ$2 -> 0 | C6: =調査票D!$K$2 -> 0 | D6: =調査票D!$K$7 -> 0 | E6: =IF((VLOOKUP($A6,調査票D!$A:$AQ,E$1,FALSE))="○",PDリスト!$F$5,"") | F6: =調査票D!$N$15 -> 0 | G6: =VLOOKUP($A6,調査票D!$A:$AQ,G$1,FALSE) -> 0 | H6: =VLOOKUP($A6,調査票D!$A:$AQ,H$1,FALSE) -> 0 | I6: =VLOOKUP($A6,調査票D!$A:$AQ,I$1,FALSE) -> 0 | J6: =VLOOKUP($A6,調査票D!$A:$AQ,J$1,FALSE) -> 0 | K6: =VLOOKUP($A6,調査票D!$A:$AQ,K$1,FALSE) -> 0 | L6: =VLOOKUP($A6,調査票D!$A:$AQ,L$1,FALSE) -> 0 | M6: =VLOOKUP($A6,調査票D!$A:$AQ,M$1,FALSE) -> 0 | N6: =VLOOKUP($A6,調査票D!$A:$AQ,N$1,FALSE) -> 0 | O6: =VLOOKUP($A6,調査票D!$A:$AQ,O$1,FALSE) -> 0
A7: 7 | B7: =調査票D!$AJ$2 -> 0 | C7: =調査票D!$K$2 -> 0 | D7: =調査票D!$K$7 -> 0 | E7: =IF((VLOOKUP($A7,調査票D!$A:$AQ,E$1,FALSE))="○",PDリスト!$F$6,"") | F7: - | G7: =VLOOKUP($A7,調査票D!$A:$AQ,G$1,FALSE) -> 0 | H7: =VLOOKUP($A7,調査票D!$A:$AQ,H$1,FALSE) -> 0 | I7: =VLOOKUP($A7,調査票D!$A:$AQ,I$1,FALSE) -> 0 | J7: =VLOOKUP($A7,調査票D!$A:$AQ,J$1,FALSE) -> 0 | K7: =VLOOKUP($A7,調査票D!$A:$AQ,K$1,FALSE) -> 0 | L7: =VLOOKUP($A7,調査票D!$A:$AQ,L$1,FALSE) -> 0 | M7: =VLOOKUP($A7,調査票D!$A:$AQ,M$1,FALSE) -> 0 | N7: =VLOOKUP($A7,調査票D!$A:$AQ,N$1,FALSE) -> 0 | O7: =VLOOKUP($A7,調査票D!$A:$AQ,O$1,FALSE) -> 0
A8: 8 | B8: =調査票D!$AJ$2 -> 0 | C8: =調査票D!$K$2 -> 0 | D8: =調査票D!$K$7 -> 0 | E8: =IF((VLOOKUP($A8,調査票D!$A:$AQ,E$1,FALSE))="○",PDリスト!$F$7,"") | F8: - | G8: =VLOOKUP($A8,調査票D!$A:$AQ,G$1,FALSE) -> 0 | H8: =VLOOKUP($A8,調査票D!$A:$AQ,H$1,FALSE) -> 0 | I8: =VLOOKUP($A8,調査票D!$A:$AQ,I$1,FALSE) -> 0 | J8: =VLOOKUP($A8,調査票D!$A:$AQ,J$1,FALSE) -> 0 | K8: =VLOOKUP($A8,調査票D!$A:$AQ,K$1,FALSE) -> 0 | L8: =VLOOKUP($A8,調査票D!$A:$AQ,L$1,FALSE) -> 0 | M8: =VLOOKUP($A8,調査票D!$A:$AQ,M$1,FALSE) -> 0 | N8: =VLOOKUP($A8,調査票D!$A:$AQ,N$1,FALSE) -> 0 | O8: =VLOOKUP($A8,調査票D!$A:$AQ,O$1,FALSE) -> 0
A9: 9 | B9: =調査票D!$AJ$2 -> 0 | C9: =調査票D!$K$2 -> 0 | D9: =調査票D!$K$7 -> 0 | E9: =IF((VLOOKUP($A9,調査票D!$A:$AQ,E$1,FALSE))="○",PDリスト!$F$8,"") | F9: - | G9: =VLOOKUP($A9,調査票D!$A:$AQ,G$1,FALSE) -> 0 | H9: =VLOOKUP($A9,調査票D!$A:$AQ,H$1,FALSE) -> 0 | I9: =VLOOKUP($A9,調査票D!$A:$AQ,I$1,FALSE) -> 0 | J9: =VLOOKUP($A9,調査票D!$A:$AQ,J$1,FALSE) -> 0 | K9: =VLOOKUP($A9,調査票D!$A:$AQ,K$1,FALSE) -> 0 | L9: =VLOOKUP($A9,調査票D!$A:$AQ,L$1,FALSE) -> 0 | M9: =VLOOKUP($A9,調査票D!$A:$AQ,M$1,FALSE) -> 0 | N9: =VLOOKUP($A9,調査票D!$A:$AQ,N$1,FALSE) -> 0 | O9: =VLOOKUP($A9,調査票D!$A:$AQ,O$1,FALSE) -> 0
A10: 10 | B10: =調査票D!$AJ$2 -> 0 | C10: =調査票D!$K$2 -> 0 | D10: =調査票D!$K$7 -> 0 | E10: =IF((VLOOKUP($A10,調査票D!$A:$AQ,E$1,FALSE))="○",PDリスト!$F$9,"") | F10: =調査票D!$M$20 -> 0 | G10: =VLOOKUP($A10,調査票D!$A:$AQ,G$1,FALSE) -> 0 | H10: =VLOOKUP($A10,調査票D!$A:$AQ,H$1,FALSE) -> 0 | I10: =VLOOKUP($A10,調査票D!$A:$AQ,I$1,FALSE) -> 0 | J10: =VLOOKUP($A10,調査票D!$A:$AQ,J$1,FALSE) -> 0 | K10: =VLOOKUP($A10,調査票D!$A:$AQ,K$1,FALSE) -> 0 | L10: =VLOOKUP($A10,調査票D!$A:$AQ,L$1,FALSE) -> 0 | M10: =VLOOKUP($A10,調査票D!$A:$AQ,M$1,FALSE) -> 0 | N10: =VLOOKUP($A10,調査票D!$A:$AQ,N$1,FALSE) -> 0 | O10: =VLOOKUP($A10,調査票D!$A:$AQ,O$1,FALSE) -> 0
A11: 11 | B11: =調査票D!$AJ$2 -> 0 | C11: =調査票D!$K$2 -> 0 | D11: =調査票D!$K$7 -> 0 | E11: =IF((VLOOKUP($A11,調査票D!$A:$AQ,E$1,FALSE))="○",PDリスト!$F$10,"") | F11: =調査票D!$M$22 -> 0 | G11: =VLOOKUP($A11,調査票D!$A:$AQ,G$1,FALSE) -> 0 | H11: =VLOOKUP($A11,調査票D!$A:$AQ,H$1,FALSE) -> 0 | I11: =VLOOKUP($A11,調査票D!$A:$AQ,I$1,FALSE) -> 0 | J11: =VLOOKUP($A11,調査票D!$A:$AQ,J$1,FALSE) -> 0 | K11: =VLOOKUP($A11,調査票D!$A:$AQ,K$1,FALSE) -> 0 | L11: =VLOOKUP($A11,調査票D!$A:$AQ,L$1,FALSE) -> 0 | M11: =VLOOKUP($A11,調査票D!$A:$AQ,M$1,FALSE) -> 0 | N11: =VLOOKUP($A11,調査票D!$A:$AQ,N$1,FALSE) -> 0 | O11: =VLOOKUP($A11,調査票D!$A:$AQ,O$1,FALSE) -> 0
A12: 14 | B12: =調査票D!$AJ$29 -> 0 | C12: =調査票D!$K$29 -> 0 | D12: =調査票D!$K$34 -> 0 | E12: =IF((VLOOKUP($A12,調査票D!$A:$AQ,E$1,FALSE))="○",PDリスト!$F$2,"") | F12: - | G12: =VLOOKUP($A12,調査票D!$A:$AQ,G$1,FALSE) -> 0 | H12: =VLOOKUP($A12,調査票D!$A:$AQ,H$1,FALSE) -> 0 | I12: =VLOOKUP($A12,調査票D!$A:$AQ,I$1,FALSE) -> 0 | J12: =VLOOKUP($A12,調査票D!$A:$AQ,J$1,FALSE) -> 0 | K12: =VLOOKUP($A12,調査票D!$A:$AQ,K$1,FALSE) -> 0 | L12: =VLOOKUP($A12,調査票D!$A:$AQ,L$1,FALSE) -> 0 | M12: =VLOOKUP($A12,調査票D!$A:$AQ,M$1,FALSE) -> 0 | N12: =VLOOKUP($A12,調査票D!$A:$AQ,N$1,FALSE) -> 0 | O12: =VLOOKUP($A12,調査票D!$A:$AQ,O$1,FALSE) -> 0
A13: 15 | B13: =調査票D!$AJ$29 -> 0 | C13: =調査票D!$K$29 -> 0 | D13: =調査票D!$K$34 -> 0 | E13: =IF((VLOOKUP($A13,調査票D!$A:$AQ,E$1,FALSE))="○",PDリスト!$F$3,"") | F13: - | G13: =VLOOKUP($A13,調査票D!$A:$AQ,G$1,FALSE) -> 0 | H13: =VLOOKUP($A13,調査票D!$A:$AQ,H$1,FALSE) -> 0 | I13: =VLOOKUP($A13,調査票D!$A:$AQ,I$1,FALSE) -> 0 | J13: =VLOOKUP($A13,調査票D!$A:$AQ,J$1,FALSE) -> 0 | K13: =VLOOKUP($A13,調査票D!$A:$AQ,K$1,FALSE) -> 0 | L13: =VLOOKUP($A13,調査票D!$A:$AQ,L$1,FALSE) -> 0 | M13: =VLOOKUP($A13,調査票D!$A:$AQ,M$1,FALSE) -> 0 | N13: =VLOOKUP($A13,調査票D!$A:$AQ,N$1,FALSE) -> 0 | O13: =VLOOKUP($A13,調査票D!$A:$AQ,O$1,FALSE) -> 0
A14: 16 | B14: =調査票D!$AJ$29 -> 0 | C14: =調査票D!$K$29 -> 0 | D14: =調査票D!$K$34 -> 0 | E14: =IF((VLOOKUP($A14,調査票D!$A:$AQ,E$1,FALSE))="○",PDリスト!$F$4,"") | F14: - | G14: =VLOOKUP($A14,調査票D!$A:$AQ,G$1,FALSE) -> 0 | H14: =VLOOKUP($A14,調査票D!$A:$AQ,H$1,FALSE) -> 0 | I14: =VLOOKUP($A14,調査票D!$A:$AQ,I$1,FALSE) -> 0 | J14: =VLOOKUP($A14,調査票D!$A:$AQ,J$1,FALSE) -> 0 | K14: =VLOOKUP($A14,調査票D!$A:$AQ,K$1,FALSE) -> 0 | L14: =VLOOKUP($A14,調査票D!$A:$AQ,L$1,FALSE) -> 0 | M14: =VLOOKUP($A14,調査票D!$A:$AQ,M$1,FALSE) -> 0 | N14: =VLOOKUP($A14,調査票D!$A:$AQ,N$1,FALSE) -> 0 | O14: =VLOOKUP($A14,調査票D!$A:$AQ,O$1,FALSE) -> 0
A15: 17 | B15: =調査票D!$AJ$29 -> 0 | C15: =調査票D!$K$29 -> 0 | D15: =調査票D!$K$34 -> 0 | E15: =IF((VLOOKUP($A15,調査票D!$A:$AQ,E$1,FALSE))="○",PDリスト!$F$5,"") | F15: =調査票D!$N$42 -> 0 | G15: =VLOOKUP($A15,調査票D!$A:$AQ,G$1,FALSE) -> 0 | H15: =VLOOKUP($A15,調査票D!$A:$AQ,H$1,FALSE) -> 0 | I15: =VLOOKUP($A15,調査票D!$A:$AQ,I$1,FALSE) -> 0 | J15: =VLOOKUP($A15,調査票D!$A:$AQ,J$1,FALSE) -> 0 | K15: =VLOOKUP($A15,調査票D!$A:$AQ,K$1,FALSE) -> 0 | L15: =VLOOKUP($A15,調査票D!$A:$AQ,L$1,FALSE) -> 0 | M15: =VLOOKUP($A15,調査票D!$A:$AQ,M$1,FALSE) -> 0 | N15: =VLOOKUP($A15,調査票D!$A:$AQ,N$1,FALSE) -> 0 | O15: =VLOOKUP($A15,調査票D!$A:$AQ,O$1,FALSE) -> 0
A16: 18 | B16: =調査票D!$AJ$29 -> 0 | C16: =調査票D!$K$29 -> 0 | D16: =調査票D!$K$34 -> 0 | E16: =IF((VLOOKUP($A16,調査票D!$A:$AQ,E$1,FALSE))="○",PDリスト!$F$6,"") | F16: - | G16: =VLOOKUP($A16,調査票D!$A:$AQ,G$1,FALSE) -> 0 | H16: =VLOOKUP($A16,調査票D!$A:$AQ,H$1,FALSE) -> 0 | I16: =VLOOKUP($A16,調査票D!$A:$AQ,I$1,FALSE) -> 0 | J16: =VLOOKUP($A16,調査票D!$A:$AQ,J$1,FALSE) -> 0 | K16: =VLOOKUP($A16,調査票D!$A:$AQ,K$1,FALSE) -> 0 | L16: =VLOOKUP($A16,調査票D!$A:$AQ,L$1,FALSE) -> 0 | M16: =VLOOKUP($A16,調査票D!$A:$AQ,M$1,FALSE) -> 0 | N16: =VLOOKUP($A16,調査票D!$A:$AQ,N$1,FALSE) -> 0 | O16: =VLOOKUP($A16,調査票D!$A:$AQ,O$1,FALSE) -> 0
A17: 19 | B17: =調査票D!$AJ$29 -> 0 | C17: =調査票D!$K$29 -> 0 | D17: =調査票D!$K$34 -> 0 | E17: =IF((VLOOKUP($A17,調査票D!$A:$AQ,E$1,FALSE))="○",PDリスト!$F$7,"") | F17: - | G17: =VLOOKUP($A17,調査票D!$A:$AQ,G$1,FALSE) -> 0 | H17: =VLOOKUP($A17,調査票D!$A:$AQ,H$1,FALSE) -> 0 | I17: =VLOOKUP($A17,調査票D!$A:$AQ,I$1,FALSE) -> 0 | J17: =VLOOKUP($A17,調査票D!$A:$AQ,J$1,FALSE) -> 0 | K17: =VLOOKUP($A17,調査票D!$A:$AQ,K$1,FALSE) -> 0 | L17: =VLOOKUP($A17,調査票D!$A:$AQ,L$1,FALSE) -> 0 | M17: =VLOOKUP($A17,調査票D!$A:$AQ,M$1,FALSE) -> 0 | N17: =VLOOKUP($A17,調査票D!$A:$AQ,N$1,FALSE) -> 0 | O17: =VLOOKUP($A17,調査票D!$A:$AQ,O$1,FALSE) -> 0
A18: 20 | B18: =調査票D!$AJ$29 -> 0 | C18: =調査票D!$K$29 -> 0 | D18: =調査票D!$K$34 -> 0 | E18: =IF((VLOOKUP($A18,調査票D!$A:$AQ,E$1,FALSE))="○",PDリスト!$F$8,"") | F18: - | G18: =VLOOKUP($A18,調査票D!$A:$AQ,G$1,FALSE) -> 0 | H18: =VLOOKUP($A18,調査票D!$A:$AQ,H$1,FALSE) -> 0 | I18: =VLOOKUP($A18,調査票D!$A:$AQ,I$1,FALSE) -> 0 | J18: =VLOOKUP($A18,調査票D!$A:$AQ,J$1,FALSE) -> 0 | K18: =VLOOKUP($A18,調査票D!$A:$AQ,K$1,FALSE) -> 0 | L18: =VLOOKUP($A18,調査票D!$A:$AQ,L$1,FALSE) -> 0 | M18: =VLOOKUP($A18,調査票D!$A:$AQ,M$1,FALSE) -> 0 | N18: =VLOOKUP($A18,調査票D!$A:$AQ,N$1,FALSE) -> 0 | O18: =VLOOKUP($A18,調査票D!$A:$AQ,O$1,FALSE) -> 0
A19: 21 | B19: =調査票D!$AJ$29 -> 0 | C19: =調査票D!$K$29 -> 0 | D19: =調査票D!$K$34 -> 0 | E19: =IF((VLOOKUP($A19,調査票D!$A:$AQ,E$1,FALSE))="○",PDリスト!$F$9,"") | F19: =調査票D!$M$47 -> 0 | G19: =VLOOKUP($A19,調査票D!$A:$AQ,G$1,FALSE) -> 0 | H19: =VLOOKUP($A19,調査票D!$A:$AQ,H$1,FALSE) -> 0 | I19: =VLOOKUP($A19,調査票D!$A:$AQ,I$1,FALSE) -> 0 | J19: =VLOOKUP($A19,調査票D!$A:$AQ,J$1,FALSE) -> 0 | K19: =VLOOKUP($A19,調査票D!$A:$AQ,K$1,FALSE) -> 0 | L19: =VLOOKUP($A19,調査票D!$A:$AQ,L$1,FALSE) -> 0 | M19: =VLOOKUP($A19,調査票D!$A:$AQ,M$1,FALSE) -> 0 | N19: =VLOOKUP($A19,調査票D!$A:$AQ,N$1,FALSE) -> 0 | O19: =VLOOKUP($A19,調査票D!$A:$AQ,O$1,FALSE) -> 0
A20: 22 | B20: =調査票D!$AJ$29 -> 0 | C20: =調査票D!$K$29 -> 0 | D20: =調査票D!$K$34 -> 0 | E20: =IF((VLOOKUP($A20,調査票D!$A:$AQ,E$1,FALSE))="○",PDリスト!$F$10,"") | F20: =調査票D!$M$49 -> 0 | G20: =VLOOKUP($A20,調査票D!$A:$AQ,G$1,FALSE) -> 0 | H20: =VLOOKUP($A20,調査票D!$A:$AQ,H$1,FALSE) -> 0 | I20: =VLOOKUP($A20,調査票D!$A:$AQ,I$1,FALSE) -> 0 | J20: =VLOOKUP($A20,調査票D!$A:$AQ,J$1,FALSE) -> 0 | K20: =VLOOKUP($A20,調査票D!$A:$AQ,K$1,FALSE) -> 0 | L20: =VLOOKUP($A20,調査票D!$A:$AQ,L$1,FALSE) -> 0 | M20: =VLOOKUP($A20,調査票D!$A:$AQ,M$1,FALSE) -> 0 | N20: =VLOOKUP($A20,調査票D!$A:$AQ,N$1,FALSE) -> 0 | O20: =VLOOKUP($A20,調査票D!$A:$AQ,O$1,FALSE) -> 0
A21: 25 | B21: =調査票D!$AJ$56 -> 0 | C21: =調査票D!$K$56 -> 0 | D21: =調査票D!$K$61 -> 0 | E21: =IF((VLOOKUP($A21,調査票D!$A:$AQ,E$1,FALSE))="○",PDリスト!$F$2,"") | F21: - | G21: =VLOOKUP($A21,調査票D!$A:$AQ,G$1,FALSE) -> 0 | H21: =VLOOKUP($A21,調査票D!$A:$AQ,H$1,FALSE) -> 0 | I21: =VLOOKUP($A21,調査票D!$A:$AQ,I$1,FALSE) -> 0 | J21: =VLOOKUP($A21,調査票D!$A:$AQ,J$1,FALSE) -> 0 | K21: =VLOOKUP($A21,調査票D!$A:$AQ,K$1,FALSE) -> 0 | L21: =VLOOKUP($A21,調査票D!$A:$AQ,L$1,FALSE) -> 0 | M21: =VLOOKUP($A21,調査票D!$A:$AQ,M$1,FALSE) -> 0 | N21: =VLOOKUP($A21,調査票D!$A:$AQ,N$1,FALSE) -> 0 | O21: =VLOOKUP($A21,調査票D!$A:$AQ,O$1,FALSE) -> 0
A22: 26 | B22: =調査票D!$AJ$56 -> 0 | C22: =調査票D!$K$56 -> 0 | D22: =調査票D!$K$61 -> 0 | E22: =IF((VLOOKUP($A22,調査票D!$A:$AQ,E$1,FALSE))="○",PDリスト!$F$3,"") | F22: - | G22: =VLOOKUP($A22,調査票D!$A:$AQ,G$1,FALSE) -> 0 | H22: =VLOOKUP($A22,調査票D!$A:$AQ,H$1,FALSE) -> 0 | I22: =VLOOKUP($A22,調査票D!$A:$AQ,I$1,FALSE) -> 0 | J22: =VLOOKUP($A22,調査票D!$A:$AQ,J$1,FALSE) -> 0 | K22: =VLOOKUP($A22,調査票D!$A:$AQ,K$1,FALSE) -> 0 | L22: =VLOOKUP($A22,調査票D!$A:$AQ,L$1,FALSE) -> 0 | M22: =VLOOKUP($A22,調査票D!$A:$AQ,M$1,FALSE) -> 0 | N22: =VLOOKUP($A22,調査票D!$A:$AQ,N$1,FALSE) -> 0 | O22: =VLOOKUP($A22,調査票D!$A:$AQ,O$1,FALSE) -> 0
A23: 27 | B23: =調査票D!$AJ$56 -> 0 | C23: =調査票D!$K$56 -> 0 | D23: =調査票D!$K$61 -> 0 | E23: =IF((VLOOKUP($A23,調査票D!$A:$AQ,E$1,FALSE))="○",PDリスト!$F$4,"") | F23: - | G23: =VLOOKUP($A23,調査票D!$A:$AQ,G$1,FALSE) -> 0 | H23: =VLOOKUP($A23,調査票D!$A:$AQ,H$1,FALSE) -> 0 | I23: =VLOOKUP($A23,調査票D!$A:$AQ,I$1,FALSE) -> 0 | J23: =VLOOKUP($A23,調査票D!$A:$AQ,J$1,FALSE) -> 0 | K23: =VLOOKUP($A23,調査票D!$A:$AQ,K$1,FALSE) -> 0 | L23: =VLOOKUP($A23,調査票D!$A:$AQ,L$1,FALSE) -> 0 | M23: =VLOOKUP($A23,調査票D!$A:$AQ,M$1,FALSE) -> 0 | N23: =VLOOKUP($A23,調査票D!$A:$AQ,N$1,FALSE) -> 0 | O23: =VLOOKUP($A23,調査票D!$A:$AQ,O$1,FALSE) -> 0
A24: 28 | B24: =調査票D!$AJ$56 -> 0 | C24: =調査票D!$K$56 -> 0 | D24: =調査票D!$K$61 -> 0 | E24: =IF((VLOOKUP($A24,調査票D!$A:$AQ,E$1,FALSE))="○",PDリスト!$F$5,"") | F24: =調査票D!$N$69 -> 0 | G24: =VLOOKUP($A24,調査票D!$A:$AQ,G$1,FALSE) -> 0 | H24: =VLOOKUP($A24,調査票D!$A:$AQ,H$1,FALSE) -> 0 | I24: =VLOOKUP($A24,調査票D!$A:$AQ,I$1,FALSE) -> 0 | J24: =VLOOKUP($A24,調査票D!$A:$AQ,J$1,FALSE) -> 0 | K24: =VLOOKUP($A24,調査票D!$A:$AQ,K$1,FALSE) -> 0 | L24: =VLOOKUP($A24,調査票D!$A:$AQ,L$1,FALSE) -> 0 | M24: =VLOOKUP($A24,調査票D!$A:$AQ,M$1,FALSE) -> 0 | N24: =VLOOKUP($A24,調査票D!$A:$AQ,N$1,FALSE) -> 0 | O24: =VLOOKUP($A24,調査票D!$A:$AQ,O$1,FALSE) -> 0
A25: 29 | B25: =調査票D!$AJ$56 -> 0 | C25: =調査票D!$K$56 -> 0 | D25: =調査票D!$K$61 -> 0 | E25: =IF((VLOOKUP($A25,調査票D!$A:$AQ,E$1,FALSE))="○",PDリスト!$F$6,"") | F25: - | G25: =VLOOKUP($A25,調査票D!$A:$AQ,G$1,FALSE) -> 0 | H25: =VLOOKUP($A25,調査票D!$A:$AQ,H$1,FALSE) -> 0 | I25: =VLOOKUP($A25,調査票D!$A:$AQ,I$1,FALSE) -> 0 | J25: =VLOOKUP($A25,調査票D!$A:$AQ,J$1,FALSE) -> 0 | K25: =VLOOKUP($A25,調査票D!$A:$AQ,K$1,FALSE) -> 0 | L25: =VLOOKUP($A25,調査票D!$A:$AQ,L$1,FALSE) -> 0 | M25: =VLOOKUP($A25,調査票D!$A:$AQ,M$1,FALSE) -> 0 | N25: =VLOOKUP($A25,調査票D!$A:$AQ,N$1,FALSE) -> 0 | O25: =VLOOKUP($A25,調査票D!$A:$AQ,O$1,FALSE) -> 0
A26: 30 | B26: =調査票D!$AJ$56 -> 0 | C26: =調査票D!$K$56 -> 0 | D26: =調査票D!$K$61 -> 0 | E26: =IF((VLOOKUP($A26,調査票D!$A:$AQ,E$1,FALSE))="○",PDリスト!$F$7,"") | F26: - | G26: =VLOOKUP($A26,調査票D!$A:$AQ,G$1,FALSE) -> 0 | H26: =VLOOKUP($A26,調査票D!$A:$AQ,H$1,FALSE) -> 0 | I26: =VLOOKUP($A26,調査票D!$A:$AQ,I$1,FALSE) -> 0 | J26: =VLOOKUP($A26,調査票D!$A:$AQ,J$1,FALSE) -> 0 | K26: =VLOOKUP($A26,調査票D!$A:$AQ,K$1,FALSE) -> 0 | L26: =VLOOKUP($A26,調査票D!$A:$AQ,L$1,FALSE) -> 0 | M26: =VLOOKUP($A26,調査票D!$A:$AQ,M$1,FALSE) -> 0 | N26: =VLOOKUP($A26,調査票D!$A:$AQ,N$1,FALSE) -> 0 | O26: =VLOOKUP($A26,調査票D!$A:$AQ,O$1,FALSE) -> 0
A27: 31 | B27: =調査票D!$AJ$56 -> 0 | C27: =調査票D!$K$56 -> 0 | D27: =調査票D!$K$61 -> 0 | E27: =IF((VLOOKUP($A27,調査票D!$A:$AQ,E$1,FALSE))="○",PDリスト!$F$8,"") | F27: - | G27: =VLOOKUP($A27,調査票D!$A:$AQ,G$1,FALSE) -> 0 | H27: =VLOOKUP($A27,調査票D!$A:$AQ,H$1,FALSE) -> 0 | I27: =VLOOKUP($A27,調査票D!$A:$AQ,I$1,FALSE) -> 0 | J27: =VLOOKUP($A27,調査票D!$A:$AQ,J$1,FALSE) -> 0 | K27: =VLOOKUP($A27,調査票D!$A:$AQ,K$1,FALSE) -> 0 | L27: =VLOOKUP($A27,調査票D!$A:$AQ,L$1,FALSE) -> 0 | M27: =VLOOKUP($A27,調査票D!$A:$AQ,M$1,FALSE) -> 0 | N27: =VLOOKUP($A27,調査票D!$A:$AQ,N$1,FALSE) -> 0 | O27: =VLOOKUP($A27,調査票D!$A:$AQ,O$1,FALSE) -> 0
A28: 32 | B28: =調査票D!$AJ$56 -> 0 | C28: =調査票D!$K$56 -> 0 | D28: =調査票D!$K$61 -> 0 | E28: =IF((VLOOKUP($A28,調査票D!$A:$AQ,E$1,FALSE))="○",PDリスト!$F$9,"") | F28: =調査票D!$M$74 -> 0 | G28: =VLOOKUP($A28,調査票D!$A:$AQ,G$1,FALSE) -> 0 | H28: =VLOOKUP($A28,調査票D!$A:$AQ,H$1,FALSE) -> 0 | I28: =VLOOKUP($A28,調査票D!$A:$AQ,I$1,FALSE) -> 0 | J28: =VLOOKUP($A28,調査票D!$A:$AQ,J$1,FALSE) -> 0 | K28: =VLOOKUP($A28,調査票D!$A:$AQ,K$1,FALSE) -> 0 | L28: =VLOOKUP($A28,調査票D!$A:$AQ,L$1,FALSE) -> 0 | M28: =VLOOKUP($A28,調査票D!$A:$AQ,M$1,FALSE) -> 0 | N28: =VLOOKUP($A28,調査票D!$A:$AQ,N$1,FALSE) -> 0 | O28: =VLOOKUP($A28,調査票D!$A:$AQ,O$1,FALSE) -> 0
A29: 33 | B29: =調査票D!$AJ$56 -> 0 | C29: =調査票D!$K$56 -> 0 | D29: =調査票D!$K$61 -> 0 | E29: =IF((VLOOKUP($A29,調査票D!$A:$AQ,E$1,FALSE))="○",PDリスト!$F$10,"") | F29: =調査票D!$M$76 -> 0 | G29: =VLOOKUP($A29,調査票D!$A:$AQ,G$1,FALSE) -> 0 | H29: =VLOOKUP($A29,調査票D!$A:$AQ,H$1,FALSE) -> 0 | I29: =VLOOKUP($A29,調査票D!$A:$AQ,I$1,FALSE) -> 0 | J29: =VLOOKUP($A29,調査票D!$A:$AQ,J$1,FALSE) -> 0 | K29: =VLOOKUP($A29,調査票D!$A:$AQ,K$1,FALSE) -> 0 | L29: =VLOOKUP($A29,調査票D!$A:$AQ,L$1,FALSE) -> 0 | M29: =VLOOKUP($A29,調査票D!$A:$AQ,M$1,FALSE) -> 0 | N29: =VLOOKUP($A29,調査票D!$A:$AQ,N$1,FALSE) -> 0 | O29: =VLOOKUP($A29,調査票D!$A:$AQ,O$1,FALSE) -> 0
A30: 36 | B30: =調査票D!$AJ$83 -> 0 | C30: =調査票D!$K$83 -> 0 | D30: =調査票D!$K$88 -> 0 | E30: =IF((VLOOKUP($A30,調査票D!$A:$AQ,E$1,FALSE))="○",PDリスト!$F$2,"") | F30: - | G30: =VLOOKUP($A30,調査票D!$A:$AQ,G$1,FALSE) -> 0 | H30: =VLOOKUP($A30,調査票D!$A:$AQ,H$1,FALSE) -> 0 | I30: =VLOOKUP($A30,調査票D!$A:$AQ,I$1,FALSE) -> 0 | J30: =VLOOKUP($A30,調査票D!$A:$AQ,J$1,FALSE) -> 0 | K30: =VLOOKUP($A30,調査票D!$A:$AQ,K$1,FALSE) -> 0 | L30: =VLOOKUP($A30,調査票D!$A:$AQ,L$1,FALSE) -> 0 | M30: =VLOOKUP($A30,調査票D!$A:$AQ,M$1,FALSE) -> 0 | N30: =VLOOKUP($A30,調査票D!$A:$AQ,N$1,FALSE) -> 0 | O30: =VLOOKUP($A30,調査票D!$A:$AQ,O$1,FALSE) -> 0
A31: 37 | B31: =調査票D!$AJ$83 -> 0 | C31: =調査票D!$K$83 -> 0 | D31: =調査票D!$K$88 -> 0 | E31: =IF((VLOOKUP($A31,調査票D!$A:$AQ,E$1,FALSE))="○",PDリスト!$F$3,"") | F31: - | G31: =VLOOKUP($A31,調査票D!$A:$AQ,G$1,FALSE) -> 0 | H31: =VLOOKUP($A31,調査票D!$A:$AQ,H$1,FALSE) -> 0 | I31: =VLOOKUP($A31,調査票D!$A:$AQ,I$1,FALSE) -> 0 | J31: =VLOOKUP($A31,調査票D!$A:$AQ,J$1,FALSE) -> 0 | K31: =VLOOKUP($A31,調査票D!$A:$AQ,K$1,FALSE) -> 0 | L31: =VLOOKUP($A31,調査票D!$A:$AQ,L$1,FALSE) -> 0 | M31: =VLOOKUP($A31,調査票D!$A:$AQ,M$1,FALSE) -> 0 | N31: =VLOOKUP($A31,調査票D!$A:$AQ,N$1,FALSE) -> 0 | O31: =VLOOKUP($A31,調査票D!$A:$AQ,O$1,FALSE) -> 0
A32: 38 | B32: =調査票D!$AJ$83 -> 0 | C32: =調査票D!$K$83 -> 0 | D32: =調査票D!$K$88 -> 0 | E32: =IF((VLOOKUP($A32,調査票D!$A:$AQ,E$1,FALSE))="○",PDリスト!$F$4,"") | F32: - | G32: =VLOOKUP($A32,調査票D!$A:$AQ,G$1,FALSE) -> 0 | H32: =VLOOKUP($A32,調査票D!$A:$AQ,H$1,FALSE) -> 0 | I32: =VLOOKUP($A32,調査票D!$A:$AQ,I$1,FALSE) -> 0 | J32: =VLOOKUP($A32,調査票D!$A:$AQ,J$1,FALSE) -> 0 | K32: =VLOOKUP($A32,調査票D!$A:$AQ,K$1,FALSE) -> 0 | L32: =VLOOKUP($A32,調査票D!$A:$AQ,L$1,FALSE) -> 0 | M32: =VLOOKUP($A32,調査票D!$A:$AQ,M$1,FALSE) -> 0 | N32: =VLOOKUP($A32,調査票D!$A:$AQ,N$1,FALSE) -> 0 | O32: =VLOOKUP($A32,調査票D!$A:$AQ,O$1,FALSE) -> 0
A33: 39 | B33: =調査票D!$AJ$83 -> 0 | C33: =調査票D!$K$83 -> 0 | D33: =調査票D!$K$88 -> 0 | E33: =IF((VLOOKUP($A33,調査票D!$A:$AQ,E$1,FALSE))="○",PDリスト!$F$5,"") | F33: =調査票D!$N$96 -> 0 | G33: =VLOOKUP($A33,調査票D!$A:$AQ,G$1,FALSE) -> 0 | H33: =VLOOKUP($A33,調査票D!$A:$AQ,H$1,FALSE) -> 0 | I33: =VLOOKUP($A33,調査票D!$A:$AQ,I$1,FALSE) -> 0 | J33: =VLOOKUP($A33,調査票D!$A:$AQ,J$1,FALSE) -> 0 | K33: =VLOOKUP($A33,調査票D!$A:$AQ,K$1,FALSE) -> 0 | L33: =VLOOKUP($A33,調査票D!$A:$AQ,L$1,FALSE) -> 0 | M33: =VLOOKUP($A33,調査票D!$A:$AQ,M$1,FALSE) -> 0 | N33: =VLOOKUP($A33,調査票D!$A:$AQ,N$1,FALSE) -> 0 | O33: =VLOOKUP($A33,調査票D!$A:$AQ,O$1,FALSE) -> 0
A34: 40 | B34: =調査票D!$AJ$83 -> 0 | C34: =調査票D!$K$83 -> 0 | D34: =調査票D!$K$88 -> 0 | E34: =IF((VLOOKUP($A34,調査票D!$A:$AQ,E$1,FALSE))="○",PDリスト!$F$6,"") | F34: - | G34: =VLOOKUP($A34,調査票D!$A:$AQ,G$1,FALSE) -> 0 | H34: =VLOOKUP($A34,調査票D!$A:$AQ,H$1,FALSE) -> 0 | I34: =VLOOKUP($A34,調査票D!$A:$AQ,I$1,FALSE) -> 0 | J34: =VLOOKUP($A34,調査票D!$A:$AQ,J$1,FALSE) -> 0 | K34: =VLOOKUP($A34,調査票D!$A:$AQ,K$1,FALSE) -> 0 | L34: =VLOOKUP($A34,調査票D!$A:$AQ,L$1,FALSE) -> 0 | M34: =VLOOKUP($A34,調査票D!$A:$AQ,M$1,FALSE) -> 0 | N34: =VLOOKUP($A34,調査票D!$A:$AQ,N$1,FALSE) -> 0 | O34: =VLOOKUP($A34,調査票D!$A:$AQ,O$1,FALSE) -> 0
A35: 41 | B35: =調査票D!$AJ$83 -> 0 | C35: =調査票D!$K$83 -> 0 | D35: =調査票D!$K$88 -> 0 | E35: =IF((VLOOKUP($A35,調査票D!$A:$AQ,E$1,FALSE))="○",PDリスト!$F$7,"") | F35: - | G35: =VLOOKUP($A35,調査票D!$A:$AQ,G$1,FALSE) -> 0 | H35: =VLOOKUP($A35,調査票D!$A:$AQ,H$1,FALSE) -> 0 | I35: =VLOOKUP($A35,調査票D!$A:$AQ,I$1,FALSE) -> 0 | J35: =VLOOKUP($A35,調査票D!$A:$AQ,J$1,FALSE) -> 0 | K35: =VLOOKUP($A35,調査票D!$A:$AQ,K$1,FALSE) -> 0 | L35: =VLOOKUP($A35,調査票D!$A:$AQ,L$1,FALSE) -> 0 | M35: =VLOOKUP($A35,調査票D!$A:$AQ,M$1,FALSE) -> 0 | N35: =VLOOKUP($A35,調査票D!$A:$AQ,N$1,FALSE) -> 0 | O35: =VLOOKUP($A35,調査票D!$A:$AQ,O$1,FALSE) -> 0
A36: 42 | B36: =調査票D!$AJ$83 -> 0 | C36: =調査票D!$K$83 -> 0 | D36: =調査票D!$K$88 -> 0 | E36: =IF((VLOOKUP($A36,調査票D!$A:$AQ,E$1,FALSE))="○",PDリスト!$F$8,"") | F36: - | G36: =VLOOKUP($A36,調査票D!$A:$AQ,G$1,FALSE) -> 0 | H36: =VLOOKUP($A36,調査票D!$A:$AQ,H$1,FALSE) -> 0 | I36: =VLOOKUP($A36,調査票D!$A:$AQ,I$1,FALSE) -> 0 | J36: =VLOOKUP($A36,調査票D!$A:$AQ,J$1,FALSE) -> 0 | K36: =VLOOKUP($A36,調査票D!$A:$AQ,K$1,FALSE) -> 0 | L36: =VLOOKUP($A36,調査票D!$A:$AQ,L$1,FALSE) -> 0 | M36: =VLOOKUP($A36,調査票D!$A:$AQ,M$1,FALSE) -> 0 | N36: =VLOOKUP($A36,調査票D!$A:$AQ,N$1,FALSE) -> 0 | O36: =VLOOKUP($A36,調査票D!$A:$AQ,O$1,FALSE) -> 0
A37: 43 | B37: =調査票D!$AJ$83 -> 0 | C37: =調査票D!$K$83 -> 0 | D37: =調査票D!$K$88 -> 0 | E37: =IF((VLOOKUP($A37,調査票D!$A:$AQ,E$1,FALSE))="○",PDリスト!$F$9,"") | F37: =調査票D!$M$101 -> 0 | G37: =VLOOKUP($A37,調査票D!$A:$AQ,G$1,FALSE) -> 0 | H37: =VLOOKUP($A37,調査票D!$A:$AQ,H$1,FALSE) -> 0 | I37: =VLOOKUP($A37,調査票D!$A:$AQ,I$1,FALSE) -> 0 | J37: =VLOOKUP($A37,調査票D!$A:$AQ,J$1,FALSE) -> 0 | K37: =VLOOKUP($A37,調査票D!$A:$AQ,K$1,FALSE) -> 0 | L37: =VLOOKUP($A37,調査票D!$A:$AQ,L$1,FALSE) -> 0 | M37: =VLOOKUP($A37,調査票D!$A:$AQ,M$1,FALSE) -> 0 | N37: =VLOOKUP($A37,調査票D!$A:$AQ,N$1,FALSE) -> 0 | O37: =VLOOKUP($A37,調査票D!$A:$AQ,O$1,FALSE) -> 0
A38: 44 | B38: =調査票D!$AJ$83 -> 0 | C38: =調査票D!$K$83 -> 0 | D38: =調査票D!$K$88 -> 0 | E38: =IF((VLOOKUP($A38,調査票D!$A:$AQ,E$1,FALSE))="○",PDリスト!$F$10,"") | F38: =調査票D!$M$103 -> 0 | G38: =VLOOKUP($A38,調査票D!$A:$AQ,G$1,FALSE) -> 0 | H38: =VLOOKUP($A38,調査票D!$A:$AQ,H$1,FALSE) -> 0 | I38: =VLOOKUP($A38,調査票D!$A:$AQ,I$1,FALSE) -> 0 | J38: =VLOOKUP($A38,調査票D!$A:$AQ,J$1,FALSE) -> 0 | K38: =VLOOKUP($A38,調査票D!$A:$AQ,K$1,FALSE) -> 0 | L38: =VLOOKUP($A38,調査票D!$A:$AQ,L$1,FALSE) -> 0 | M38: =VLOOKUP($A38,調査票D!$A:$AQ,M$1,FALSE) -> 0 | N38: =VLOOKUP($A38,調査票D!$A:$AQ,N$1,FALSE) -> 0 | O38: =VLOOKUP($A38,調査票D!$A:$AQ,O$1,FALSE) -> 0
A39: 47 | B39: =調査票D!$AJ$110 -> 0 | C39: =調査票D!$K$110 -> 0 | D39: =調査票D!$K$115 -> 0 | E39: =IF((VLOOKUP($A39,調査票D!$A:$AQ,E$1,FALSE))="○",PDリスト!$F$2,"") | F39: - | G39: =VLOOKUP($A39,調査票D!$A:$AQ,G$1,FALSE) -> 0 | H39: =VLOOKUP($A39,調査票D!$A:$AQ,H$1,FALSE) -> 0 | I39: =VLOOKUP($A39,調査票D!$A:$AQ,I$1,FALSE) -> 0 | J39: =VLOOKUP($A39,調査票D!$A:$AQ,J$1,FALSE) -> 0 | K39: =VLOOKUP($A39,調査票D!$A:$AQ,K$1,FALSE) -> 0 | L39: =VLOOKUP($A39,調査票D!$A:$AQ,L$1,FALSE) -> 0 | M39: =VLOOKUP($A39,調査票D!$A:$AQ,M$1,FALSE) -> 0 | N39: =VLOOKUP($A39,調査票D!$A:$AQ,N$1,FALSE) -> 0 | O39: =VLOOKUP($A39,調査票D!$A:$AQ,O$1,FALSE) -> 0
A40: 48 | B40: =調査票D!$AJ$110 -> 0 | C40: =調査票D!$K$110 -> 0 | D40: =調査票D!$K$115 -> 0 | E40: =IF((VLOOKUP($A40,調査票D!$A:$AQ,E$1,FALSE))="○",PDリスト!$F$3,"") | F40: - | G40: =VLOOKUP($A40,調査票D!$A:$AQ,G$1,FALSE) -> 0 | H40: =VLOOKUP($A40,調査票D!$A:$AQ,H$1,FALSE) -> 0 | I40: =VLOOKUP($A40,調査票D!$A:$AQ,I$1,FALSE) -> 0 | J40: =VLOOKUP($A40,調査票D!$A:$AQ,J$1,FALSE) -> 0 | K40: =VLOOKUP($A40,調査票D!$A:$AQ,K$1,FALSE) -> 0 | L40: =VLOOKUP($A40,調査票D!$A:$AQ,L$1,FALSE) -> 0 | M40: =VLOOKUP($A40,調査票D!$A:$AQ,M$1,FALSE) -> 0 | N40: =VLOOKUP($A40,調査票D!$A:$AQ,N$1,FALSE) -> 0 | O40: =VLOOKUP($A40,調査票D!$A:$AQ,O$1,FALSE) -> 0
A41: 49 | B41: =調査票D!$AJ$110 -> 0 | C41: =調査票D!$K$110 -> 0 | D41: =調査票D!$K$115 -> 0 | E41: =IF((VLOOKUP($A41,調査票D!$A:$AQ,E$1,FALSE))="○",PDリスト!$F$4,"") | F41: - | G41: =VLOOKUP($A41,調査票D!$A:$AQ,G$1,FALSE) -> 0 | H41: =VLOOKUP($A41,調査票D!$A:$AQ,H$1,FALSE) -> 0 | I41: =VLOOKUP($A41,調査票D!$A:$AQ,I$1,FALSE) -> 0 | J41: =VLOOKUP($A41,調査票D!$A:$AQ,J$1,FALSE) -> 0 | K41: =VLOOKUP($A41,調査票D!$A:$AQ,K$1,FALSE) -> 0 | L41: =VLOOKUP($A41,調査票D!$A:$AQ,L$1,FALSE) -> 0 | M41: =VLOOKUP($A41,調査票D!$A:$AQ,M$1,FALSE) -> 0 | N41: =VLOOKUP($A41,調査票D!$A:$AQ,N$1,FALSE) -> 0 | O41: =VLOOKUP($A41,調査票D!$A:$AQ,O$1,FALSE) -> 0
A42: 50 | B42: =調査票D!$AJ$110 -> 0 | C42: =調査票D!$K$110 -> 0 | D42: =調査票D!$K$115 -> 0 | E42: =IF((VLOOKUP($A42,調査票D!$A:$AQ,E$1,FALSE))="○",PDリスト!$F$5,"") | F42: =調査票D!$N$123 -> 0 | G42: =VLOOKUP($A42,調査票D!$A:$AQ,G$1,FALSE) -> 0 | H42: =VLOOKUP($A42,調査票D!$A:$AQ,H$1,FALSE) -> 0 | I42: =VLOOKUP($A42,調査票D!$A:$AQ,I$1,FALSE) -> 0 | J42: =VLOOKUP($A42,調査票D!$A:$AQ,J$1,FALSE) -> 0 | K42: =VLOOKUP($A42,調査票D!$A:$AQ,K$1,FALSE) -> 0 | L42: =VLOOKUP($A42,調査票D!$A:$AQ,L$1,FALSE) -> 0 | M42: =VLOOKUP($A42,調査票D!$A:$AQ,M$1,FALSE) -> 0 | N42: =VLOOKUP($A42,調査票D!$A:$AQ,N$1,FALSE) -> 0 | O42: =VLOOKUP($A42,調査票D!$A:$AQ,O$1,FALSE) -> 0
A43: 51 | B43: =調査票D!$AJ$110 -> 0 | C43: =調査票D!$K$110 -> 0 | D43: =調査票D!$K$115 -> 0 | E43: =IF((VLOOKUP($A43,調査票D!$A:$AQ,E$1,FALSE))="○",PDリスト!$F$6,"") | F43: - | G43: =VLOOKUP($A43,調査票D!$A:$AQ,G$1,FALSE) -> 0 | H43: =VLOOKUP($A43,調査票D!$A:$AQ,H$1,FALSE) -> 0 | I43: =VLOOKUP($A43,調査票D!$A:$AQ,I$1,FALSE) -> 0 | J43: =VLOOKUP($A43,調査票D!$A:$AQ,J$1,FALSE) -> 0 | K43: =VLOOKUP($A43,調査票D!$A:$AQ,K$1,FALSE) -> 0 | L43: =VLOOKUP($A43,調査票D!$A:$AQ,L$1,FALSE) -> 0 | M43: =VLOOKUP($A43,調査票D!$A:$AQ,M$1,FALSE) -> 0 | N43: =VLOOKUP($A43,調査票D!$A:$AQ,N$1,FALSE) -> 0 | O43: =VLOOKUP($A43,調査票D!$A:$AQ,O$1,FALSE) -> 0
A44: 52 | B44: =調査票D!$AJ$110 -> 0 | C44: =調査票D!$K$110 -> 0 | D44: =調査票D!$K$115 -> 0 | E44: =IF((VLOOKUP($A44,調査票D!$A:$AQ,E$1,FALSE))="○",PDリスト!$F$7,"") | F44: - | G44: =VLOOKUP($A44,調査票D!$A:$AQ,G$1,FALSE) -> 0 | H44: =VLOOKUP($A44,調査票D!$A:$AQ,H$1,FALSE) -> 0 | I44: =VLOOKUP($A44,調査票D!$A:$AQ,I$1,FALSE) -> 0 | J44: =VLOOKUP($A44,調査票D!$A:$AQ,J$1,FALSE) -> 0 | K44: =VLOOKUP($A44,調査票D!$A:$AQ,K$1,FALSE) -> 0 | L44: =VLOOKUP($A44,調査票D!$A:$AQ,L$1,FALSE) -> 0 | M44: =VLOOKUP($A44,調査票D!$A:$AQ,M$1,FALSE) -> 0 | N44: =VLOOKUP($A44,調査票D!$A:$AQ,N$1,FALSE) -> 0 | O44: =VLOOKUP($A44,調査票D!$A:$AQ,O$1,FALSE) -> 0
A45: 53 | B45: =調査票D!$AJ$110 -> 0 | C45: =調査票D!$K$110 -> 0 | D45: =調査票D!$K$115 -> 0 | E45: =IF((VLOOKUP($A45,調査票D!$A:$AQ,E$1,FALSE))="○",PDリスト!$F$8,"") | F45: - | G45: =VLOOKUP($A45,調査票D!$A:$AQ,G$1,FALSE) -> 0 | H45: =VLOOKUP($A45,調査票D!$A:$AQ,H$1,FALSE) -> 0 | I45: =VLOOKUP($A45,調査票D!$A:$AQ,I$1,FALSE) -> 0 | J45: =VLOOKUP($A45,調査票D!$A:$AQ,J$1,FALSE) -> 0 | K45: =VLOOKUP($A45,調査票D!$A:$AQ,K$1,FALSE) -> 0 | L45: =VLOOKUP($A45,調査票D!$A:$AQ,L$1,FALSE) -> 0 | M45: =VLOOKUP($A45,調査票D!$A:$AQ,M$1,FALSE) -> 0 | N45: =VLOOKUP($A45,調査票D!$A:$AQ,N$1,FALSE) -> 0 | O45: =VLOOKUP($A45,調査票D!$A:$AQ,O$1,FALSE) -> 0
A46: 54 | B46: =調査票D!$AJ$110 -> 0 | C46: =調査票D!$K$110 -> 0 | D46: =調査票D!$K$115 -> 0 | E46: =IF((VLOOKUP($A46,調査票D!$A:$AQ,E$1,FALSE))="○",PDリスト!$F$9,"") | F46: =調査票D!$M$128 -> 0 | G46: =VLOOKUP($A46,調査票D!$A:$AQ,G$1,FALSE) -> 0 | H46: =VLOOKUP($A46,調査票D!$A:$AQ,H$1,FALSE) -> 0 | I46: =VLOOKUP($A46,調査票D!$A:$AQ,I$1,FALSE) -> 0 | J46: =VLOOKUP($A46,調査票D!$A:$AQ,J$1,FALSE) -> 0 | K46: =VLOOKUP($A46,調査票D!$A:$AQ,K$1,FALSE) -> 0 | L46: =VLOOKUP($A46,調査票D!$A:$AQ,L$1,FALSE) -> 0 | M46: =VLOOKUP($A46,調査票D!$A:$AQ,M$1,FALSE) -> 0 | N46: =VLOOKUP($A46,調査票D!$A:$AQ,N$1,FALSE) -> 0 | O46: =VLOOKUP($A46,調査票D!$A:$AQ,O$1,FALSE) -> 0
A47: 55 | B47: =調査票D!$AJ$110 -> 0 | C47: =調査票D!$K$110 -> 0 | D47: =調査票D!$K$115 -> 0 | E47: =IF((VLOOKUP($A47,調査票D!$A:$AQ,E$1,FALSE))="○",PDリスト!$F$10,"") | F47: =調査票D!$M$130 -> 0 | G47: =VLOOKUP($A47,調査票D!$A:$AQ,G$1,FALSE) -> 0 | H47: =VLOOKUP($A47,調査票D!$A:$AQ,H$1,FALSE) -> 0 | I47: =VLOOKUP($A47,調査票D!$A:$AQ,I$1,FALSE) -> 0 | J47: =VLOOKUP($A47,調査票D!$A:$AQ,J$1,FALSE) -> 0 | K47: =VLOOKUP($A47,調査票D!$A:$AQ,K$1,FALSE) -> 0 | L47: =VLOOKUP($A47,調査票D!$A:$AQ,L$1,FALSE) -> 0 | M47: =VLOOKUP($A47,調査票D!$A:$AQ,M$1,FALSE) -> 0 | N47: =VLOOKUP($A47,調査票D!$A:$AQ,N$1,FALSE) -> 0 | O47: =VLOOKUP($A47,調査票D!$A:$AQ,O$1,FALSE) -> 0
A48: 58 | B48: =調査票D!$AJ$137 -> 0 | C48: =調査票D!$K$137 -> 0 | D48: =調査票D!$K$142 -> 0 | E48: =IF((VLOOKUP($A48,調査票D!$A:$AQ,E$1,FALSE))="○",PDリスト!$F$2,"") | F48: - | G48: =VLOOKUP($A48,調査票D!$A:$AQ,G$1,FALSE) -> 0 | H48: =VLOOKUP($A48,調査票D!$A:$AQ,H$1,FALSE) -> 0 | I48: =VLOOKUP($A48,調査票D!$A:$AQ,I$1,FALSE) -> 0 | J48: =VLOOKUP($A48,調査票D!$A:$AQ,J$1,FALSE) -> 0 | K48: =VLOOKUP($A48,調査票D!$A:$AQ,K$1,FALSE) -> 0 | L48: =VLOOKUP($A48,調査票D!$A:$AQ,L$1,FALSE) -> 0 | M48: =VLOOKUP($A48,調査票D!$A:$AQ,M$1,FALSE) -> 0 | N48: =VLOOKUP($A48,調査票D!$A:$AQ,N$1,FALSE) -> 0 | O48: =VLOOKUP($A48,調査票D!$A:$AQ,O$1,FALSE) -> 0
A49: 59 | B49: =調査票D!$AJ$137 -> 0 | C49: =調査票D!$K$137 -> 0 | D49: =調査票D!$K$142 -> 0 | E49: =IF((VLOOKUP($A49,調査票D!$A:$AQ,E$1,FALSE))="○",PDリスト!$F$3,"") | F49: - | G49: =VLOOKUP($A49,調査票D!$A:$AQ,G$1,FALSE) -> 0 | H49: =VLOOKUP($A49,調査票D!$A:$AQ,H$1,FALSE) -> 0 | I49: =VLOOKUP($A49,調査票D!$A:$AQ,I$1,FALSE) -> 0 | J49: =VLOOKUP($A49,調査票D!$A:$AQ,J$1,FALSE) -> 0 | K49: =VLOOKUP($A49,調査票D!$A:$AQ,K$1,FALSE) -> 0 | L49: =VLOOKUP($A49,調査票D!$A:$AQ,L$1,FALSE) -> 0 | M49: =VLOOKUP($A49,調査票D!$A:$AQ,M$1,FALSE) -> 0 | N49: =VLOOKUP($A49,調査票D!$A:$AQ,N$1,FALSE) -> 0 | O49: =VLOOKUP($A49,調査票D!$A:$AQ,O$1,FALSE) -> 0
A50: 60 | B50: =調査票D!$AJ$137 -> 0 | C50: =調査票D!$K$137 -> 0 | D50: =調査票D!$K$142 -> 0 | E50: =IF((VLOOKUP($A50,調査票D!$A:$AQ,E$1,FALSE))="○",PDリスト!$F$4,"") | F50: - | G50: =VLOOKUP($A50,調査票D!$A:$AQ,G$1,FALSE) -> 0 | H50: =VLOOKUP($A50,調査票D!$A:$AQ,H$1,FALSE) -> 0 | I50: =VLOOKUP($A50,調査票D!$A:$AQ,I$1,FALSE) -> 0 | J50: =VLOOKUP($A50,調査票D!$A:$AQ,J$1,FALSE) -> 0 | K50: =VLOOKUP($A50,調査票D!$A:$AQ,K$1,FALSE) -> 0 | L50: =VLOOKUP($A50,調査票D!$A:$AQ,L$1,FALSE) -> 0 | M50: =VLOOKUP($A50,調査票D!$A:$AQ,M$1,FALSE) -> 0 | N50: =VLOOKUP($A50,調査票D!$A:$AQ,N$1,FALSE) -> 0 | O50: =VLOOKUP($A50,調査票D!$A:$AQ,O$1,FALSE) -> 0
A51: 61 | B51: =調査票D!$AJ$137 -> 0 | C51: =調査票D!$K$137 -> 0 | D51: =調査票D!$K$142 -> 0 | E51: =IF((VLOOKUP($A51,調査票D!$A:$AQ,E$1,FALSE))="○",PDリスト!$F$5,"") | F51: =調査票D!$N$150 -> 0 | G51: =VLOOKUP($A51,調査票D!$A:$AQ,G$1,FALSE) -> 0 | H51: =VLOOKUP($A51,調査票D!$A:$AQ,H$1,FALSE) -> 0 | I51: =VLOOKUP($A51,調査票D!$A:$AQ,I$1,FALSE) -> 0 | J51: =VLOOKUP($A51,調査票D!$A:$AQ,J$1,FALSE) -> 0 | K51: =VLOOKUP($A51,調査票D!$A:$AQ,K$1,FALSE) -> 0 | L51: =VLOOKUP($A51,調査票D!$A:$AQ,L$1,FALSE) -> 0 | M51: =VLOOKUP($A51,調査票D!$A:$AQ,M$1,FALSE) -> 0 | N51: =VLOOKUP($A51,調査票D!$A:$AQ,N$1,FALSE) -> 0 | O51: =VLOOKUP($A51,調査票D!$A:$AQ,O$1,FALSE) -> 0
A52: 62 | B52: =調査票D!$AJ$137 -> 0 | C52: =調査票D!$K$137 -> 0 | D52: =調査票D!$K$142 -> 0 | E52: =IF((VLOOKUP($A52,調査票D!$A:$AQ,E$1,FALSE))="○",PDリスト!$F$6,"") | F52: - | G52: =VLOOKUP($A52,調査票D!$A:$AQ,G$1,FALSE) -> 0 | H52: =VLOOKUP($A52,調査票D!$A:$AQ,H$1,FALSE) -> 0 | I52: =VLOOKUP($A52,調査票D!$A:$AQ,I$1,FALSE) -> 0 | J52: =VLOOKUP($A52,調査票D!$A:$AQ,J$1,FALSE) -> 0 | K52: =VLOOKUP($A52,調査票D!$A:$AQ,K$1,FALSE) -> 0 | L52: =VLOOKUP($A52,調査票D!$A:$AQ,L$1,FALSE) -> 0 | M52: =VLOOKUP($A52,調査票D!$A:$AQ,M$1,FALSE) -> 0 | N52: =VLOOKUP($A52,調査票D!$A:$AQ,N$1,FALSE) -> 0 | O52: =VLOOKUP($A52,調査票D!$A:$AQ,O$1,FALSE) -> 0
A53: 63 | B53: =調査票D!$AJ$137 -> 0 | C53: =調査票D!$K$137 -> 0 | D53: =調査票D!$K$142 -> 0 | E53: =IF((VLOOKUP($A53,調査票D!$A:$AQ,E$1,FALSE))="○",PDリスト!$F$7,"") | F53: - | G53: =VLOOKUP($A53,調査票D!$A:$AQ,G$1,FALSE) -> 0 | H53: =VLOOKUP($A53,調査票D!$A:$AQ,H$1,FALSE) -> 0 | I53: =VLOOKUP($A53,調査票D!$A:$AQ,I$1,FALSE) -> 0 | J53: =VLOOKUP($A53,調査票D!$A:$AQ,J$1,FALSE) -> 0 | K53: =VLOOKUP($A53,調査票D!$A:$AQ,K$1,FALSE) -> 0 | L53: =VLOOKUP($A53,調査票D!$A:$AQ,L$1,FALSE) -> 0 | M53: =VLOOKUP($A53,調査票D!$A:$AQ,M$1,FALSE) -> 0 | N53: =VLOOKUP($A53,調査票D!$A:$AQ,N$1,FALSE) -> 0 | O53: =VLOOKUP($A53,調査票D!$A:$AQ,O$1,FALSE) -> 0
A54: 64 | B54: =調査票D!$AJ$137 -> 0 | C54: =調査票D!$K$137 -> 0 | D54: =調査票D!$K$142 -> 0 | E54: =IF((VLOOKUP($A54,調査票D!$A:$AQ,E$1,FALSE))="○",PDリスト!$F$8,"") | F54: - | G54: =VLOOKUP($A54,調査票D!$A:$AQ,G$1,FALSE) -> 0 | H54: =VLOOKUP($A54,調査票D!$A:$AQ,H$1,FALSE) -> 0 | I54: =VLOOKUP($A54,調査票D!$A:$AQ,I$1,FALSE) -> 0 | J54: =VLOOKUP($A54,調査票D!$A:$AQ,J$1,FALSE) -> 0 | K54: =VLOOKUP($A54,調査票D!$A:$AQ,K$1,FALSE) -> 0 | L54: =VLOOKUP($A54,調査票D!$A:$AQ,L$1,FALSE) -> 0 | M54: =VLOOKUP($A54,調査票D!$A:$AQ,M$1,FALSE) -> 0 | N54: =VLOOKUP($A54,調査票D!$A:$AQ,N$1,FALSE) -> 0 | O54: =VLOOKUP($A54,調査票D!$A:$AQ,O$1,FALSE) -> 0
A55: 65 | B55: =調査票D!$AJ$137 -> 0 | C55: =調査票D!$K$137 -> 0 | D55: =調査票D!$K$142 -> 0 | E55: =IF((VLOOKUP($A55,調査票D!$A:$AQ,E$1,FALSE))="○",PDリスト!$F$9,"") | F55: =調査票D!$M$155 -> 0 | G55: =VLOOKUP($A55,調査票D!$A:$AQ,G$1,FALSE) -> 0 | H55: =VLOOKUP($A55,調査票D!$A:$AQ,H$1,FALSE) -> 0 | I55: =VLOOKUP($A55,調査票D!$A:$AQ,I$1,FALSE) -> 0 | J55: =VLOOKUP($A55,調査票D!$A:$AQ,J$1,FALSE) -> 0 | K55: =VLOOKUP($A55,調査票D!$A:$AQ,K$1,FALSE) -> 0 | L55: =VLOOKUP($A55,調査票D!$A:$AQ,L$1,FALSE) -> 0 | M55: =VLOOKUP($A55,調査票D!$A:$AQ,M$1,FALSE) -> 0 | N55: =VLOOKUP($A55,調査票D!$A:$AQ,N$1,FALSE) -> 0 | O55: =VLOOKUP($A55,調査票D!$A:$AQ,O$1,FALSE) -> 0
A56: 66 | B56: =調査票D!$AJ$137 -> 0 | C56: =調査票D!$K$137 -> 0 | D56: =調査票D!$K$142 -> 0 | E56: =IF((VLOOKUP($A56,調査票D!$A:$AQ,E$1,FALSE))="○",PDリスト!$F$10,"") | F56: =調査票D!$M$157 -> 0 | G56: =VLOOKUP($A56,調査票D!$A:$AQ,G$1,FALSE) -> 0 | H56: =VLOOKUP($A56,調査票D!$A:$AQ,H$1,FALSE) -> 0 | I56: =VLOOKUP($A56,調査票D!$A:$AQ,I$1,FALSE) -> 0 | J56: =VLOOKUP($A56,調査票D!$A:$AQ,J$1,FALSE) -> 0 | K56: =VLOOKUP($A56,調査票D!$A:$AQ,K$1,FALSE) -> 0 | L56: =VLOOKUP($A56,調査票D!$A:$AQ,L$1,FALSE) -> 0 | M56: =VLOOKUP($A56,調査票D!$A:$AQ,M$1,FALSE) -> 0 | N56: =VLOOKUP($A56,調査票D!$A:$AQ,N$1,FALSE) -> 0 | O56: =VLOOKUP($A56,調査票D!$A:$AQ,O$1,FALSE) -> 0
A57: 69 | B57: =調査票D!$AJ$164 -> 0 | C57: =調査票D!$K$164 -> 0 | D57: =調査票D!$K$169 -> 0 | E57: =IF((VLOOKUP($A57,調査票D!$A:$AQ,E$1,FALSE))="○",PDリスト!$F$2,"") | F57: - | G57: =VLOOKUP($A57,調査票D!$A:$AQ,G$1,FALSE) -> 0 | H57: =VLOOKUP($A57,調査票D!$A:$AQ,H$1,FALSE) -> 0 | I57: =VLOOKUP($A57,調査票D!$A:$AQ,I$1,FALSE) -> 0 | J57: =VLOOKUP($A57,調査票D!$A:$AQ,J$1,FALSE) -> 0 | K57: =VLOOKUP($A57,調査票D!$A:$AQ,K$1,FALSE) -> 0 | L57: =VLOOKUP($A57,調査票D!$A:$AQ,L$1,FALSE) -> 0 | M57: =VLOOKUP($A57,調査票D!$A:$AQ,M$1,FALSE) -> 0 | N57: =VLOOKUP($A57,調査票D!$A:$AQ,N$1,FALSE) -> 0 | O57: =VLOOKUP($A57,調査票D!$A:$AQ,O$1,FALSE) -> 0
A58: 70 | B58: =調査票D!$AJ$164 -> 0 | C58: =調査票D!$K$164 -> 0 | D58: =調査票D!$K$169 -> 0 | E58: =IF((VLOOKUP($A58,調査票D!$A:$AQ,E$1,FALSE))="○",PDリスト!$F$3,"") | F58: - | G58: =VLOOKUP($A58,調査票D!$A:$AQ,G$1,FALSE) -> 0 | H58: =VLOOKUP($A58,調査票D!$A:$AQ,H$1,FALSE) -> 0 | I58: =VLOOKUP($A58,調査票D!$A:$AQ,I$1,FALSE) -> 0 | J58: =VLOOKUP($A58,調査票D!$A:$AQ,J$1,FALSE) -> 0 | K58: =VLOOKUP($A58,調査票D!$A:$AQ,K$1,FALSE) -> 0 | L58: =VLOOKUP($A58,調査票D!$A:$AQ,L$1,FALSE) -> 0 | M58: =VLOOKUP($A58,調査票D!$A:$AQ,M$1,FALSE) -> 0 | N58: =VLOOKUP($A58,調査票D!$A:$AQ,N$1,FALSE) -> 0 | O58: =VLOOKUP($A58,調査票D!$A:$AQ,O$1,FALSE) -> 0
A59: 71 | B59: =調査票D!$AJ$164 -> 0 | C59: =調査票D!$K$164 -> 0 | D59: =調査票D!$K$169 -> 0 | E59: =IF((VLOOKUP($A59,調査票D!$A:$AQ,E$1,FALSE))="○",PDリスト!$F$4,"") | F59: - | G59: =VLOOKUP($A59,調査票D!$A:$AQ,G$1,FALSE) -> 0 | H59: =VLOOKUP($A59,調査票D!$A:$AQ,H$1,FALSE) -> 0 | I59: =VLOOKUP($A59,調査票D!$A:$AQ,I$1,FALSE) -> 0 | J59: =VLOOKUP($A59,調査票D!$A:$AQ,J$1,FALSE) -> 0 | K59: =VLOOKUP($A59,調査票D!$A:$AQ,K$1,FALSE) -> 0 | L59: =VLOOKUP($A59,調査票D!$A:$AQ,L$1,FALSE) -> 0 | M59: =VLOOKUP($A59,調査票D!$A:$AQ,M$1,FALSE) -> 0 | N59: =VLOOKUP($A59,調査票D!$A:$AQ,N$1,FALSE) -> 0 | O59: =VLOOKUP($A59,調査票D!$A:$AQ,O$1,FALSE) -> 0
A60: 72 | B60: =調査票D!$AJ$164 -> 0 | C60: =調査票D!$K$164 -> 0 | D60: =調査票D!$K$169 -> 0 | E60: =IF((VLOOKUP($A60,調査票D!$A:$AQ,E$1,FALSE))="○",PDリスト!$F$5,"") | F60: =調査票D!$N$177 -> 0 | G60: =VLOOKUP($A60,調査票D!$A:$AQ,G$1,FALSE) -> 0 | H60: =VLOOKUP($A60,調査票D!$A:$AQ,H$1,FALSE) -> 0 | I60: =VLOOKUP($A60,調査票D!$A:$AQ,I$1,FALSE) -> 0 | J60: =VLOOKUP($A60,調査票D!$A:$AQ,J$1,FALSE) -> 0 | K60: =VLOOKUP($A60,調査票D!$A:$AQ,K$1,FALSE) -> 0 | L60: =VLOOKUP($A60,調査票D!$A:$AQ,L$1,FALSE) -> 0 | M60: =VLOOKUP($A60,調査票D!$A:$AQ,M$1,FALSE) -> 0 | N60: =VLOOKUP($A60,調査票D!$A:$AQ,N$1,FALSE) -> 0 | O60: =VLOOKUP($A60,調査票D!$A:$AQ,O$1,FALSE) -> 0
A61: 73 | B61: =調査票D!$AJ$164 -> 0 | C61: =調査票D!$K$164 -> 0 | D61: =調査票D!$K$169 -> 0 | E61: =IF((VLOOKUP($A61,調査票D!$A:$AQ,E$1,FALSE))="○",PDリスト!$F$6,"") | F61: - | G61: =VLOOKUP($A61,調査票D!$A:$AQ,G$1,FALSE) -> 0 | H61: =VLOOKUP($A61,調査票D!$A:$AQ,H$1,FALSE) -> 0 | I61: =VLOOKUP($A61,調査票D!$A:$AQ,I$1,FALSE) -> 0 | J61: =VLOOKUP($A61,調査票D!$A:$AQ,J$1,FALSE) -> 0 | K61: =VLOOKUP($A61,調査票D!$A:$AQ,K$1,FALSE) -> 0 | L61: =VLOOKUP($A61,調査票D!$A:$AQ,L$1,FALSE) -> 0 | M61: =VLOOKUP($A61,調査票D!$A:$AQ,M$1,FALSE) -> 0 | N61: =VLOOKUP($A61,調査票D!$A:$AQ,N$1,FALSE) -> 0 | O61: =VLOOKUP($A61,調査票D!$A:$AQ,O$1,FALSE) -> 0
A62: 74 | B62: =調査票D!$AJ$164 -> 0 | C62: =調査票D!$K$164 -> 0 | D62: =調査票D!$K$169 -> 0 | E62: =IF((VLOOKUP($A62,調査票D!$A:$AQ,E$1,FALSE))="○",PDリスト!$F$7,"") | F62: - | G62: =VLOOKUP($A62,調査票D!$A:$AQ,G$1,FALSE) -> 0 | H62: =VLOOKUP($A62,調査票D!$A:$AQ,H$1,FALSE) -> 0 | I62: =VLOOKUP($A62,調査票D!$A:$AQ,I$1,FALSE) -> 0 | J62: =VLOOKUP($A62,調査票D!$A:$AQ,J$1,FALSE) -> 0 | K62: =VLOOKUP($A62,調査票D!$A:$AQ,K$1,FALSE) -> 0 | L62: =VLOOKUP($A62,調査票D!$A:$AQ,L$1,FALSE) -> 0 | M62: =VLOOKUP($A62,調査票D!$A:$AQ,M$1,FALSE) -> 0 | N62: =VLOOKUP($A62,調査票D!$A:$AQ,N$1,FALSE) -> 0 | O62: =VLOOKUP($A62,調査票D!$A:$AQ,O$1,FALSE) -> 0
A63: 75 | B63: =調査票D!$AJ$164 -> 0 | C63: =調査票D!$K$164 -> 0 | D63: =調査票D!$K$169 -> 0 | E63: =IF((VLOOKUP($A63,調査票D!$A:$AQ,E$1,FALSE))="○",PDリスト!$F$8,"") | F63: - | G63: =VLOOKUP($A63,調査票D!$A:$AQ,G$1,FALSE) -> 0 | H63: =VLOOKUP($A63,調査票D!$A:$AQ,H$1,FALSE) -> 0 | I63: =VLOOKUP($A63,調査票D!$A:$AQ,I$1,FALSE) -> 0 | J63: =VLOOKUP($A63,調査票D!$A:$AQ,J$1,FALSE) -> 0 | K63: =VLOOKUP($A63,調査票D!$A:$AQ,K$1,FALSE) -> 0 | L63: =VLOOKUP($A63,調査票D!$A:$AQ,L$1,FALSE) -> 0 | M63: =VLOOKUP($A63,調査票D!$A:$AQ,M$1,FALSE) -> 0 | N63: =VLOOKUP($A63,調査票D!$A:$AQ,N$1,FALSE) -> 0 | O63: =VLOOKUP($A63,調査票D!$A:$AQ,O$1,FALSE) -> 0
A64: 76 | B64: =調査票D!$AJ$164 -> 0 | C64: =調査票D!$K$164 -> 0 | D64: =調査票D!$K$169 -> 0 | E64: =IF((VLOOKUP($A64,調査票D!$A:$AQ,E$1,FALSE))="○",PDリスト!$F$9,"") | F64: =調査票D!$M$182 -> 0 | G64: =VLOOKUP($A64,調査票D!$A:$AQ,G$1,FALSE) -> 0 | H64: =VLOOKUP($A64,調査票D!$A:$AQ,H$1,FALSE) -> 0 | I64: =VLOOKUP($A64,調査票D!$A:$AQ,I$1,FALSE) -> 0 | J64: =VLOOKUP($A64,調査票D!$A:$AQ,J$1,FALSE) -> 0 | K64: =VLOOKUP($A64,調査票D!$A:$AQ,K$1,FALSE) -> 0 | L64: =VLOOKUP($A64,調査票D!$A:$AQ,L$1,FALSE) -> 0 | M64: =VLOOKUP($A64,調査票D!$A:$AQ,M$1,FALSE) -> 0 | N64: =VLOOKUP($A64,調査票D!$A:$AQ,N$1,FALSE) -> 0 | O64: =VLOOKUP($A64,調査票D!$A:$AQ,O$1,FALSE) -> 0
A65: 77 | B65: =調査票D!$AJ$164 -> 0 | C65: =調査票D!$K$164 -> 0 | D65: =調査票D!$K$169 -> 0 | E65: =IF((VLOOKUP($A65,調査票D!$A:$AQ,E$1,FALSE))="○",PDリスト!$F$10,"") | F65: =調査票D!$M$184 -> 0 | G65: =VLOOKUP($A65,調査票D!$A:$AQ,G$1,FALSE) -> 0 | H65: =VLOOKUP($A65,調査票D!$A:$AQ,H$1,FALSE) -> 0 | I65: =VLOOKUP($A65,調査票D!$A:$AQ,I$1,FALSE) -> 0 | J65: =VLOOKUP($A65,調査票D!$A:$AQ,J$1,FALSE) -> 0 | K65: =VLOOKUP($A65,調査票D!$A:$AQ,K$1,FALSE) -> 0 | L65: =VLOOKUP($A65,調査票D!$A:$AQ,L$1,FALSE) -> 0 | M65: =VLOOKUP($A65,調査票D!$A:$AQ,M$1,FALSE) -> 0 | N65: =VLOOKUP($A65,調査票D!$A:$AQ,N$1,FALSE) -> 0 | O65: =VLOOKUP($A65,調査票D!$A:$AQ,O$1,FALSE) -> 0
A66: 80 | B66: =調査票D!$AJ$191 -> 0 | C66: =調査票D!$K$191 -> 0 | D66: =調査票D!$K$196 -> 0 | E66: =IF((VLOOKUP($A66,調査票D!$A:$AQ,E$1,FALSE))="○",PDリスト!$F$2,"") | F66: - | G66: =VLOOKUP($A66,調査票D!$A:$AQ,G$1,FALSE) -> 0 | H66: =VLOOKUP($A66,調査票D!$A:$AQ,H$1,FALSE) -> 0 | I66: =VLOOKUP($A66,調査票D!$A:$AQ,I$1,FALSE) -> 0 | J66: =VLOOKUP($A66,調査票D!$A:$AQ,J$1,FALSE) -> 0 | K66: =VLOOKUP($A66,調査票D!$A:$AQ,K$1,FALSE) -> 0 | L66: =VLOOKUP($A66,調査票D!$A:$AQ,L$1,FALSE) -> 0 | M66: =VLOOKUP($A66,調査票D!$A:$AQ,M$1,FALSE) -> 0 | N66: =VLOOKUP($A66,調査票D!$A:$AQ,N$1,FALSE) -> 0 | O66: =VLOOKUP($A66,調査票D!$A:$AQ,O$1,FALSE) -> 0
A67: 81 | B67: =調査票D!$AJ$191 -> 0 | C67: =調査票D!$K$191 -> 0 | D67: =調査票D!$K$196 -> 0 | E67: =IF((VLOOKUP($A67,調査票D!$A:$AQ,E$1,FALSE))="○",PDリスト!$F$3,"") | F67: - | G67: =VLOOKUP($A67,調査票D!$A:$AQ,G$1,FALSE) -> 0 | H67: =VLOOKUP($A67,調査票D!$A:$AQ,H$1,FALSE) -> 0 | I67: =VLOOKUP($A67,調査票D!$A:$AQ,I$1,FALSE) -> 0 | J67: =VLOOKUP($A67,調査票D!$A:$AQ,J$1,FALSE) -> 0 | K67: =VLOOKUP($A67,調査票D!$A:$AQ,K$1,FALSE) -> 0 | L67: =VLOOKUP($A67,調査票D!$A:$AQ,L$1,FALSE) -> 0 | M67: =VLOOKUP($A67,調査票D!$A:$AQ,M$1,FALSE) -> 0 | N67: =VLOOKUP($A67,調査票D!$A:$AQ,N$1,FALSE) -> 0 | O67: =VLOOKUP($A67,調査票D!$A:$AQ,O$1,FALSE) -> 0
A68: 82 | B68: =調査票D!$AJ$191 -> 0 | C68: =調査票D!$K$191 -> 0 | D68: =調査票D!$K$196 -> 0 | E68: =IF((VLOOKUP($A68,調査票D!$A:$AQ,E$1,FALSE))="○",PDリスト!$F$4,"") | F68: - | G68: =VLOOKUP($A68,調査票D!$A:$AQ,G$1,FALSE) -> 0 | H68: =VLOOKUP($A68,調査票D!$A:$AQ,H$1,FALSE) -> 0 | I68: =VLOOKUP($A68,調査票D!$A:$AQ,I$1,FALSE) -> 0 | J68: =VLOOKUP($A68,調査票D!$A:$AQ,J$1,FALSE) -> 0 | K68: =VLOOKUP($A68,調査票D!$A:$AQ,K$1,FALSE) -> 0 | L68: =VLOOKUP($A68,調査票D!$A:$AQ,L$1,FALSE) -> 0 | M68: =VLOOKUP($A68,調査票D!$A:$AQ,M$1,FALSE) -> 0 | N68: =VLOOKUP($A68,調査票D!$A:$AQ,N$1,FALSE) -> 0 | O68: =VLOOKUP($A68,調査票D!$A:$AQ,O$1,FALSE) -> 0
A69: 83 | B69: =調査票D!$AJ$191 -> 0 | C69: =調査票D!$K$191 -> 0 | D69: =調査票D!$K$196 -> 0 | E69: =IF((VLOOKUP($A69,調査票D!$A:$AQ,E$1,FALSE))="○",PDリスト!$F$5,"") | F69: =調査票D!$N$204 -> 0 | G69: =VLOOKUP($A69,調査票D!$A:$AQ,G$1,FALSE) -> 0 | H69: =VLOOKUP($A69,調査票D!$A:$AQ,H$1,FALSE) -> 0 | I69: =VLOOKUP($A69,調査票D!$A:$AQ,I$1,FALSE) -> 0 | J69: =VLOOKUP($A69,調査票D!$A:$AQ,J$1,FALSE) -> 0 | K69: =VLOOKUP($A69,調査票D!$A:$AQ,K$1,FALSE) -> 0 | L69: =VLOOKUP($A69,調査票D!$A:$AQ,L$1,FALSE) -> 0 | M69: =VLOOKUP($A69,調査票D!$A:$AQ,M$1,FALSE) -> 0 | N69: =VLOOKUP($A69,調査票D!$A:$AQ,N$1,FALSE) -> 0 | O69: =VLOOKUP($A69,調査票D!$A:$AQ,O$1,FALSE) -> 0
A70: 84 | B70: =調査票D!$AJ$191 -> 0 | C70: =調査票D!$K$191 -> 0 | D70: =調査票D!$K$196 -> 0 | E70: =IF((VLOOKUP($A70,調査票D!$A:$AQ,E$1,FALSE))="○",PDリスト!$F$6,"") | F70: - | G70: =VLOOKUP($A70,調査票D!$A:$AQ,G$1,FALSE) -> 0 | H70: =VLOOKUP($A70,調査票D!$A:$AQ,H$1,FALSE) -> 0 | I70: =VLOOKUP($A70,調査票D!$A:$AQ,I$1,FALSE) -> 0 | J70: =VLOOKUP($A70,調査票D!$A:$AQ,J$1,FALSE) -> 0 | K70: =VLOOKUP($A70,調査票D!$A:$AQ,K$1,FALSE) -> 0 | L70: =VLOOKUP($A70,調査票D!$A:$AQ,L$1,FALSE) -> 0 | M70: =VLOOKUP($A70,調査票D!$A:$AQ,M$1,FALSE) -> 0 | N70: =VLOOKUP($A70,調査票D!$A:$AQ,N$1,FALSE) -> 0 | O70: =VLOOKUP($A70,調査票D!$A:$AQ,O$1,FALSE) -> 0
A71: 85 | B71: =調査票D!$AJ$191 -> 0 | C71: =調査票D!$K$191 -> 0 | D71: =調査票D!$K$196 -> 0 | E71: =IF((VLOOKUP($A71,調査票D!$A:$AQ,E$1,FALSE))="○",PDリスト!$F$7,"") | F71: - | G71: =VLOOKUP($A71,調査票D!$A:$AQ,G$1,FALSE) -> 0 | H71: =VLOOKUP($A71,調査票D!$A:$AQ,H$1,FALSE) -> 0 | I71: =VLOOKUP($A71,調査票D!$A:$AQ,I$1,FALSE) -> 0 | J71: =VLOOKUP($A71,調査票D!$A:$AQ,J$1,FALSE) -> 0 | K71: =VLOOKUP($A71,調査票D!$A:$AQ,K$1,FALSE) -> 0 | L71: =VLOOKUP($A71,調査票D!$A:$AQ,L$1,FALSE) -> 0 | M71: =VLOOKUP($A71,調査票D!$A:$AQ,M$1,FALSE) -> 0 | N71: =VLOOKUP($A71,調査票D!$A:$AQ,N$1,FALSE) -> 0 | O71: =VLOOKUP($A71,調査票D!$A:$AQ,O$1,FALSE) -> 0
A72: 86 | B72: =調査票D!$AJ$191 -> 0 | C72: =調査票D!$K$191 -> 0 | D72: =調査票D!$K$196 -> 0 | E72: =IF((VLOOKUP($A72,調査票D!$A:$AQ,E$1,FALSE))="○",PDリスト!$F$8,"") | F72: - | G72: =VLOOKUP($A72,調査票D!$A:$AQ,G$1,FALSE) -> 0 | H72: =VLOOKUP($A72,調査票D!$A:$AQ,H$1,FALSE) -> 0 | I72: =VLOOKUP($A72,調査票D!$A:$AQ,I$1,FALSE) -> 0 | J72: =VLOOKUP($A72,調査票D!$A:$AQ,J$1,FALSE) -> 0 | K72: =VLOOKUP($A72,調査票D!$A:$AQ,K$1,FALSE) -> 0 | L72: =VLOOKUP($A72,調査票D!$A:$AQ,L$1,FALSE) -> 0 | M72: =VLOOKUP($A72,調査票D!$A:$AQ,M$1,FALSE) -> 0 | N72: =VLOOKUP($A72,調査票D!$A:$AQ,N$1,FALSE) -> 0 | O72: =VLOOKUP($A72,調査票D!$A:$AQ,O$1,FALSE) -> 0
A73: 87 | B73: =調査票D!$AJ$191 -> 0 | C73: =調査票D!$K$191 -> 0 | D73: =調査票D!$K$196 -> 0 | E73: =IF((VLOOKUP($A73,調査票D!$A:$AQ,E$1,FALSE))="○",PDリスト!$F$9,"") | F73: =調査票D!$M$209 -> 0 | G73: =VLOOKUP($A73,調査票D!$A:$AQ,G$1,FALSE) -> 0 | H73: =VLOOKUP($A73,調査票D!$A:$AQ,H$1,FALSE) -> 0 | I73: =VLOOKUP($A73,調査票D!$A:$AQ,I$1,FALSE) -> 0 | J73: =VLOOKUP($A73,調査票D!$A:$AQ,J$1,FALSE) -> 0 | K73: =VLOOKUP($A73,調査票D!$A:$AQ,K$1,FALSE) -> 0 | L73: =VLOOKUP($A73,調査票D!$A:$AQ,L$1,FALSE) -> 0 | M73: =VLOOKUP($A73,調査票D!$A:$AQ,M$1,FALSE) -> 0 | N73: =VLOOKUP($A73,調査票D!$A:$AQ,N$1,FALSE) -> 0 | O73: =VLOOKUP($A73,調査票D!$A:$AQ,O$1,FALSE) -> 0
A74: 88 | B74: =調査票D!$AJ$191 -> 0 | C74: =調査票D!$K$191 -> 0 | D74: =調査票D!$K$196 -> 0 | E74: =IF((VLOOKUP($A74,調査票D!$A:$AQ,E$1,FALSE))="○",PDリスト!$F$10,"") | F74: =調査票D!$M$211 -> 0 | G74: =VLOOKUP($A74,調査票D!$A:$AQ,G$1,FALSE) -> 0 | H74: =VLOOKUP($A74,調査票D!$A:$AQ,H$1,FALSE) -> 0 | I74: =VLOOKUP($A74,調査票D!$A:$AQ,I$1,FALSE) -> 0 | J74: =VLOOKUP($A74,調査票D!$A:$AQ,J$1,FALSE) -> 0 | K74: =VLOOKUP($A74,調査票D!$A:$AQ,K$1,FALSE) -> 0 | L74: =VLOOKUP($A74,調査票D!$A:$AQ,L$1,FALSE) -> 0 | M74: =VLOOKUP($A74,調査票D!$A:$AQ,M$1,FALSE) -> 0 | N74: =VLOOKUP($A74,調査票D!$A:$AQ,N$1,FALSE) -> 0 | O74: =VLOOKUP($A74,調査票D!$A:$AQ,O$1,FALSE) -> 0
A75: 91 | B75: =調査票D!$AJ$218 -> 0 | C75: =調査票D!$K$218 -> 0 | D75: =調査票D!$K$223 -> 0 | E75: =IF((VLOOKUP($A75,調査票D!$A:$AQ,E$1,FALSE))="○",PDリスト!$F$2,"") | F75: - | G75: =VLOOKUP($A75,調査票D!$A:$AQ,G$1,FALSE) -> 0 | H75: =VLOOKUP($A75,調査票D!$A:$AQ,H$1,FALSE) -> 0 | I75: =VLOOKUP($A75,調査票D!$A:$AQ,I$1,FALSE) -> 0 | J75: =VLOOKUP($A75,調査票D!$A:$AQ,J$1,FALSE) -> 0 | K75: =VLOOKUP($A75,調査票D!$A:$AQ,K$1,FALSE) -> 0 | L75: =VLOOKUP($A75,調査票D!$A:$AQ,L$1,FALSE) -> 0 | M75: =VLOOKUP($A75,調査票D!$A:$AQ,M$1,FALSE) -> 0 | N75: =VLOOKUP($A75,調査票D!$A:$AQ,N$1,FALSE) -> 0 | O75: =VLOOKUP($A75,調査票D!$A:$AQ,O$1,FALSE) -> 0
A76: 92 | B76: =調査票D!$AJ$218 -> 0 | C76: =調査票D!$K$218 -> 0 | D76: =調査票D!$K$223 -> 0 | E76: =IF((VLOOKUP($A76,調査票D!$A:$AQ,E$1,FALSE))="○",PDリスト!$F$3,"") | F76: - | G76: =VLOOKUP($A76,調査票D!$A:$AQ,G$1,FALSE) -> 0 | H76: =VLOOKUP($A76,調査票D!$A:$AQ,H$1,FALSE) -> 0 | I76: =VLOOKUP($A76,調査票D!$A:$AQ,I$1,FALSE) -> 0 | J76: =VLOOKUP($A76,調査票D!$A:$AQ,J$1,FALSE) -> 0 | K76: =VLOOKUP($A76,調査票D!$A:$AQ,K$1,FALSE) -> 0 | L76: =VLOOKUP($A76,調査票D!$A:$AQ,L$1,FALSE) -> 0 | M76: =VLOOKUP($A76,調査票D!$A:$AQ,M$1,FALSE) -> 0 | N76: =VLOOKUP($A76,調査票D!$A:$AQ,N$1,FALSE) -> 0 | O76: =VLOOKUP($A76,調査票D!$A:$AQ,O$1,FALSE) -> 0
A77: 93 | B77: =調査票D!$AJ$218 -> 0 | C77: =調査票D!$K$218 -> 0 | D77: =調査票D!$K$223 -> 0 | E77: =IF((VLOOKUP($A77,調査票D!$A:$AQ,E$1,FALSE))="○",PDリスト!$F$4,"") | F77: - | G77: =VLOOKUP($A77,調査票D!$A:$AQ,G$1,FALSE) -> 0 | H77: =VLOOKUP($A77,調査票D!$A:$AQ,H$1,FALSE) -> 0 | I77: =VLOOKUP($A77,調査票D!$A:$AQ,I$1,FALSE) -> 0 | J77: =VLOOKUP($A77,調査票D!$A:$AQ,J$1,FALSE) -> 0 | K77: =VLOOKUP($A77,調査票D!$A:$AQ,K$1,FALSE) -> 0 | L77: =VLOOKUP($A77,調査票D!$A:$AQ,L$1,FALSE) -> 0 | M77: =VLOOKUP($A77,調査票D!$A:$AQ,M$1,FALSE) -> 0 | N77: =VLOOKUP($A77,調査票D!$A:$AQ,N$1,FALSE) -> 0 | O77: =VLOOKUP($A77,調査票D!$A:$AQ,O$1,FALSE) -> 0
A78: 94 | B78: =調査票D!$AJ$218 -> 0 | C78: =調査票D!$K$218 -> 0 | D78: =調査票D!$K$223 -> 0 | E78: =IF((VLOOKUP($A78,調査票D!$A:$AQ,E$1,FALSE))="○",PDリスト!$F$5,"") | F78: =調査票D!$N$231 -> 0 | G78: =VLOOKUP($A78,調査票D!$A:$AQ,G$1,FALSE) -> 0 | H78: =VLOOKUP($A78,調査票D!$A:$AQ,H$1,FALSE) -> 0 | I78: =VLOOKUP($A78,調査票D!$A:$AQ,I$1,FALSE) -> 0 | J78: =VLOOKUP($A78,調査票D!$A:$AQ,J$1,FALSE) -> 0 | K78: =VLOOKUP($A78,調査票D!$A:$AQ,K$1,FALSE) -> 0 | L78: =VLOOKUP($A78,調査票D!$A:$AQ,L$1,FALSE) -> 0 | M78: =VLOOKUP($A78,調査票D!$A:$AQ,M$1,FALSE) -> 0 | N78: =VLOOKUP($A78,調査票D!$A:$AQ,N$1,FALSE) -> 0 | O78: =VLOOKUP($A78,調査票D!$A:$AQ,O$1,FALSE) -> 0
A79: 95 | B79: =調査票D!$AJ$218 -> 0 | C79: =調査票D!$K$218 -> 0 | D79: =調査票D!$K$223 -> 0 | E79: =IF((VLOOKUP($A79,調査票D!$A:$AQ,E$1,FALSE))="○",PDリスト!$F$6,"") | F79: - | G79: =VLOOKUP($A79,調査票D!$A:$AQ,G$1,FALSE) -> 0 | H79: =VLOOKUP($A79,調査票D!$A:$AQ,H$1,FALSE) -> 0 | I79: =VLOOKUP($A79,調査票D!$A:$AQ,I$1,FALSE) -> 0 | J79: =VLOOKUP($A79,調査票D!$A:$AQ,J$1,FALSE) -> 0 | K79: =VLOOKUP($A79,調査票D!$A:$AQ,K$1,FALSE) -> 0 | L79: =VLOOKUP($A79,調査票D!$A:$AQ,L$1,FALSE) -> 0 | M79: =VLOOKUP($A79,調査票D!$A:$AQ,M$1,FALSE) -> 0 | N79: =VLOOKUP($A79,調査票D!$A:$AQ,N$1,FALSE) -> 0 | O79: =VLOOKUP($A79,調査票D!$A:$AQ,O$1,FALSE) -> 0
A80: 96 | B80: =調査票D!$AJ$218 -> 0 | C80: =調査票D!$K$218 -> 0 | D80: =調査票D!$K$223 -> 0 | E80: =IF((VLOOKUP($A80,調査票D!$A:$AQ,E$1,FALSE))="○",PDリスト!$F$7,"") | F80: - | G80: =VLOOKUP($A80,調査票D!$A:$AQ,G$1,FALSE) -> 0 | H80: =VLOOKUP($A80,調査票D!$A:$AQ,H$1,FALSE) -> 0 | I80: =VLOOKUP($A80,調査票D!$A:$AQ,I$1,FALSE) -> 0 | J80: =VLOOKUP($A80,調査票D!$A:$AQ,J$1,FALSE) -> 0 | K80: =VLOOKUP($A80,調査票D!$A:$AQ,K$1,FALSE) -> 0 | L80: =VLOOKUP($A80,調査票D!$A:$AQ,L$1,FALSE) -> 0 | M80: =VLOOKUP($A80,調査票D!$A:$AQ,M$1,FALSE) -> 0 | N80: =VLOOKUP($A80,調査票D!$A:$AQ,N$1,FALSE) -> 0 | O80: =VLOOKUP($A80,調査票D!$A:$AQ,O$1,FALSE) -> 0
A81: 97 | B81: =調査票D!$AJ$218 -> 0 | C81: =調査票D!$K$218 -> 0 | D81: =調査票D!$K$223 -> 0 | E81: =IF((VLOOKUP($A81,調査票D!$A:$AQ,E$1,FALSE))="○",PDリスト!$F$8,"") | F81: - | G81: =VLOOKUP($A81,調査票D!$A:$AQ,G$1,FALSE) -> 0 | H81: =VLOOKUP($A81,調査票D!$A:$AQ,H$1,FALSE) -> 0 | I81: =VLOOKUP($A81,調査票D!$A:$AQ,I$1,FALSE) -> 0 | J81: =VLOOKUP($A81,調査票D!$A:$AQ,J$1,FALSE) -> 0 | K81: =VLOOKUP($A81,調査票D!$A:$AQ,K$1,FALSE) -> 0 | L81: =VLOOKUP($A81,調査票D!$A:$AQ,L$1,FALSE) -> 0 | M81: =VLOOKUP($A81,調査票D!$A:$AQ,M$1,FALSE) -> 0 | N81: =VLOOKUP($A81,調査票D!$A:$AQ,N$1,FALSE) -> 0 | O81: =VLOOKUP($A81,調査票D!$A:$AQ,O$1,FALSE) -> 0
A82: 98 | B82: =調査票D!$AJ$218 -> 0 | C82: =調査票D!$K$218 -> 0 | D82: =調査票D!$K$223 -> 0 | E82: =IF((VLOOKUP($A82,調査票D!$A:$AQ,E$1,FALSE))="○",PDリスト!$F$9,"") | F82: =調査票D!$M$236 -> 0 | G82: =VLOOKUP($A82,調査票D!$A:$AQ,G$1,FALSE) -> 0 | H82: =VLOOKUP($A82,調査票D!$A:$AQ,H$1,FALSE) -> 0 | I82: =VLOOKUP($A82,調査票D!$A:$AQ,I$1,FALSE) -> 0 | J82: =VLOOKUP($A82,調査票D!$A:$AQ,J$1,FALSE) -> 0 | K82: =VLOOKUP($A82,調査票D!$A:$AQ,K$1,FALSE) -> 0 | L82: =VLOOKUP($A82,調査票D!$A:$AQ,L$1,FALSE) -> 0 | M82: =VLOOKUP($A82,調査票D!$A:$AQ,M$1,FALSE) -> 0 | N82: =VLOOKUP($A82,調査票D!$A:$AQ,N$1,FALSE) -> 0 | O82: =VLOOKUP($A82,調査票D!$A:$AQ,O$1,FALSE) -> 0
A83: 99 | B83: =調査票D!$AJ$218 -> 0 | C83: =調査票D!$K$218 -> 0 | D83: =調査票D!$K$223 -> 0 | E83: =IF((VLOOKUP($A83,調査票D!$A:$AQ,E$1,FALSE))="○",PDリスト!$F$10,"") | F83: =調査票D!$M$238 -> 0 | G83: =VLOOKUP($A83,調査票D!$A:$AQ,G$1,FALSE) -> 0 | H83: =VLOOKUP($A83,調査票D!$A:$AQ,H$1,FALSE) -> 0 | I83: =VLOOKUP($A83,調査票D!$A:$AQ,I$1,FALSE) -> 0 | J83: =VLOOKUP($A83,調査票D!$A:$AQ,J$1,FALSE) -> 0 | K83: =VLOOKUP($A83,調査票D!$A:$AQ,K$1,FALSE) -> 0 | L83: =VLOOKUP($A83,調査票D!$A:$AQ,L$1,FALSE) -> 0 | M83: =VLOOKUP($A83,調査票D!$A:$AQ,M$1,FALSE) -> 0 | N83: =VLOOKUP($A83,調査票D!$A:$AQ,N$1,FALSE) -> 0 | O83: =VLOOKUP($A83,調査票D!$A:$AQ,O$1,FALSE) -> 0
A84: 102 | B84: =調査票D!$AJ$245 -> 0 | C84: =調査票D!$K$245 -> 0 | D84: =調査票D!$K$250 -> 0 | E84: =IF((VLOOKUP($A84,調査票D!$A:$AQ,E$1,FALSE))="○",PDリスト!$F$2,"") | F84: - | G84: =VLOOKUP($A84,調査票D!$A:$AQ,G$1,FALSE) -> 0 | H84: =VLOOKUP($A84,調査票D!$A:$AQ,H$1,FALSE) -> 0 | I84: =VLOOKUP($A84,調査票D!$A:$AQ,I$1,FALSE) -> 0 | J84: =VLOOKUP($A84,調査票D!$A:$AQ,J$1,FALSE) -> 0 | K84: =VLOOKUP($A84,調査票D!$A:$AQ,K$1,FALSE) -> 0 | L84: =VLOOKUP($A84,調査票D!$A:$AQ,L$1,FALSE) -> 0 | M84: =VLOOKUP($A84,調査票D!$A:$AQ,M$1,FALSE) -> 0 | N84: =VLOOKUP($A84,調査票D!$A:$AQ,N$1,FALSE) -> 0 | O84: =VLOOKUP($A84,調査票D!$A:$AQ,O$1,FALSE) -> 0
A85: 103 | B85: =調査票D!$AJ$245 -> 0 | C85: =調査票D!$K$245 -> 0 | D85: =調査票D!$K$250 -> 0 | E85: =IF((VLOOKUP($A85,調査票D!$A:$AQ,E$1,FALSE))="○",PDリスト!$F$3,"") | F85: - | G85: =VLOOKUP($A85,調査票D!$A:$AQ,G$1,FALSE) -> 0 | H85: =VLOOKUP($A85,調査票D!$A:$AQ,H$1,FALSE) -> 0 | I85: =VLOOKUP($A85,調査票D!$A:$AQ,I$1,FALSE) -> 0 | J85: =VLOOKUP($A85,調査票D!$A:$AQ,J$1,FALSE) -> 0 | K85: =VLOOKUP($A85,調査票D!$A:$AQ,K$1,FALSE) -> 0 | L85: =VLOOKUP($A85,調査票D!$A:$AQ,L$1,FALSE) -> 0 | M85: =VLOOKUP($A85,調査票D!$A:$AQ,M$1,FALSE) -> 0 | N85: =VLOOKUP($A85,調査票D!$A:$AQ,N$1,FALSE) -> 0 | O85: =VLOOKUP($A85,調査票D!$A:$AQ,O$1,FALSE) -> 0
A86: 104 | B86: =調査票D!$AJ$245 -> 0 | C86: =調査票D!$K$245 -> 0 | D86: =調査票D!$K$250 -> 0 | E86: =IF((VLOOKUP($A86,調査票D!$A:$AQ,E$1,FALSE))="○",PDリスト!$F$4,"") | F86: - | G86: =VLOOKUP($A86,調査票D!$A:$AQ,G$1,FALSE) -> 0 | H86: =VLOOKUP($A86,調査票D!$A:$AQ,H$1,FALSE) -> 0 | I86: =VLOOKUP($A86,調査票D!$A:$AQ,I$1,FALSE) -> 0 | J86: =VLOOKUP($A86,調査票D!$A:$AQ,J$1,FALSE) -> 0 | K86: =VLOOKUP($A86,調査票D!$A:$AQ,K$1,FALSE) -> 0 | L86: =VLOOKUP($A86,調査票D!$A:$AQ,L$1,FALSE) -> 0 | M86: =VLOOKUP($A86,調査票D!$A:$AQ,M$1,FALSE) -> 0 | N86: =VLOOKUP($A86,調査票D!$A:$AQ,N$1,FALSE) -> 0 | O86: =VLOOKUP($A86,調査票D!$A:$AQ,O$1,FALSE) -> 0
A87: 105 | B87: =調査票D!$AJ$245 -> 0 | C87: =調査票D!$K$245 -> 0 | D87: =調査票D!$K$250 -> 0 | E87: =IF((VLOOKUP($A87,調査票D!$A:$AQ,E$1,FALSE))="○",PDリスト!$F$5,"") | F87: =調査票D!$N$258 -> 0 | G87: =VLOOKUP($A87,調査票D!$A:$AQ,G$1,FALSE) -> 0 | H87: =VLOOKUP($A87,調査票D!$A:$AQ,H$1,FALSE) -> 0 | I87: =VLOOKUP($A87,調査票D!$A:$AQ,I$1,FALSE) -> 0 | J87: =VLOOKUP($A87,調査票D!$A:$AQ,J$1,FALSE) -> 0 | K87: =VLOOKUP($A87,調査票D!$A:$AQ,K$1,FALSE) -> 0 | L87: =VLOOKUP($A87,調査票D!$A:$AQ,L$1,FALSE) -> 0 | M87: =VLOOKUP($A87,調査票D!$A:$AQ,M$1,FALSE) -> 0 | N87: =VLOOKUP($A87,調査票D!$A:$AQ,N$1,FALSE) -> 0 | O87: =VLOOKUP($A87,調査票D!$A:$AQ,O$1,FALSE) -> 0
A88: 106 | B88: =調査票D!$AJ$245 -> 0 | C88: =調査票D!$K$245 -> 0 | D88: =調査票D!$K$250 -> 0 | E88: =IF((VLOOKUP($A88,調査票D!$A:$AQ,E$1,FALSE))="○",PDリスト!$F$6,"") | F88: - | G88: =VLOOKUP($A88,調査票D!$A:$AQ,G$1,FALSE) -> 0 | H88: =VLOOKUP($A88,調査票D!$A:$AQ,H$1,FALSE) -> 0 | I88: =VLOOKUP($A88,調査票D!$A:$AQ,I$1,FALSE) -> 0 | J88: =VLOOKUP($A88,調査票D!$A:$AQ,J$1,FALSE) -> 0 | K88: =VLOOKUP($A88,調査票D!$A:$AQ,K$1,FALSE) -> 0 | L88: =VLOOKUP($A88,調査票D!$A:$AQ,L$1,FALSE) -> 0 | M88: =VLOOKUP($A88,調査票D!$A:$AQ,M$1,FALSE) -> 0 | N88: =VLOOKUP($A88,調査票D!$A:$AQ,N$1,FALSE) -> 0 | O88: =VLOOKUP($A88,調査票D!$A:$AQ,O$1,FALSE) -> 0
A89: 107 | B89: =調査票D!$AJ$245 -> 0 | C89: =調査票D!$K$245 -> 0 | D89: =調査票D!$K$250 -> 0 | E89: =IF((VLOOKUP($A89,調査票D!$A:$AQ,E$1,FALSE))="○",PDリスト!$F$7,"") | F89: - | G89: =VLOOKUP($A89,調査票D!$A:$AQ,G$1,FALSE) -> 0 | H89: =VLOOKUP($A89,調査票D!$A:$AQ,H$1,FALSE) -> 0 | I89: =VLOOKUP($A89,調査票D!$A:$AQ,I$1,FALSE) -> 0 | J89: =VLOOKUP($A89,調査票D!$A:$AQ,J$1,FALSE) -> 0 | K89: =VLOOKUP($A89,調査票D!$A:$AQ,K$1,FALSE) -> 0 | L89: =VLOOKUP($A89,調査票D!$A:$AQ,L$1,FALSE) -> 0 | M89: =VLOOKUP($A89,調査票D!$A:$AQ,M$1,FALSE) -> 0 | N89: =VLOOKUP($A89,調査票D!$A:$AQ,N$1,FALSE) -> 0 | O89: =VLOOKUP($A89,調査票D!$A:$AQ,O$1,FALSE) -> 0
A90: 108 | B90: =調査票D!$AJ$245 -> 0 | C90: =調査票D!$K$245 -> 0 | D90: =調査票D!$K$250 -> 0 | E90: =IF((VLOOKUP($A90,調査票D!$A:$AQ,E$1,FALSE))="○",PDリスト!$F$8,"") | F90: - | G90: =VLOOKUP($A90,調査票D!$A:$AQ,G$1,FALSE) -> 0 | H90: =VLOOKUP($A90,調査票D!$A:$AQ,H$1,FALSE) -> 0 | I90: =VLOOKUP($A90,調査票D!$A:$AQ,I$1,FALSE) -> 0 | J90: =VLOOKUP($A90,調査票D!$A:$AQ,J$1,FALSE) -> 0 | K90: =VLOOKUP($A90,調査票D!$A:$AQ,K$1,FALSE) -> 0 | L90: =VLOOKUP($A90,調査票D!$A:$AQ,L$1,FALSE) -> 0 | M90: =VLOOKUP($A90,調査票D!$A:$AQ,M$1,FALSE) -> 0 | N90: =VLOOKUP($A90,調査票D!$A:$AQ,N$1,FALSE) -> 0 | O90: =VLOOKUP($A90,調査票D!$A:$AQ,O$1,FALSE) -> 0
A91: 109 | B91: =調査票D!$AJ$245 -> 0 | C91: =調査票D!$K$245 -> 0 | D91: =調査票D!$K$250 -> 0 | E91: =IF((VLOOKUP($A91,調査票D!$A:$AQ,E$1,FALSE))="○",PDリスト!$F$9,"") | F91: =調査票D!$M$263 -> 0 | G91: =VLOOKUP($A91,調査票D!$A:$AQ,G$1,FALSE) -> 0 | H91: =VLOOKUP($A91,調査票D!$A:$AQ,H$1,FALSE) -> 0 | I91: =VLOOKUP($A91,調査票D!$A:$AQ,I$1,FALSE) -> 0 | J91: =VLOOKUP($A91,調査票D!$A:$AQ,J$1,FALSE) -> 0 | K91: =VLOOKUP($A91,調査票D!$A:$AQ,K$1,FALSE) -> 0 | L91: =VLOOKUP($A91,調査票D!$A:$AQ,L$1,FALSE) -> 0 | M91: =VLOOKUP($A91,調査票D!$A:$AQ,M$1,FALSE) -> 0 | N91: =VLOOKUP($A91,調査票D!$A:$AQ,N$1,FALSE) -> 0 | O91: =VLOOKUP($A91,調査票D!$A:$AQ,O$1,FALSE) -> 0
A92: 110 | B92: =調査票D!$AJ$245 -> 0 | C92: =調査票D!$K$245 -> 0 | D92: =調査票D!$K$250 -> 0 | E92: =IF((VLOOKUP($A92,調査票D!$A:$AQ,E$1,FALSE))="○",PDリスト!$F$10,"") | F92: =調査票D!$M$265 -> 0 | G92: =VLOOKUP($A92,調査票D!$A:$AQ,G$1,FALSE) -> 0 | H92: =VLOOKUP($A92,調査票D!$A:$AQ,H$1,FALSE) -> 0 | I92: =VLOOKUP($A92,調査票D!$A:$AQ,I$1,FALSE) -> 0 | J92: =VLOOKUP($A92,調査票D!$A:$AQ,J$1,FALSE) -> 0 | K92: =VLOOKUP($A92,調査票D!$A:$AQ,K$1,FALSE) -> 0 | L92: =VLOOKUP($A92,調査票D!$A:$AQ,L$1,FALSE) -> 0 | M92: =VLOOKUP($A92,調査票D!$A:$AQ,M$1,FALSE) -> 0 | N92: =VLOOKUP($A92,調査票D!$A:$AQ,N$1,FALSE) -> 0 | O92: =VLOOKUP($A92,調査票D!$A:$AQ,O$1,FALSE) -> 0
A93: 113 | B93: =調査票D!$AJ$272 -> 0 | C93: =調査票D!$K$272 -> 0 | D93: =調査票D!$K$277 -> 0 | E93: =IF((VLOOKUP($A93,調査票D!$A:$AQ,E$1,FALSE))="○",PDリスト!$F$2,"") | F93: - | G93: =VLOOKUP($A93,調査票D!$A:$AQ,G$1,FALSE) -> 0 | H93: =VLOOKUP($A93,調査票D!$A:$AQ,H$1,FALSE) -> 0 | I93: =VLOOKUP($A93,調査票D!$A:$AQ,I$1,FALSE) -> 0 | J93: =VLOOKUP($A93,調査票D!$A:$AQ,J$1,FALSE) -> 0 | K93: =VLOOKUP($A93,調査票D!$A:$AQ,K$1,FALSE) -> 0 | L93: =VLOOKUP($A93,調査票D!$A:$AQ,L$1,FALSE) -> 0 | M93: =VLOOKUP($A93,調査票D!$A:$AQ,M$1,FALSE) -> 0 | N93: =VLOOKUP($A93,調査票D!$A:$AQ,N$1,FALSE) -> 0 | O93: =VLOOKUP($A93,調査票D!$A:$AQ,O$1,FALSE) -> 0
A94: 114 | B94: =調査票D!$AJ$272 -> 0 | C94: =調査票D!$K$272 -> 0 | D94: =調査票D!$K$277 -> 0 | E94: =IF((VLOOKUP($A94,調査票D!$A:$AQ,E$1,FALSE))="○",PDリスト!$F$3,"") | F94: - | G94: =VLOOKUP($A94,調査票D!$A:$AQ,G$1,FALSE) -> 0 | H94: =VLOOKUP($A94,調査票D!$A:$AQ,H$1,FALSE) -> 0 | I94: =VLOOKUP($A94,調査票D!$A:$AQ,I$1,FALSE) -> 0 | J94: =VLOOKUP($A94,調査票D!$A:$AQ,J$1,FALSE) -> 0 | K94: =VLOOKUP($A94,調査票D!$A:$AQ,K$1,FALSE) -> 0 | L94: =VLOOKUP($A94,調査票D!$A:$AQ,L$1,FALSE) -> 0 | M94: =VLOOKUP($A94,調査票D!$A:$AQ,M$1,FALSE) -> 0 | N94: =VLOOKUP($A94,調査票D!$A:$AQ,N$1,FALSE) -> 0 | O94: =VLOOKUP($A94,調査票D!$A:$AQ,O$1,FALSE) -> 0
A95: 115 | B95: =調査票D!$AJ$272 -> 0 | C95: =調査票D!$K$272 -> 0 | D95: =調査票D!$K$277 -> 0 | E95: =IF((VLOOKUP($A95,調査票D!$A:$AQ,E$1,FALSE))="○",PDリスト!$F$4,"") | F95: - | G95: =VLOOKUP($A95,調査票D!$A:$AQ,G$1,FALSE) -> 0 | H95: =VLOOKUP($A95,調査票D!$A:$AQ,H$1,FALSE) -> 0 | I95: =VLOOKUP($A95,調査票D!$A:$AQ,I$1,FALSE) -> 0 | J95: =VLOOKUP($A95,調査票D!$A:$AQ,J$1,FALSE) -> 0 | K95: =VLOOKUP($A95,調査票D!$A:$AQ,K$1,FALSE) -> 0 | L95: =VLOOKUP($A95,調査票D!$A:$AQ,L$1,FALSE) -> 0 | M95: =VLOOKUP($A95,調査票D!$A:$AQ,M$1,FALSE) -> 0 | N95: =VLOOKUP($A95,調査票D!$A:$AQ,N$1,FALSE) -> 0 | O95: =VLOOKUP($A95,調査票D!$A:$AQ,O$1,FALSE) -> 0
A96: 116 | B96: =調査票D!$AJ$272 -> 0 | C96: =調査票D!$K$272 -> 0 | D96: =調査票D!$K$277 -> 0 | E96: =IF((VLOOKUP($A96,調査票D!$A:$AQ,E$1,FALSE))="○",PDリスト!$F$5,"") | F96: =調査票D!$N$285 -> 0 | G96: =VLOOKUP($A96,調査票D!$A:$AQ,G$1,FALSE) -> 0 | H96: =VLOOKUP($A96,調査票D!$A:$AQ,H$1,FALSE) -> 0 | I96: =VLOOKUP($A96,調査票D!$A:$AQ,I$1,FALSE) -> 0 | J96: =VLOOKUP($A96,調査票D!$A:$AQ,J$1,FALSE) -> 0 | K96: =VLOOKUP($A96,調査票D!$A:$AQ,K$1,FALSE) -> 0 | L96: =VLOOKUP($A96,調査票D!$A:$AQ,L$1,FALSE) -> 0 | M96: =VLOOKUP($A96,調査票D!$A:$AQ,M$1,FALSE) -> 0 | N96: =VLOOKUP($A96,調査票D!$A:$AQ,N$1,FALSE) -> 0 | O96: =VLOOKUP($A96,調査票D!$A:$AQ,O$1,FALSE) -> 0
A97: 117 | B97: =調査票D!$AJ$272 -> 0 | C97: =調査票D!$K$272 -> 0 | D97: =調査票D!$K$277 -> 0 | E97: =IF((VLOOKUP($A97,調査票D!$A:$AQ,E$1,FALSE))="○",PDリスト!$F$6,"") | F97: - | G97: =VLOOKUP($A97,調査票D!$A:$AQ,G$1,FALSE) -> 0 | H97: =VLOOKUP($A97,調査票D!$A:$AQ,H$1,FALSE) -> 0 | I97: =VLOOKUP($A97,調査票D!$A:$AQ,I$1,FALSE) -> 0 | J97: =VLOOKUP($A97,調査票D!$A:$AQ,J$1,FALSE) -> 0 | K97: =VLOOKUP($A97,調査票D!$A:$AQ,K$1,FALSE) -> 0 | L97: =VLOOKUP($A97,調査票D!$A:$AQ,L$1,FALSE) -> 0 | M97: =VLOOKUP($A97,調査票D!$A:$AQ,M$1,FALSE) -> 0 | N97: =VLOOKUP($A97,調査票D!$A:$AQ,N$1,FALSE) -> 0 | O97: =VLOOKUP($A97,調査票D!$A:$AQ,O$1,FALSE) -> 0
A98: 118 | B98: =調査票D!$AJ$272 -> 0 | C98: =調査票D!$K$272 -> 0 | D98: =調査票D!$K$277 -> 0 | E98: =IF((VLOOKUP($A98,調査票D!$A:$AQ,E$1,FALSE))="○",PDリスト!$F$7,"") | F98: - | G98: =VLOOKUP($A98,調査票D!$A:$AQ,G$1,FALSE) -> 0 | H98: =VLOOKUP($A98,調査票D!$A:$AQ,H$1,FALSE) -> 0 | I98: =VLOOKUP($A98,調査票D!$A:$AQ,I$1,FALSE) -> 0 | J98: =VLOOKUP($A98,調査票D!$A:$AQ,J$1,FALSE) -> 0 | K98: =VLOOKUP($A98,調査票D!$A:$AQ,K$1,FALSE) -> 0 | L98: =VLOOKUP($A98,調査票D!$A:$AQ,L$1,FALSE) -> 0 | M98: =VLOOKUP($A98,調査票D!$A:$AQ,M$1,FALSE) -> 0 | N98: =VLOOKUP($A98,調査票D!$A:$AQ,N$1,FALSE) -> 0 | O98: =VLOOKUP($A98,調査票D!$A:$AQ,O$1,FALSE) -> 0
A99: 119 | B99: =調査票D!$AJ$272 -> 0 | C99: =調査票D!$K$272 -> 0 | D99: =調査票D!$K$277 -> 0 | E99: =IF((VLOOKUP($A99,調査票D!$A:$AQ,E$1,FALSE))="○",PDリスト!$F$8,"") | F99: - | G99: =VLOOKUP($A99,調査票D!$A:$AQ,G$1,FALSE) -> 0 | H99: =VLOOKUP($A99,調査票D!$A:$AQ,H$1,FALSE) -> 0 | I99: =VLOOKUP($A99,調査票D!$A:$AQ,I$1,FALSE) -> 0 | J99: =VLOOKUP($A99,調査票D!$A:$AQ,J$1,FALSE) -> 0 | K99: =VLOOKUP($A99,調査票D!$A:$AQ,K$1,FALSE) -> 0 | L99: =VLOOKUP($A99,調査票D!$A:$AQ,L$1,FALSE) -> 0 | M99: =VLOOKUP($A99,調査票D!$A:$AQ,M$1,FALSE) -> 0 | N99: =VLOOKUP($A99,調査票D!$A:$AQ,N$1,FALSE) -> 0 | O99: =VLOOKUP($A99,調査票D!$A:$AQ,O$1,FALSE) -> 0
A100: 120 | B100: =調査票D!$AJ$272 -> 0 | C100: =調査票D!$K$272 -> 0 | D100: =調査票D!$K$277 -> 0 | E100: =IF((VLOOKUP($A100,調査票D!$A:$AQ,E$1,FALSE))="○",PDリスト!$F$9,"") | F100: =調査票D!$M$290 -> 0 | G100: =VLOOKUP($A100,調査票D!$A:$AQ,G$1,FALSE) -> 0 | H100: =VLOOKUP($A100,調査票D!$A:$AQ,H$1,FALSE) -> 0 | I100: =VLOOKUP($A100,調査票D!$A:$AQ,I$1,FALSE) -> 0 | J100: =VLOOKUP($A100,調査票D!$A:$AQ,J$1,FALSE) -> 0 | K100: =VLOOKUP($A100,調査票D!$A:$AQ,K$1,FALSE) -> 0 | L100: =VLOOKUP($A100,調査票D!$A:$AQ,L$1,FALSE) -> 0 | M100: =VLOOKUP($A100,調査票D!$A:$AQ,M$1,FALSE) -> 0 | N100: =VLOOKUP($A100,調査票D!$A:$AQ,N$1,FALSE) -> 0 | O100: =VLOOKUP($A100,調査票D!$A:$AQ,O$1,FALSE) -> 0
...

Sheet PDリスト
B1: 該当・非該当 | D1: 管理番号・物質名 | F1: 取扱区分
B2: ○ | D2: 1：亜鉛の水溶性化合物 | F2: ア）PRTR対象化学物質自体の製造
D3: 2：アクリルアミド | F3: イ）化学品の合成原料
D4: 3：アクリル酸エチル | F4: ウ）反応溶剤・抽出溶剤等
D5: 4：アクリル酸及びその水溶性塩 | F5: エ）化学品の配合原料
D6: 7：アクリル酸ブチル | F6: オ）化学プロセス調節剤
D7: 8：アクリル酸メチル | F7: カ）PRTR対象化学物質を含む化学品の小分け
D8: 9：アクリロニトリル | F8: キ）反応による副生成物
D9: 12：アセトアルデヒド | F9: ク）その他
D10: 15：アセナフテン | F10: ケ）その他
D11: 18：アニリン
D12: 20：２－アミノエタノール
D13: 30：直鎖アルキルベンゼンスルホン酸及びその塩（アルキル基の炭素数が１０から１４までのもの及びその混合物に限る。）
D14: 31：アンチモン及びその化合物
D15: 32：アントラセン
D16: 34：３－イソシアナトメチル－３，５，５－トリメチルシクロヘキシル＝イソシアネート
D17: 36：イソプレン
D18: 37：ビスフェノールＡ
D19: 44：インジウム及びその化合物
D20: 53：エチルベンゼン
D21: 56：エチレンオキシド
D22: 57：エチレングリコールモノエチルエーテル
... D279: 754：硫酸ジメチル
