Workbook

Sheet 調査票D
A2: 1 | B2: 事業所No.（調査票Aの番号） | AF2: 発送コード | AI2: ： | AO2: 調査票D
B4: ○ | C4: 主に化学製品の製造を行っている場合はご記入ください。ご記入は本調査の対象化学物質別にお願いいたします。なお、ゴム添加剤やプラスチック成型品の添加剤、燃料添加剤自体を製造する場合は本調査票にご記入いただき、それらを使用してゴム製品やプラスチック製品、燃料を製造する場合は調査票Cの「チ：ゴム添加剤」や「ツ：プラスチック成型品の原料・添加剤」、「ワ：燃料又は燃料添加剤」にご記入ください。 同様に「ガラス、ほうろう、セメント」、「陶磁器、耐火物、ファインセラミックス」、「研削砥石、研磨剤、摩擦材、固体潤滑剤」、「電気・電子用の部品・デバイス」、「電池用の部品・部材」、「建設資材」を製造する場合は調査票Cにご記入ください。
B5: ○ | C5: 対象化学物質ごとに、取扱区分別に年間取扱量及び環境への排出率をご記入ください。
A7: 2 | B7: 管理番号：対象化学物質名
B9: 取扱区分 ※該当するものに○をご記入ください。 | X9: 年間取扱量 （トン／年） | AB9: 環境への排出率（該当する欄に○）
AB10: ゼロ | AD10: 0.01%未満 （ゼロ以外） | AF10: 0.01～0.1% | AH10: 0.1～1% | AJ10: 1～10% | AL10: 10～30% | AN10: 30～90% | AP10: 90%以上
A11: 3 | D11: ア）PRTR対象化学物質自体の製造 （別の化学物質を原料として反応させてPRTR対象化学物質を製造）
A12: 4 | D12: イ）化学品の合成原料（合成・重合等によりPRTR対象化学物質が別の化学物質へ転化）
A13: 5 | D13: ウ）反応溶剤・抽出溶剤等（別の化学物質の合成等のためにPRTR対象化学物質を溶剤として使用）
A14: 6 | D14: エ）化学品の配合原料（PRTR対象化学物質を塗料等の化学品の成分として配合）
D15: ※具体的な品名をご記入ください：
A16: 7 | D16: オ）化学プロセス調節剤（化学プロセスに関わる単位操作（例えば、反応、発酵、分離・精製、攪拌・混合、伝熱、流動、調湿・乾燥、集塵、成形、洗浄など）の制御等のために使用）
A17: 8 | D17: カ）PRTR対象化学物質を含む化学品の小分け
A18: 9 | D18: キ）反応による副生成物
A19: 10 | D19: ク）その他
D20: ※具体的にご記入ください：
A21: 11 | D21: ケ）その他
D22: ※具体的にご記入ください：
B23: 注１：表中の環境への排出率の幅は「○％以上○％未満」を表します。（0.1～1％⇒0.1％以上1％未満）
B24: 注２：年間取扱量の正確な数量が把握できない場合には有効数字１桁程度の概算（例：約800トン）で結構です。
B25: 注３：PRTRの届出とは異なり、年間取扱量が1t未満の物質につきましても調査対象としておりますので、可能な限りご協力をお願いいたします。
B26: 注４：調査票Cに含まれる資材（例：試薬）を事業所で使用する場合には、調査票Cにご記入ください。
A29: =A2+11 -> 12 | B29: 事業所No.（調査票Aの番号） | AF29: 発送コード | AI29: ： | AO29: 調査票D
B31: ○ | C31: 主に化学製品の製造を行っている場合はご記入ください。ご記入は本調査の対象化学物質別にお願いいたします。なお、ゴム添加剤やプラスチック成型品の添加剤、燃料添加剤自体を製造する場合は本調査票にご記入いただき、それらを使用してゴム製品やプラスチック製品、燃料を製造する場合は調査票Cの「チ：ゴム添加剤」や「ツ：プラスチック成型品の原料・添加剤」、「ワ：燃料又は燃料添加剤」にご記入ください。 同様に「ガラス、ほうろう、セメント」、「陶磁器、耐火物、ファインセラミックス」、「研削砥石、研磨剤、摩擦材、固体潤滑剤」、「電気・電子用の部品・デバイス」、「電池用の部品・部材」、「建設資材」を製造する場合は調査票Cにご記入ください。
B32: ○ | C32: 対象化学物質ごとに、取扱区分別に年間取扱量及び環境への排出率をご記入ください。
A34: =A7+11 -> 13 | B34: 管理番号：対象化学物質名
B36: 取扱区分 ※該当するものに○をご記入ください。 | X36: 年間取扱量 （トン／年） | AB36: 環境への排出率（該当する欄に○）
AB37: ゼロ | AD37: 0.01%未満 （ゼロ以外） | AF37: 0.01～0.1% | AH37: 0.1～1% | AJ37: 1～10% | AL37: 10～30% | AN37: 30～90% | AP37: 90%以上
A38: =A11+11 -> 14 | D38: ア）PRTR対象化学物質自体の製造 （別の化学物質を原料として反応させてPRTR対象化学物質を製造）
A39: =A12+11 -> 15 | D39: イ）化学品の合成原料（合成・重合等によりPRTR対象化学物質が別の化学物質へ転化）
A40: =A13+11 -> 16 | D40: ウ）反応溶剤・抽出溶剤等（別の化学物質の合成等のためにPRTR対象化学物質を溶剤として使用）
A41: =A14+11 -> 17 | D41: エ）化学品の配合原料（PRTR対象化学物質を塗料等の化学品の成分として配合）
D42: ※具体的な品名をご記入ください：
A43: =A16+11 -> 18 | D43: オ）化学プロセス調節剤（化学プロセスに関わる単位操作（例えば、反応、発酵、分離・精製、攪拌・混合、伝熱、流動、調湿・乾燥、集塵、成形、洗浄など）の制御等のために使用）
A44: =A17+11 -> 19 | D44: カ）PRTR対象化学物質を含む化学品の小分け
A45: =A18+11 -> 20 | D45: キ）反応による副生成物
A46: =A19+11 -> 21 | D46: ク）その他
D47: ※具体的にご記入ください：
A48: =A21+11 -> 22 | D48: ケ）その他
D49: ※具体的にご記入ください：
...

Sheet 別表3　対象化学物質の一覧
A1: 別表3 対象化学物質の一覧
A2: 管理番号・物質名 | X2: CAS番号 | Y2: 換算元素
A3: 1：亜鉛の水溶性化合物 | Y3: 亜鉛(Zn)
A4: 2：アクリルアミド | X4: 79-06-1
A5: 3：アクリル酸エチル | X5: 140-88-5
A6: 4：アクリル酸及びその水溶性塩
A7: 7：アクリル酸ブチル | X7: 141-32-2
A8: 8：アクリル酸メチル | X8: 96-33-3
A9: 9：アクリロニトリル | X9: 107-13-1
A10: 12：アセトアルデヒド | X10: 75-07-0
A11: 15：アセナフテン | X11: 83-32-9
A12: 18：アニリン | X12: 62-53-3
A13: 20：２－アミノエタノール | X13: 141-43-5
A14: 30：直鎖アルキルベンゼンスルホン酸及びその塩（アルキル基の炭素数が１０から１４までのもの及びその混合物に限る。）
A15: 31：アンチモン及びその化合物 | Y15: アンチモン(Sb)
A16: 32：アントラセン | X16: 120-12-7
A17: 34：３－イソシアナトメチル－３，５，５－トリメチルシクロヘキシル＝イソシアネート | X17: 4098-71-9
A18: 36：イソプレン | X18: 78-79-5
A19: 37：ビスフェノールＡ | X19: 80-05-7
A20: 44：インジウム及びその化合物 | Y20: インジウム(In)
A21: 53：エチルベンゼン | X21: 100-41-4
A22: 56：エチレンオキシド | X22: 75-21-8
A23: 57：エチレングリコールモノエチルエーテル | X23: 110-80-5
A24: 58：エチレングリコールモノメチルエーテル | X24: 109-86-4
A25: 59：エチレンジアミン | X25: 107-15-3
A26: 64：エトフェンプロックス | X26: 80844-07-1
A27: 65：エピクロロヒドリン | X27: 106-89-8
A28: 66：１，２－エポキシブタン | X28: 106-88-7
A29: 68：酸化プロピレン | X29: 75-56-9
A30: 73：１－オクタノール | X30: 111-87-5
A31: 74：パラ－アルキルフェノール（アルキル基の炭素数が８のものに限る。） | X31: 1806-26-4
A32: 75：カドミウム及びその化合物 | Y32: カドミウム(Cd)
A33: 80：キシレン | X33: 1330-20-7
A34: 81：キノリン | X34: 91-22-5
A35: 82：銀及びその水溶性化合物 | Y35: 銀(Ag)
A36: 83：クメン | X36: 98-82-8
A37: 84：グリオキサール | X37: 107-22-2
A38: 85：グルタルアルデヒド | X38: 111-30-8
A39: 86：クレゾール | X39: 1319-77-3
A40: 87：クロム及び三価クロム化合物 | Y40: クロム(Cr)
...

Sheet 集計
B1: 36 | C1: 11 | D1: 11 | E1: 2 | F1: 14 | G1: 24 | H1: 28 | I1: 30 | J1: 32 | K1: 34 | L1: 36 | M1: 38 | N1: 40 | O1: 42
B2: 発送コード | C2: 事業所No. | D2: 管理番号・物質名 | E2: 取扱区分 | F2: 具体手な品目 | G2: 年間取扱量（トン／年） | H2: 環境への排出率_ゼロ | I2: 環境への排出率_0.01%未満 | J2: 環境への排出率_0.01～0.1% | K2: 環境への排出率_0.1～1% | L2: 環境への排出率_1～10% | M2: 環境への排出率_10～30% | N2: 環境への排出率_30～90% | O2: 環境への排出率_90%以上
A3: 3 | B3: =調査票D!$AJ$2 -> 0 | C3: =調査票D!$K$2 -> 0 | D3: =調査票D!$K$7 -> 0 | E3: =IF((VLOOKUP($A3,調査票D!$A:$AQ,E$1,FALSE))="○",PDリスト!$F$2,"") | F3: - | G3: =VLOOKUP($A3,調査票D!$A:$AQ,G$1,FALSE) -> 0 | H3: =VLOOKUP($A3,調査票D!$A:$AQ,H$1,FALSE) -> 0 | I3: =VLOOKUP($A3,調査票D!$A:$AQ,I$1,FALSE) -> 0 | J3: =VLOOKUP($A3,調査票D!$A:$AQ,J$1,FALSE) -> 0 | K3: =VLOOKUP($A3,調査票D!$A:$AQ,K$1,FALSE) -> 0 | L3: =VLOOKUP($A3,調査票D!$A:$AQ,L$1,FALSE) -> 0 | M3: =VLOOKUP($A3,調査票D!$A:$AQ,M$1,FALSE) -> 0 | N3: =VLOOKUP($A3,調査票D!$A:$AQ,N$1,FALSE) -> 0 | O3: =VLOOKUP($A3,調査票D!$A:$AQ,O$1,FALSE) -> 0
A4: 4 | B4: =調査票D!$AJ$2 -> 0 | C4: =調査票D!$K$2 -> 0 | D4: =調査票D!$K$7 -> 0 | E4: =IF((VLOOKUP($A4,調査票D!$A:$AQ,E$1,FALSE))="○",PDリスト!$F$3,"") | F4: - | G4: =VLOOKUP($A4,調査票D!$A:$AQ,G$1,FALSE) -> 0 | H4: =VLOOKUP($A4,調査票D!$A:$AQ,H$1,FALSE) -> 0 | I4: =VLOOKUP($A4,調査票D!$A:$AQ,I$1,FALSE) -> 0 | J4: =VLOOKUP($A4,調査票D!$A:$AQ,J$1,FALSE) -> 0 | K4: =VLOOKUP($A4,調査票D!$A:$AQ,K$1,FALSE) -> 0 | L4: =VLOOKUP($A4,調査票D!$A:$AQ,L$1,FALSE) -> 0 | M4: =VLOOKUP($A4,調査票D!$A:$AQ,M$1,FALSE) -> 0 | N4: =VLOOKUP($A4,調査票D!$A:$AQ,N$1,FALSE) -> 0 | O4: =VLOOKUP($A4,調査票D!$A:$AQ,O$1,FALSE) -> 0
A5: 5 | B5: =調査票D!$AJ$2 -> 0 | C5: =調査票D!$K$2 -> 0 | D5: =調査票D!$K$7 -> 0 | E5: =IF((VLOOKUP($A5,調査票D!$A:$AQ,E$1,FALSE))="○",PDリスト!$F$4,"") | F5: - | G5: =VLOOKUP($A5,調査票D!$A:$AQ,G$1,FALSE) -> 0 | H5: =VLOOKUP($A5,調査票D!$A:$AQ,H$1,FALSE) -> 0 | I5: =VLOOKUP($A5,調査票D!$A:$AQ,I$1,FALSE) -> 0 | J5: =VLOOKUP($A5,調査票D!$A:$AQ,J$1,FALSE) -> 0 | K5: =VLOOKUP($A5,調査票D!$A:$AQ,K$1,FALSE) -> 0 | L5: =VLOOKUP($A5,調査票D!$A:$AQ,L$1,FALSE) -> 0 | M5: =VLOOKUP($A5,調査票D!$A:$AQ,M$1,FALSE) -> 0 | N5: =VLOOKUP($A5,調査票D!$A:$AQ,N$1,FALSE) -> 0 | O5: =VLOOKUP($A5,調査票D!$A:$AQ,O$1,FALSE) -> 0
A6: 6 | B6: =調査票D!$AJ$2 -> 0 | C6: =調査票D!$K$2 -> 0 | D6: =調査票D!$K$7 -> 0 | E6: =IF((VLOOKUP($A6,調査票D!$A:$AQ,E$1,FALSE))="○",PDリスト!$F$5,"") | F6: =調査票D!$N$15 -> 0 | G6: =VLOOKUP($A6,調査票D!$A:$AQ,G$1,FALSE) -> 0 | H6: =VLOOKUP($A6,調査票D!$A:$AQ,H$1,FALSE) -> 0 | I6: =VLOOKUP($A6,調査票D!$A:$AQ,I$1,FALSE) -> 0 | J6: =VLOOKUP($A6,調査票D!$A:$AQ,J$1,FALSE) -> 0 | K6: =VLOOKUP($A6,調査票D!$A:$AQ,K$1,FALSE) -> 0 | L6: =VLOOKUP($A6,調査票D!$A:$AQ,L$1,FALSE) -> 0 | M6: =VLOOKUP($A6,調査票D!$A:$AQ,M$1,FALSE) -> 0 | N6: =VLOOKUP($A6,調査票D!$A:$AQ,N$1,FALSE) -> 0 | O6: =VLOOKUP($A6,調査票D!$A:$AQ,O$1,FALSE) -> 0
A7: 7 | B7: =調査票D!$AJ$2 -> 0 | C7: =調査票D!$K$2 -> 0 | D7: =調査票D!$K$7 -> 0 | E7: =IF((VLOOKUP($A7,調査票D!$A:$AQ,E$1,FALSE))="○",PDリスト!$F$6,"") | F7: - | G7: =VLOOKUP($A7,調査票D!$A:$AQ,G$1,FALSE) -> 0 | H7: =VLOOKUP($A7,調査票D!$A:$AQ,H$1,FALSE) -> 0 | I7: =VLOOKUP($A7,調査票D!$A:$AQ,I$1,FALSE) -> 0 | J7: =VLOOKUP($A7,調査票D!$A:$AQ,J$1,FALSE) -> 0 | K7: =VLOOKUP($A7,調査票D!$A:$AQ,K$1,FALSE) -> 0 | L7: =VLOOKUP($A7,調査票D!$A:$AQ,L$1,FALSE) -> 0 | M7: =VLOOKUP($A7,調査票D!$A:$AQ,M$1,FALSE) -> 0 | N7: =VLOOKUP($A7,調査票D!$A:$AQ,N$1,FALSE) -> 0 | O7: =VLOOKUP($A7,調査票D!$A:$AQ,O$1,FALSE) -> 0
A8: 8 | B8: =調査票D!$AJ$2 -> 0 | C8: =調査票D!$K$2 -> 0 | D8: =調査票D!$K$7 -> 0 | E8: =IF((VLOOKUP($A8,調査票D!$A:$AQ,E$1,FALSE))="○",PDリスト!$F$7,"") | F8: - | G8: =VLOOKUP($A8,調査票D!$A:$AQ,G$1,FALSE) -> 0 | H8: =VLOOKUP($A8,調査票D!$A:$AQ,H$1,FALSE) -> 0 | I8: =VLOOKUP($A8,調査票D!$A:$AQ,I$1,FALSE) -> 0 | J8: =VLOOKUP($A8,調査票D!$A:$AQ,J$1,FALSE) -> 0 | K8: =VLOOKUP($A8,調査票D!$A:$AQ,K$1,FALSE) -> 0 | L8: =VLOOKUP($A8,調査票D!$A:$AQ,L$1,FALSE) -> 0 | M8: =VLOOKUP($A8,調査票D!$A:$AQ,M$1,FALSE) -> 0 | N8: =VLOOKUP($A8,調査票D!$A:$AQ,N$1,FALSE) -> 0 | O8: =VLOOKUP($A8,調査票D!$A:$AQ,O$1,FALSE) -> 0
A9: 9 | B9: =調査票D!$AJ$2 -> 0 | C9: =調査票D!$K$2 -> 0 | D9: =調査票D!$K$7 -> 0 | E9: =IF((VLOOKUP($A9,調査票D!$A:$AQ,E$1,FALSE))="○",PDリスト!$F$8,"") | F9: - | G9: =VLOOKUP($A9,調査票D!$A:$AQ,G$1,FALSE) -> 0 | H9: =VLOOKUP($A9,調査票D!$A:$AQ,H$1,FALSE) -> 0 | I9: =VLOOKUP($A9,調査票D!$A:$AQ,I$1,FALSE) -> 0 | J9: =VLOOKUP($A9,調査票D!$A:$AQ,J$1,FALSE) -> 0 | K9: =VLOOKUP($A9,調査票D!$A:$AQ,K$1,FALSE) -> 0 | L9: =VLOOKUP($A9,調査票D!$A:$AQ,L$1,FALSE) -> 0 | M9: =VLOOKUP($A9,調査票D!$A:$AQ,M$1,FALSE) -> 0 | N9: =VLOOKUP($A9,調査票D!$A:$AQ,N$1,FALSE) -> 0 | O9: =VLOOKUP($A9,調査票D!$A:$AQ,O$1,FALSE) -> 0
A10: 10 | B10: =調査票D!$AJ$2 -> 0 | C10: =調査票D!$K$2 -> 0 | D10: =調査票D!$K$7 -> 0 | E10: =IF((VLOOKUP($A10,調査票D!$A:$AQ,E$1,FALSE))="○",PDリスト!$F$9,"") | F10: =調査票D!$M$20 -> 0 | G10: =VLOOKUP($A10,調査票D!$A:$AQ,G$1,FALSE) -> 0 | H10: =VLOOKUP($A10,調査票D!$A:$AQ,H$1,FALSE) -> 0 | I10: =VLOOKUP($A10,調査票D!$A:$AQ,I$1,FALSE) -> 0 | J10: =VLOOKUP($A10,調査票D!$A:$AQ,J$1,FALSE) -> 0 | K10: =VLOOKUP($A10,調査票D!$A:$AQ,K$1,FALSE) -> 0 | L10: =VLOOKUP($A10,調査票D!$A:$AQ,L$1,FALSE) -> 0 | M10: =VLOOKUP($A10,調査票D!$A:$AQ,M$1,FALSE) -> 0 | N10: =VLOOKUP($A10,調査票D!$A:$AQ,N$1,FALSE) -> 0 | O10: =VLOOKUP($A10,調査票D!$A:$AQ,O$1,FALSE) -> 0
A11: 11 | B11: =調査票D!$AJ$2 -> 0 | C11: =調査票D!$K$2 -> 0 | D11: =調査票D!$K$7 -> 0 | E11: =IF((VLOOKUP($A11,調査票D!$A:$AQ,E$1,FALSE))="○",PDリスト!$F$10,"") | F11: =調査票D!$M$22 -> 0 | G11: =VLOOKUP($A11,調査票D!$A:$AQ,G$1,FALSE) -> 0 | H11: =VLOOKUP($A11,調査票D!$A:$AQ,H$1,FALSE) -> 0 | I11: =VLOOKUP($A11,調査票D!$A:$AQ,I$1,FALSE) -> 0 | J11: =VLOOKUP($A11,調査票D!$A:$AQ,J$1,FALSE) -> 0 | K11: =VLOOKUP($A11,調査票D!$A:$AQ,K$1,FALSE) -> 0 | L11: =VLOOKUP($A11,調査票D!$A:$AQ,L$1,FALSE) -> 0 | M11: =VLOOKUP($A11,調査票D!$A:$AQ,M$1,FALSE) -> 0 | N11: =VLOOKUP($A11,調査票D!$A:$AQ,N$1,FALSE) -> 0 | O11: =VLOOKUP($A11,調査票D!$A:$AQ,O$1,FALSE) -> 0
A12: 14 | B12: =調査票D!$AJ$29 -> 0 | C12: =調査票D!$K$29 -> 0 | D12: =調査票D!$K$34 -> 0 | E12: =IF((VLOOKUP($A12,調査票D!$A:$AQ,E$1,FALSE))="○",PDリスト!$F$2,"") | F12: - | G12: =VLOOKUP($A12,調査票D!$A:$AQ,G$1,FALSE) -> 0 | H12: =VLOOKUP($A12,調査票D!$A:$AQ,H$1,FALSE) -> 0 | I12: =VLOOKUP($A12,調査票D!$A:$AQ,I$1,FALSE) -> 0 | J12: =VLOOKUP($A12,調査票D!$A:$AQ,J$1,FALSE) -> 0 | K12: =VLOOKUP($A12,調査票D!$A:$AQ,K$1,FALSE) -> 0 | L12: =VLOOKUP($A12,調査票D!$A:$AQ,L$1,FALSE) -> 0 | M12: =VLOOKUP($A12,調査票D!$A:$AQ,M$1,FALSE) -> 0 | N12: =VLOOKUP($A12,調査票D!$A:$AQ,N$1,FALSE) -> 0 | O12: =VLOOKUP($A12,調査票D!$A:$AQ,O$1,FALSE) -> 0
A13: 15 | B13: =調査票D!$AJ$29 -> 0 | C13: =調査票D!$K$29 -> 0 | D13: =調査票D!$K$34 -> 0 | E13: =IF((VLOOKUP($A13,調査票D!$A:$AQ,E$1,FALSE))="○",PDリスト!$F$3,"") | F13: - | G13: =VLOOKUP($A13,調査票D!$A:$AQ,G$1,FALSE) -> 0 | H13: =VLOOKUP($A13,調査票D!$A:$AQ,H$1,FALSE) -> 0 | I13: =VLOOKUP($A13,調査票D!$A:$AQ,I$1,FALSE) -> 0 | J13: =VLOOKUP($A13,調査票D!$A:$AQ,J$1,FALSE) -> 0 | K13: =VLOOKUP($A13,調査票D!$A:$AQ,K$1,FALSE) -> 0 | L13: =VLOOKUP($A13,調査票D!$A:$AQ,L$1,FALSE) -> 0 | M13: =VLOOKUP($A13,調査票D!$A:$AQ,M$1,FALSE) -> 0 | N13: =VLOOKUP($A13,調査票D!$A:$AQ,N$1,FALSE) -> 0 | O13: =VLOOKUP($A13,調査票D!$A:$AQ,O$1,FALSE) -> 0
A14: 16 | B14: =調査票D!$AJ$29 -> 0 | C14: =調査票D!$K$29 -> 0 | D14: =調査票D!$K$34 -> 0 | E14: =IF((VLOOKUP($A14,調査票D!$A:$AQ,E$1,FALSE))="○",PDリスト!$F$4,"") | F14: - | G14: =VLOOKUP($A14,調査票D!$A:$AQ,G$1,FALSE) -> 0 | H14: =VLOOKUP($A14,調査票D!$A:$AQ,H$1,FALSE) -> 0 | I14: =VLOOKUP($A14,調査票D!$A:$AQ,I$1,FALSE) -> 0 | J14: =VLOOKUP($A14,調査票D!$A:$AQ,J$1,FALSE) -> 0 | K14: =VLOOKUP($A14,調査票D!$A:$AQ,K$1,FALSE) -> 0 | L14: =VLOOKUP($A14,調査票D!$A:$AQ,L$1,FALSE) -> 0 | M14: =VLOOKUP($A14,調査票D!$A:$AQ,M$1,FALSE) -> 0 | N14: =VLOOKUP($A14,調査票D!$A:$AQ,N$1,FALSE) -> 0 | O14: =VLOOKUP($A14,調査票D!$A:$AQ,O$1,FALSE) -> 0
A15: 17 | B15: =調査票D!$AJ$29 -> 0 | C15: =調査票D!$K$29 -> 0 | D15: =調査票D!$K$34 -> 0 | E15: =IF((VLOOKUP($A15,調査票D!$A:$AQ,E$1,FALSE))="○",PDリスト!$F$5,"") | F15: =調査票D!$N$42 -> 0 | G15: =VLOOKUP($A15,調査票D!$A:$AQ,G$1,FALSE) -> 0 | H15: =VLOOKUP($A15,調査票D!$A:$AQ,H$1,FALSE) -> 0 | I15: =VLOOKUP($A15,調査票D!$A:$AQ,I$1,FALSE) -> 0 | J15: =VLOOKUP($A15,調査票D!$A:$AQ,J$1,FALSE) -> 0 | K15: =VLOOKUP($A15,調査票D!$A:$AQ,K$1,FALSE) -> 0 | L15: =VLOOKUP($A15,調査票D!$A:$AQ,L$1,FALSE) -> 0 | M15: =VLOOKUP($A15,調査票D!$A:$AQ,M$1,FALSE) -> 0 | N15: =VLOOKUP($A15,調査票D!$A:$AQ,N$1,FALSE) -> 0 | O15: =VLOOKUP($A15,調査票D!$A:$AQ,O$1,FALSE) -> 0
A16: 18 | B16: =調査票D!$AJ$29 -> 0 | C16: =調査票D!$K$29 -> 0 | D16: =調査票D!$K$34 -> 0 | E16: =IF((VLOOKUP($A16,調査票D!$A:$AQ,E$1,FALSE))="○",PDリスト!$F$6,"") | F16: - | G16: =VLOOKUP($A16,調査票D!$A:$AQ,G$1,FALSE) -> 0 | H16: =VLOOKUP($A16,調査票D!$A:$AQ,H$1,FALSE) -> 0 | I16: =VLOOKUP($A16,調査票D!$A:$AQ,I$1,FALSE) -> 0 | J16: =VLOOKUP($A16,調査票D!$A:$AQ,J$1,FALSE) -> 0 | K16: =VLOOKUP($A16,調査票D!$A:$AQ,K$1,FALSE) -> 0 | L16: =VLOOKUP($A16,調査票D!$A:$AQ,L$1,FALSE) -> 0 | M16: =VLOOKUP($A16,調査票D!$A:$AQ,M$1,FALSE) -> 0 | N16: =VLOOKUP($A16,調査票D!$A:$AQ,N$1,FALSE) -> 0 | O16: =VLOOKUP($A16,調査票D!$A:$AQ,O$1,FALSE) -> 0
A17: 19 | B17: =調査票D!$AJ$29 -> 0 | C17: =調査票D!$K$29 -> 0 | D17: =調査票D!$K$34 -> 0 | E17: =IF((VLOOKUP($A17,調査票D!$A:$AQ,E$1,FALSE))="○",PDリスト!$F$7,"") | F17: - | G17: =VLOOKUP($A17,調査票D!$A:$AQ,G$1,FALSE) -> 0 | H17: =VLOOKUP($A17,調査票D!$A:$AQ,H$1,FALSE) -> 0 | I17: =VLOOKUP($A17,調査票D!$A:$AQ,I$1,FALSE) -> 0 | J17: =VLOOKUP($A17,調査票D!$A:$AQ,J$1,FALSE) -> 0 | K17: =VLOOKUP($A17,調査票D!$A:$AQ,K$1,FALSE) -> 0 | L17: =VLOOKUP($A17,調査票D!$A:$AQ,L$1,FALSE) -> 0 | M17: =VLOOKUP($A17,調査票D!$A:$AQ,M$1,FALSE) -> 0 | N17: =VLOOKUP($A17,調査票D!$A:$AQ,N$1,FALSE) -> 0 | O17: =VLOOKUP($A17,調査票D!$A:$AQ,O$1,FALSE) -> 0
A18: 20 | B18: =調査票D!$AJ$29 -> 0 | C18: =調査票D!$K$29 -> 0 | D18: =調査票D!$K$34 -> 0 | E18: =IF((VLOOKUP($A18,調査票D!$A:$AQ,E$1,FALSE))="○",PDリスト!$F$8,"") | F18: - | G18: =VLOOKUP($A18,調査票D!$A:$AQ,G$1,FALSE) -> 0 | H18: =VLOOKUP($A18,調査票D!$A:$AQ,H$1,FALSE) -> 0 | I18: =VLOOKUP($A18,調査票D!$A:$AQ,I$1,FALSE) -> 0 | J18: =VLOOKUP($A18,調査票D!$A:$AQ,J$1,FALSE) -> 0 | K18: =VLOOKUP($A18,調査票D!$A:$AQ,K$1,FALSE) -> 0 | L18: =VLOOKUP($A18,調査票D!$A:$AQ,L$1,FALSE) -> 0 | M18: =VLOOKUP($A18,調査票D!$A:$AQ,M$1,FALSE) -> 0 | N18: =VLOOKUP($A18,調査票D!$A:$AQ,N$1,FALSE) -> 0 | O18: =VLOOKUP($A18,調査票D!$A:$AQ,O$1,FALSE) -> 0
A19: 21 | B19: =調査票D!$AJ$29 -> 0 | C19: =調査票D!$K$29 -> 0 | D19: =調査票D!$K$34 -> 0 | E19: =IF((VLOOKUP($A19,調査票D!$A:$AQ,E$1,FALSE))="○",PDリスト!$F$9,"") | F19: =調査票D!$M$47 -> 0 | G19: =VLOOKUP($A19,調査票D!$A:$AQ,G$1,FALSE) -> 0 | H19: =VLOOKUP($A19,調査票D!$A:$AQ,H$1,FALSE) -> 0 | I19: =VLOOKUP($A19,調査票D!$A:$AQ,I$1,FALSE) -> 0 | J19: =VLOOKUP($A19,調査票D!$A:$AQ,J$1,FALSE) -> 0 | K19: =VLOOKUP($A19,調査票D!$A:$AQ,K$1,FALSE) -> 0 | L19: =VLOOKUP($A19,調査票D!$A:$AQ,L$1,FALSE) -> 0 | M19: =VLOOKUP($A19,調査票D!$A:$AQ,M$1,FALSE) -> 0 | N19: =VLOOKUP($A19,調査票D!$A:$AQ,N$1,FALSE) -> 0 | O19: =VLOOKUP($A19,調査票D!$A:$AQ,O$1,FALSE) -> 0
A20: 22 | B20: =調査票D!$AJ$29 -> 0 | C20: =調査票D!$K$29 -> 0 | D20: =調査票D!$K$34 -> 0 | E20: =IF((VLOOKUP($A20,調査票D!$A:$AQ,E$1,FALSE))="○",PDリスト!$F$10,"") | F20: =調査票D!$M$49 -> 0 | G20: =VLOOKUP($A20,調査票D!$A:$AQ,G$1,FALSE) -> 0 | H20: =VLOOKUP($A20,調査票D!$A:$AQ,H$1,FALSE) -> 0 | I20: =VLOOKUP($A20,調査票D!$A:$AQ,I$1,FALSE) -> 0 | J20: =VLOOKUP($A20,調査票D!$A:$AQ,J$1,FALSE) -> 0 | K20: =VLOOKUP($A20,調査票D!$A:$AQ,K$1,FALSE) -> 0 | L20: =VLOOKUP($A20,調査票D!$A:$AQ,L$1,FALSE) -> 0 | M20: =VLOOKUP($A20,調査票D!$A:$AQ,M$1,FALSE) -> 0 | N20: =VLOOKUP($A20,調査票D!$A:$AQ,N$1,FALSE) -> 0 | O20: =VLOOKUP($A20,調査票D!$A:$AQ,O$1,FALSE) -> 0
A21: 25 | B21: =調査票D!$AJ$56 -> 0 | C21: =調査票D!$K$56 -> 0 | D21: =調査票D!$K$61 -> 0 | E21: =IF((VLOOKUP($A21,調査票D!$A:$AQ,E$1,FALSE))="○",PDリスト!$F$2,"") | F21: - | G21: =VLOOKUP($A21,調査票D!$A:$AQ,G$1,FALSE) -> 0 | H21: =VLOOKUP($A21,調査票D!$A:$AQ,H$1,FALSE) -> 0 | I21: =VLOOKUP($A21,調査票D!$A:$AQ,I$1,FALSE) -> 0 | J21: =VLOOKUP($A21,調査票D!$A:$AQ,J$1,FALSE) -> 0 | K21: =VLOOKUP($A21,調査票D!$A:$AQ,K$1,FALSE) -> 0 | L21: =VLOOKUP($A21,調査票D!$A:$AQ,L$1,FALSE) -> 0 | M21: =VLOOKUP($A21,調査票D!$A:$AQ,M$1,FALSE) -> 0 | N21: =VLOOKUP($A21,調査票D!$A:$AQ,N$1,FALSE) -> 0 | O21: =VLOOKUP($A21,調査票D!$A:$AQ,O$1,FALSE) -> 0
A22: 26 | B22: =調査票D!$AJ$56 -> 0 | C22: =調査票D!$K$56 -> 0 | D22: =調査票D!$K$61 -> 0 | E22: =IF((VLOOKUP($A22,調査票D!$A:$AQ,E$1,FALSE))="○",PDリスト!$F$3,"") | F22: - | G22: =VLOOKUP($A22,調査票D!$A:$AQ,G$1,FALSE) -> 0 | H22: =VLOOKUP($A22,調査票D!$A:$AQ,H$1,FALSE) -> 0 | I22: =VLOOKUP($A22,調査票D!$A:$AQ,I$1,FALSE) -> 0 | J22: =VLOOKUP($A22,調査票D!$A:$AQ,J$1,FALSE) -> 0 | K22: =VLOOKUP($A22,調査票D!$A:$AQ,K$1,FALSE) -> 0 | L22: =VLOOKUP($A22,調査票D!$A:$AQ,L$1,FALSE) -> 0 | M22: =VLOOKUP($A22,調査票D!$A:$AQ,M$1,FALSE) -> 0 | N22: =VLOOKUP($A22,調査票D!$A:$AQ,N$1,FALSE) -> 0 | O22: =VLOOKUP($A22,調査票D!$A:$AQ,O$1,FALSE) -> 0
A23: 27 | B23: =調査票D!$AJ$56 -> 0 | C23: =調査票D!$K$56 -> 0 | D23: =調査票D!$K$61 -> 0 | E23: =IF((VLOOKUP($A23,調査票D!$A:$AQ,E$1,FALSE))="○",PDリスト!$F$4,"") | F23: - | G23: =VLOOKUP($A23,調査票D!$A:$AQ,G$1,FALSE) -> 0 | H23: =VLOOKUP($A23,調査票D!$A:$AQ,H$1,FALSE) -> 0 | I23: =VLOOKUP($A23,調査票D!$A:$AQ,I$1,FALSE) -> 0 | J23: =VLOOKUP($A23,調査票D!$A:$AQ,J$1,FALSE) -> 0 | K23: =VLOOKUP($A23,調査票D!$A:$AQ,K$1,FALSE) -> 0 | L23: =VLOOKUP($A23,調査票D!$A:$AQ,L$1,FALSE) -> 0 | M23: =VLOOKUP($A23,調査票D!$A:$AQ,M$1,FALSE) -> 0 | N23: =VLOOKUP($A23,調査票D!$A:$AQ,N$1,FALSE) -> 0 | O23: =VLOOKUP($A23,調査票D!$A:$AQ,O$1,FALSE) -> 0
A24: 28 | B24: =調査票D!$AJ$56 -> 0 | C24: =調査票D!$K$56 -> 0 | D24: =調査票D!$K$61 -> 0 | E24: =IF((VLOOKUP($A24,調査票D!$A:$AQ,E$1,FALSE))="○",PDリスト!$F$5,"") | F24: =調査票D!$N$69 -> 0 | G24: =VLOOKUP($A24,調査票D!$A:$AQ,G$1,FALSE) -> 0 | H24: =VLOOKUP($A24,調査票D!$A:$AQ,H$1,FALSE) -> 0 | I24: =VLOOKUP($A24,調査票D!$A:$AQ,I$1,FALSE) -> 0 | J24: =VLOOKUP($A24,調査票D!$A:$AQ,J$1,FALSE) -> 0 | K24: =VLOOKUP($A24,調査票D!$A:$AQ,K$1,FALSE) -> 0 | L24: =VLOOKUP($A24,調査票D!$A:$AQ,L$1,FALSE) -> 0 | M24: =VLOOKUP($A24,調査票D!$A:$AQ,M$1,FALSE) -> 0 | N24: =VLOOKUP($A24,調査票D!$A:$AQ,N$1,FALSE) -> 0 | O24: =VLOOKUP($A24,調査票D!$A:$AQ,O$1,FALSE) -> 0
A25: 29 | B25: =調査票D!$AJ$56 -> 0 | C25: =調査票D!$K$56 -> 0 | D25: =調査票D!$K$61 -> 0 | E25: =IF((VLOOKUP($A25,調査票D!$A:$AQ,E$1,FALSE))="○",PDリスト!$F$6,"") | F25: - | G25: =VLOOKUP($A25,調査票D!$A:$AQ,G$1,FALSE) -> 0 | H25: =VLOOKUP($A25,調査票D!$A:$AQ,H$1,FALSE) -> 0 | I25: =VLOOKUP($A25,調査票D!$A:$AQ,I$1,FALSE) -> 0 | J25: =VLOOKUP($A25,調査票D!$A:$AQ,J$1,FALSE) -> 0 | K25: =VLOOKUP($A25,調査票D!$A:$AQ,K$1,FALSE) -> 0 | L25: =VLOOKUP($A25,調査票D!$A:$AQ,L$1,FALSE) -> 0 | M25: =VLOOKUP($A25,調査票D!$A:$AQ,M$1,FALSE) -> 0 | N25: =VLOOKUP($A25,調査票D!$A:$AQ,N$1,FALSE) -> 0 | O25: =VLOOKUP($A25,調査票D!$A:$AQ,O$1,FALSE) -> 0
A26: 30 | B26: =調査票D!$AJ$56 -> 0 | C26: =調査票D!$K$56 -> 0 | D26: =調査票D!$K$61 -> 0 | E26: =IF((VLOOKUP($A26,調査票D!$A:$AQ,E$1,FALSE))="○",PDリスト!$F$7,"") | F26: - | G26: =VLOOKUP($A26,調査票D!$A:$AQ,G$1,FALSE) -> 0 | H26: =VLOOKUP($A26,調査票D!$A:$AQ,H$1,FALSE) -> 0 | I26: =VLOOKUP($A26,調査票D!$A:$AQ,I$1,FALSE) -> 0 | J26: =VLOOKUP($A26,調査票D!$A:$AQ,J$1,FALSE) -> 0 | K26: =VLOOKUP($A26,調査票D!$A:$AQ,K$1,FALSE) -> 0 | L26: =VLOOKUP($A26,調査票D!$A:$AQ,L$1,FALSE) -> 0 | M26: =VLOOKUP($A26,調査票D!$A:$AQ,M$1,FALSE) -> 0 | N26: =VLOOKUP($A26,調査票D!$A:$AQ,N$1,FALSE) -> 0 | O26: =VLOOKUP($A26,調査票D!$A:$AQ,O$1,FALSE) -> 0
A27: 31 | B27: =調査票D!$AJ$56 -> 0 | C27: =調査票D!$K$56 -> 0 | D27: =調査票D!$K$61 -> 0 | E27: =IF((VLOOKUP($A27,調査票D!$A:$AQ,E$1,FALSE))="○",PDリスト!$F$8,"") | F27: - | G27: =VLOOKUP($A27,調査票D!$A:$AQ,G$1,FALSE) -> 0 | H27: =VLOOKUP($A27,調査票D!$A:$AQ,H$1,FALSE) -> 0 | I27: =VLOOKUP($A27,調査票D!$A:$AQ,I$1,FALSE) -> 0 | J27: =VLOOKUP($A27,調査票D!$A:$AQ,J$1,FALSE) -> 0 | K27: =VLOOKUP($A27,調査票D!$A:$AQ,K$1,FALSE) -> 0 | L27: =VLOOKUP($A27,調査票D!$A:$AQ,L$1,FALSE) -> 0 | M27: =VLOOKUP($A27,調査票D!$A:$AQ,M$1,FALSE) -> 0 | N27: =VLOOKUP($A27,調査票D!$A:$AQ,N$1,FALSE) -> 0 | O27: =VLOOKUP($A27,調査票D!$A:$AQ,O$1,FALSE) -> 0
A28: 32 | B28: =調査票D!$AJ$56 -> 0 | C28: =調査票D!$K$56 -> 0 | D28: =調査票D!$K$61 -> 0 | E28: =IF((VLOOKUP($A28,調査票D!$A:$AQ,E$1,FALSE))="○",PDリスト!$F$9,"") | F28: =調査票D!$M$74 -> 0 | G28: =VLOOKUP($A28,調査票D!$A:$AQ,G$1,FALSE) -> 0 | H28: =VLOOKUP($A28,調査票D!$A:$AQ,H$1,FALSE) -> 0 | I28: =VLOOKUP($A28,調査票D!$A:$AQ,I$1,FALSE) -> 0 | J28: =VLOOKUP($A28,調査票D!$A:$AQ,J$1,FALSE) -> 0 | K28: =VLOOKUP($A28,調査票D!$A:$AQ,K$1,FALSE) -> 0 | L28: =VLOOKUP($A28,調査票D!$A:$AQ,L$1,FALSE) -> 0 | M28: =VLOOKUP($A28,調査票D!$A:$AQ,M$1,FALSE) -> 0 | N28: =VLOOKUP($A28,調査票D!$A:$AQ,N$1,FALSE) -> 0 | O28: =VLOOKUP($A28,調査票D!$A:$AQ,O$1,FALSE) -> 0
A29: 33 | B29: =調査票D!$AJ$56 -> 0 | C29: =調査票D!$K$56 -> 0 | D29: =調査票D!$K$61 -> 0 | E29: =IF((VLOOKUP($A29,調査票D!$A:$AQ,E$1,FALSE))="○",PDリスト!$F$10,"") | F29: =調査票D!$M$76 -> 0 | G29: =VLOOKUP($A29,調査票D!$A:$AQ,G$1,FALSE) -> 0 | H29: =VLOOKUP($A29,調査票D!$A:$AQ,H$1,FALSE) -> 0 | I29: =VLOOKUP($A29,調査票D!$A:$AQ,I$1,FALSE) -> 0 | J29: =VLOOKUP($A29,調査票D!$A:$AQ,J$1,FALSE) -> 0 | K29: =VLOOKUP($A29,調査票D!$A:$AQ,K$1,FALSE) -> 0 | L29: =VLOOKUP($A29,調査票D!$A:$AQ,L$1,FALSE) -> 0 | M29: =VLOOKUP($A29,調査票D!$A:$AQ,M$1,FALSE) -> 0 | N29: =VLOOKUP($A29,調査票D!$A:$AQ,N$1,FALSE) -> 0 | O29: =VLOOKUP($A29,調査票D!$A:$AQ,O$1,FALSE) -> 0
A30: 36 | B30: =調査票D!$AJ$83 -> 0 | C30: =調査票D!$K$83 -> 0 | D30: =調査票D!$K$88 -> 0 | E30: =IF((VLOOKUP($A30,調査票D!$A:$AQ,E$1,FALSE))="○",PDリスト!$F$2,"") | F30: - | G30: =VLOOKUP($A30,調査票D!$A:$AQ,G$1,FALSE) -> 0 | H30: =VLOOKUP($A30,調査票D!$A:$AQ,H$1,FALSE) -> 0 | I30: =VLOOKUP($A30,調査票D!$A:$AQ,I$1,FALSE) -> 0 | J30: =VLOOKUP($A30,調査票D!$A:$AQ,J$1,FALSE) -> 0 | K30: =VLOOKUP($A30,調査票D!$A:$AQ,K$1,FALSE) -> 0 | L30: =VLOOKUP($A30,調査票D!$A:$AQ,L$1,FALSE) -> 0 | M30: =VLOOKUP($A30,調査票D!$A:$AQ,M$1,FALSE) -> 0 | N30: =VLOOKUP($A30,調査票D!$A:$AQ,N$1,FALSE) -> 0 | O30: =VLOOKUP($A30,調査票D!$A:$AQ,O$1,FALSE) -> 0
A31: 37 | B31: =調査票D!$AJ$83 -> 0 | C31: =調査票D!$K$83 -> 0 | D31: =調査票D!$K$88 -> 0 | E31: =IF((VLOOKUP($A31,調査票D!$A:$AQ,E$1,FALSE))="○",PDリスト!$F$3,"") | F31: - | G31: =VLOOKUP($A31,調査票D!$A:$AQ,G$1,FALSE) -> 0 | H31: =VLOOKUP($A31,調査票D!$A:$AQ,H$1,FALSE) -> 0 | I31: =VLOOKUP($A31,調査票D!$A:$AQ,I$1,FALSE) -> 0 | J31: =VLOOKUP($A31,調査票D!$A:$AQ,J$1,FALSE) -> 0 | K31: =VLOOKUP($A31,調査票D!$A:$AQ,K$1,FALSE) -> 0 | L31: =VLOOKUP($A31,調査票D!$A:$AQ,L$1,FALSE) -> 0 | M31: =VLOOKUP($A31,調査票D!$A:$AQ,M$1,FALSE) -> 0 | N31: =VLOOKUP($A31,調査票D!$A:$AQ,N$1,FALSE) -> 0 | O31: =VLOOKUP($A31,調査票D!$A:$AQ,O$1,FALSE) -> 0
A32: 38 | B32: =調査票D!$AJ$83 -> 0 | C32: =調査票D!$K$83 -> 0 | D32: =調査票D!$K$88 -> 0 | E32: =IF((VLOOKUP($A32,調査票D!$A:$AQ,E$1,FALSE))="○",PDリスト!$F$4,"") | F32: - | G32: =VLOOKUP($A32,調査票D!$A:$AQ,G$1,FALSE) -> 0 | H32: =VLOOKUP($A32,調査票D!$A:$AQ,H$1,FALSE) -> 0 | I32: =VLOOKUP($A32,調査票D!$A:$AQ,I$1,FALSE) -> 0 | J32: =VLOOKUP($A32,調査票D!$A:$AQ,J$1,FALSE) -> 0 | K32: =VLOOKUP($A32,調査票D!$A:$AQ,K$1,FALSE) -> 0 | L32: =VLOOKUP($A32,調査票D!$A:$AQ,L$1,FALSE) -> 0 | M32: =VLOOKUP($A32,調査票D!$A:$AQ,M$1,FALSE) -> 0 | N32: =VLOOKUP($A32,調査票D!$A:$AQ,N$1,FALSE) -> 0 | O32: =VLOOKUP($A32,調査票D!$A:$AQ,O$1,FALSE) -> 0
A33: 39 | B33: =調査票D!$AJ$83 -> 0 | C33: =調査票D!$K$83 -> 0 | D33: =調査票D!$K$88 -> 0 | E33: =IF((VLOOKUP($A33,調査票D!$A:$AQ,E$1,FALSE))="○",PDリスト!$F$5,"") | F33: =調査票D!$N$96 -> 0 | G33: =VLOOKUP($A33,調査票D!$A:$AQ,G$1,FALSE) -> 0 | H33: =VLOOKUP($A33,調査票D!$A:$AQ,H$1,FALSE) -> 0 | I33: =VLOOKUP($A33,調査票D!$A:$AQ,I$1,FALSE) -> 0 | J33: =VLOOKUP($A33,調査票D!$A:$AQ,J$1,FALSE) -> 0 | K33: =VLOOKUP($A33,調査票D!$A:$AQ,K$1,FALSE) -> 0 | L33: =VLOOKUP($A33,調査票D!$A:$AQ,L$1,FALSE) -> 0 | M33: =VLOOKUP($A33,調査票D!$A:$AQ,M$1,FALSE) -> 0 | N33: =VLOOKUP($A33,調査票D!$A:$AQ,N$1,FALSE) -> 0 | O33: =VLOOKUP($A33,調査票D!$A:$AQ,O$1,FALSE) -> 0
A34: 40 | B34: =調査票D!$AJ$83 -> 0 | C34: =調査票D!$K$83 -> 0 | D34: =調査票D!$K$88 -> 0 | E34: =IF((VLOOKUP($A34,調査票D!$A:$AQ,E$1,FALSE))="○",PDリスト!$F$6,"") | F34: - | G34: =VLOOKUP($A34,調査票D!$A:$AQ,G$1,FALSE) -> 0 | H34: =VLOOKUP($A34,調査票D!$A:$AQ,H$1,FALSE) -> 0 | I34: =VLOOKUP($A34,調査票D!$A:$AQ,I$1,FALSE) -> 0 | J34: =VLOOKUP($A34,調査票D!$A:$AQ,J$1,FALSE) -> 0 | K34: =VLOOKUP($A34,調査票D!$A:$AQ,K$1,FALSE) -> 0 | L34: =VLOOKUP($A34,調査票D!$A:$AQ,L$1,FALSE) -> 0 | M34: =VLOOKUP($A34,調査票D!$A:$AQ,M$1,FALSE) -> 0 | N34: =VLOOKUP($A34,調査票D!$A:$AQ,N$1,FALSE) -> 0 | O34: =VLOOKUP($A34,調査票D!$A:$AQ,O$1,FALSE) -> 0
A35: 41 | B35: =調査票D!$AJ$83 -> 0 | C35: =調査票D!$K$83 -> 0 | D35: =調査票D!$K$88 -> 0 | E35: =IF((VLOOKUP($A35,調査票D!$A:$AQ,E$1,FALSE))="○",PDリスト!$F$7,"") | F35: - | G35: =VLOOKUP($A35,調査票D!$A:$AQ,G$1,FALSE) -> 0 | H35: =VLOOKUP($A35,調査票D!$A:$AQ,H$1,FALSE) -> 0 | I35: =VLOOKUP($A35,調査票D!$A:$AQ,I$1,FALSE) -> 0 | J35: =VLOOKUP($A35,調査票D!$A:$AQ,J$1,FALSE) -> 0 | K35: =VLOOKUP($A35,調査票D!$A:$AQ,K$1,FALSE) -> 0 | L35: =VLOOKUP($A35,調査票D!$A:$AQ,L$1,FALSE) -> 0 | M35: =VLOOKUP($A35,調査票D!$A:$AQ,M$1,FALSE) -> 0 | N35: =VLOOKUP($A35,調査票D!$A:$AQ,N$1,FALSE) -> 0 | O35: =VLOOKUP($A35,調査票D!$A:$AQ,O$1,FALSE) -> 0
A36: 42 | B36: =調査票D!$AJ$83 -> 0 | C36: =調査票D!$K$83 -> 0 | D36: =調査票D!$K$88 -> 0 | E36: =IF((VLOOKUP($A36,調査票D!$A:$AQ,E$1,FALSE))="○",PDリスト!$F$8,"") | F36: - | G36: =VLOOKUP($A36,調査票D!$A:$AQ,G$1,FALSE) -> 0 | H36: =VLOOKUP($A36,調査票D!$A:$AQ,H$1,FALSE) -> 0 | I36: =VLOOKUP($A36,調査票D!$A:$AQ,I$1,FALSE) -> 0 | J36: =VLOOKUP($A36,調査票D!$A:$AQ,J$1,FALSE) -> 0 | K36: =VLOOKUP($A36,調査票D!$A:$AQ,K$1,FALSE) -> 0 | L36: =VLOOKUP($A36,調査票D!$A:$AQ,L$1,FALSE) -> 0 | M36: =VLOOKUP($A36,調査票D!$A:$AQ,M$1,FALSE) -> 0 | N36: =VLOOKUP($A36,調査票D!$A:$AQ,N$1,FALSE) -> 0 | O36: =VLOOKUP($A36,調査票D!$A:$AQ,O$1,FALSE) -> 0
A37: 43 | B37: =調査票D!$AJ$83 -> 0 | C37: =調査票D!$K$83 -> 0 | D37: =調査票D!$K$88 -> 0 | E37: =IF((VLOOKUP($A37,調査票D!$A:$AQ,E$1,FALSE))="○",PDリスト!$F$9,"") | F37: =調査票D!$M$101 -> 0 | G37: =VLOOKUP($A37,調査票D!$A:$AQ,G$1,FALSE) -> 0 | H37: =VLOOKUP($A37,調査票D!$A:$AQ,H$1,FALSE) -> 0 | I37: =VLOOKUP($A37,調査票D!$A:$AQ,I$1,FALSE) -> 0 | J37: =VLOOKUP($A37,調査票D!$A:$AQ,J$1,FALSE) -> 0 | K37: =VLOOKUP($A37,調査票D!$A:$AQ,K$1,FALSE) -> 0 | L37: =VLOOKUP($A37,調査票D!$A:$AQ,L$1,FALSE) -> 0 | M37: =VLOOKUP($A37,調査票D!$A:$AQ,M$1,FALSE) -> 0 | N37: =VLOOKUP($A37,調査票D!$A:$AQ,N$1,FALSE) -> 0 | O37: =VLOOKUP($A37,調査票D!$A:$AQ,O$1,FALSE) -> 0
A38: 44 | B38: =調査票D!$AJ$83 -> 0 | C38: =調査票D!$K$83 -> 0 | D38: =調査票D!$K$88 -> 0 | E38: =IF((VLOOKUP($A38,調査票D!$A:$AQ,E$1,FALSE))="○",PDリスト!$F$10,"") | F38: =調査票D!$M$103 -> 0 | G38: =VLOOKUP($A38,調査票D!$A:$AQ,G$1,FALSE) -> 0 | H38: =VLOOKUP($A38,調査票D!$A:$AQ,H$1,FALSE) -> 0 | I38: =VLOOKUP($A38,調査票D!$A:$AQ,I$1,FALSE) -> 0 | J38: =VLOOKUP($A38,調査票D!$A:$AQ,J$1,FALSE) -> 0 | K38: =VLOOKUP($A38,調査票D!$A:$AQ,K$1,FALSE) -> 0 | L38: =VLOOKUP($A38,調査票D!$A:$AQ,L$1,FALSE) -> 0 | M38: =VLOOKUP($A38,調査票D!$A:$AQ,M$1,FALSE) -> 0 | N38: =VLOOKUP($A38,調査票D!$A:$AQ,N$1,FALSE) -> 0 | O38: =VLOOKUP($A38,調査票D!$A:$AQ,O$1,FALSE) -> 0
A39: 47 | B39: =調査票D!$AJ$110 -> 0 | C39: =調査票D!$K$110 -> 0 | D39: =調査票D!$K$115 -> 0 | E39: =IF((VLOOKUP($A39,調査票D!$A:$AQ,E$1,FALSE))="○",PDリスト!$F$2,"") | F39: - | G39: =VLOOKUP($A39,調査票D!$A:$AQ,G$1,FALSE) -> 0 | H39: =VLOOKUP($A39,調査票D!$A:$AQ,H$1,FALSE) -> 0 | I39: =VLOOKUP($A39,調査票D!$A:$AQ,I$1,FALSE) -> 0 | J39: =VLOOKUP($A39,調査票D!$A:$AQ,J$1,FALSE) -> 0 | K39: =VLOOKUP($A39,調査票D!$A:$AQ,K$1,FALSE) -> 0 | L39: =VLOOKUP($A39,調査票D!$A:$AQ,L$1,FALSE) -> 0 | M39: =VLOOKUP($A39,調査票D!$A:$AQ,M$1,FALSE) -> 0 | N39: =VLOOKUP($A39,調査票D!$A:$AQ,N$1,FALSE) -> 0 | O39: =VLOOKUP($A39,調査票D!$A:$AQ,O$1,FALSE) -> 0
A40: 48 | B40: =調査票D!$AJ$110 -> 0 | C40: =調査票D!$K$110 -> 0 | D40: =調査票D!$K$115 -> 0 | E40: =IF((VLOOKUP($A40,調査票D!$A:$AQ,E$1,FALSE))="○",PDリスト!$F$3,"") | F40: - | G40: =VLOOKUP($A40,調査票D!$A:$AQ,G$1,FALSE) -> 0 | H40: =VLOOKUP($A40,調査票D!$A:$AQ,H$1,FALSE) -> 0 | I40: =VLOOKUP($A40,調査票D!$A:$AQ,I$1,FALSE) -> 0 | J40: =VLOOKUP($A40,調査票D!$A:$AQ,J$1,FALSE) -> 0 | K40: =VLOOKUP($A40,調査票D!$A:$AQ,K$1,FALSE) -> 0 | L40: =VLOOKUP($A40,調査票D!$A:$AQ,L$1,FALSE) -> 0 | M40: =VLOOKUP($A40,調査票D!$A:$AQ,M$1,FALSE) -> 0 | N40: =VLOOKUP($A40,調査票D!$A:$AQ,N$1,FALSE) -> 0 | O40: =VLOOKUP($A40,調査票D!$A:$AQ,O$1,FALSE) -> 0
...

Sheet PDリスト
B1: 該当・非該当 | D1: 管理番号・物質名 | F1: 取扱区分
B2: ○ | D2: 1：亜鉛の水溶性化合物 | F2: ア）PRTR対象化学物質自体の製造
D3: 2：アクリルアミド | F3: イ）化学品の合成原料
D4: 3：アクリル酸エチル | F4: ウ）反応溶剤・抽出溶剤等
D5: 4：アクリル酸及びその水溶性塩 | F5: エ）化学品の配合原料
D6: 7：アクリル酸ブチル | F6: オ）化学プロセス調節剤
D7: 8：アクリル酸メチル | F7: カ）PRTR対象化学物質を含む化学品の小分け
D8: 9：アクリロニトリル | F8: キ）反応による副生成物
D9: 12：アセトアルデヒド | F9: ク）その他
D10: 15：アセナフテン | F10: ケ）その他
D11: 18：アニリン
D12: 20：２－アミノエタノール
D13: 30：直鎖アルキルベンゼンスルホン酸及びその塩（アルキル基の炭素数が１０から１４までのもの及びその混合物に限る。）
D14: 31：アンチモン及びその化合物
D15: 32：アントラセン
D16: 34：３－イソシアナトメチル－３，５，５－トリメチルシクロヘキシル＝イソシアネート
D17: 36：イソプレン
D18: 37：ビスフェノールＡ
D19: 44：インジウム及びその化合物
D20: 53：エチルベンゼン
D21: 56：エチレンオキシド
D22: 57：エチレングリコールモノエチルエーテル
... D279: 754：硫酸ジメチル
