Workbook

Sheet 会社全体の状況
B2: 調査票A
A3: 1 | T3: 発送コード | X3: ：
B5: 令和８年度 PRTRの対象化学物質の取扱状況に係るアンケート調査票 （化管法政令改正後のPRTR対象物質の取扱状況について質問します。）
B7: ＜会社全体の状況＞
A8: 2 | B8: 会社名 （事業者名）
A9: 3 | B9: 会社全体の 常用雇用者数 （該当するものに○） | I9: ア）21人未満 | T9: イ）21～100人
A10: 4 | I10: ウ）101～500人 | T10: エ）501人以上
A11: 5 | B11: 事業活動を行う 事業所の数 | G11: 工場・作業所等 | Z11: カ所
A12: 6 | G12: （うち、化学物質の取扱いがある工場等） | Z12: カ所注２
A13: 7 | G13: その他（営業所等） | Z13: カ所
B14: 注１：原則として令和7年4月1日現在の国内の状況を記入してください。
B15: 注２：PRTRの対象化学物質を含む可能性がある資材や薬剤等（例：塗料、接着剤、洗浄剤、試薬、燃料）の取扱いがある工場・作業所等を「化学物質の取扱いがある工場等」として、その数を括弧内に記入してください。
B18: 貴社に上記の「化学物質の取扱いがある工場等」がある場合、それらの工場等の名称（例：本社工場、九段南第二工場）を以下の回答欄に記入してください。
B20: 事業所No. | F20: 事業所名（工場等の名称）
A21: 8 | B21: １
A22: 9 | B22: ２
A23: 10 | B23: ３
A24: 11 | B24: ４
A25: 12 | B25: ５
A26: 13 | B26: ６
A27: 14 | B27: ７
A28: 15 | B28: ８
B29: ※回答欄が不足する場合は、本ファイルをコピーしてご回答ください。
B31: →sheet「個人情報の取扱いについて」もご記入をお願いします。

Sheet 個人情報の取扱いについて
B2: ＜個人情報の取扱について＞
B3: 本紙には、このアンケートにご記入いただいたご担当者様の部署、氏名、連絡先（以下、「個人情報」という）をご記入いただく欄がございますが、本アンケートに関する問い合わせに限り使用させていただき、他の目的には使用いたしません。また、業務委託元である経済産業省を除く第三者への情報提供もいたしません。 上述の条件に限って当社で個人情報を取扱うことに同意していただける場合には、同意の確認欄にチェックや○をご記入いただいた上で、部署、氏名、連絡先をご記入下さいますようお願いいたします。
B4: 【個人情報の利用目的の通知、開示、内容の訂正、追加又は削除、利用の停止、消去及び第三者への提供の停止の問合せ先】 一般社団法人環境情報科学センター 個人情報問い合わせ窓口 Tel：03-3265-3916(代表） 【個人情報管理責任者】 一般社団法人環境情報科学センター 事務局長 Tel：03-3265-3916（代表）
A6: 1 | E6: 個人情報の取扱いについて同意します。
B9: ※ | C9: 同意していただける場合には、上記の□内に○をご記入ください。
B10: ※ | C10: ご回答いただいたアンケート調査の内容に不明な点がある場合には、内容について照会させていただく場合がございます。
B13: ○本アンケート調査へのご回答者の連絡先等を下記の回答欄にご記入ください。
A15: 2 | B15: 部署名
A16: 3 | B16: 氏名
A17: 4 | B17: 連絡先 | F17: 電話： | Q17: ファックス：
A18: 5 | F18: 電子メール：
B20: →sheet「会社全体の状況」もご記入をお願いします。

Sheet PDリスト
B1: 該当・非該当
B2: ○

Sheet 集計
B1: 1 | C1: 2 | D1: 3 | E1: 3 | F1: 4 | G1: 4 | H1: 5 | I1: 6 | J1: 7 | K1: 8 | L1: 9 | M1: 10 | N1: 11 | O1: 12 | P1: 13 | Q1: 14 | R1: 15 | S1: 1 | T1: 2 | U1: 3 | V1: 4 | W1: 4 | X1: 5
B2: 25 | C2: 7 | D2: 7 | E2: 18 | F2: 7 | G2: 18 | H2: 23 | I2: 23 | J2: 23 | K2: 6 | L2: 6 | M2: 6 | N2: 6 | O2: 6 | P2: 6 | Q2: 6 | R2: 6 | S2: 20 | T2: 6 | U2: 6 | V2: 10 | W2: 21 | X2: 10
B3: 会社全体の状況 | S3: 個人情報の取扱いについて
B4: 発送コード | C4: 会社名（事業者名） | D4: 会社全体の常用雇用者数 | H4: 事業活動を行う事業所の数 | K4: 事業所名（工場等の名称） | S4: 同意 | T4: 連絡先
D5: ア | E5: イ | F5: ウ | G5: エ | H5: 工場・作業所等 | I5: うち、化学物質取扱い | J5: その他 | K5: No.1 | L5: No.2 | M5: No.3 | N5: No.4 | O5: No.5 | P5: No.6 | Q5: No.7 | R5: No.8 | T5: 部署名 | U5: 氏名 | V5: 電話 | W5: FAX | X5: 電子メール
A6: 1 | B6: =VLOOKUP(B$1,会社全体の状況!$A:$AB,B$2,FALSE) -> 0 | C6: =VLOOKUP(C$1,会社全体の状況!$A:$AB,C$2,FALSE) -> 0 | D6: =VLOOKUP(D$1,会社全体の状況!$A:$AB,D$2,FALSE) -> 0 | E6: =VLOOKUP(E$1,会社全体の状況!$A:$AB,E$2,FALSE) -> 0 | F6: =VLOOKUP(F$1,会社全体の状況!$A:$AB,F$2,FALSE) -> 0 | G6: =VLOOKUP(G$1,会社全体の状況!$A:$AB,G$2,FALSE) -> 0 | H6: =VLOOKUP(H$1,会社全体の状況!$A:$AB,H$2,FALSE) -> 0 | I6: =VLOOKUP(I$1,会社全体の状況!$A:$AB,I$2,FALSE) -> 0 | ... R6: =VLOOKUP(R$1,会社全体の状況!$A:$AB,R$2,FALSE) -> 0 | S6: =VLOOKUP(S$1,個人情報の取扱いについて!$A:$AB,S$2,FALSE) -> 0 | T6: =VLOOKUP(T$1,個人情報の取扱いについて!$A:$AB,T$2,FALSE) -> 0 | U6: =VLOOKUP(U$1,個人情報の取扱いについて!$A:$AB,U$2,FALSE) -> 0 | V6: =VLOOKUP(V$1,個人情報の取扱いについて!$A:$AB,V$2,FALSE) -> 0 | W6: =VLOOKUP(W$1,個人情報の取扱いについて!$A:$AB,W$2,FALSE) -> 0 | X6: =VLOOKUP(X$1,個人情報の取扱いについて!$A:$AB,X$2,FALSE) -> 0
