Workbook

Sheet 受検申込書（記入用）
A1: 令和８年度 化学物質アドバイザー受検申込書
A2: 以下の網掛の欄をご記入ください。
I4: 記入日（西暦）：
A6: フリガナ | H6: 性別 | J6: 生年月日 （西暦）
A7: 氏名
A8: 現住所 | B8: 〒
A10: E-mailアドレス | I10: 電話番号（携帯可）
A11: 学歴 | D11: 年 | F11: 月
D12: 年 | F12: 月
D13: 年 | F13: 月
D14: 年 | F14: 月
D15: 年 | F15: 月
D16: 年 | F16: 月
A17: 職歴 | D17: 年 | F17: 月
D18: 年 | F18: 月
D19: 年 | F19: 月
D20: 年 | F20: 月
D21: 年 | F21: 月
D22: 年 | F22: 月
D23: 年 | F23: 月
D24: 年 | F24: 月
D25: 年 | F25: 月
D26: 年 | F26: 月
A27: 保有資格等 | D27: 年 | F27: 月
D28: 年 | F28: 月
D29: 年 | F29: 月
D30: 年 | F30: 月
D31: 年 | F31: 月
D32: 年 | F32: 月
A33: 専門分野
A34: 化学物質管理や リスクコミュニケーションに 係る実務経験 ※最大300字
A35: 志望動機 ※最大300字

Sheet 学歴・職歴・保有資格（記入欄が足りない場合）
A4: 学歴 | D4: 年 | F4: 月
D5: 年 | F5: 月
D6: 年 | F6: 月
D7: 年 | F7: 月
D8: 年 | F8: 月
D9: 年 | F9: 月
A10: 職歴 | D10: 年 | F10: 月
D11: 年 | F11: 月
D12: 年 | F12: 月
D13: 年 | F13: 月
D14: 年 | F14: 月
D15: 年 | F15: 月
A16: 保有資格等 | D16: 年 | F16: 月
D17: 年 | F17: 月
D18: 年 | F18: 月
D19: 年 | F19: 月
D20: 年 | F20: 月
D21: 年 | F21: 月

Sheet 集計用（非表示sheet）
A1: 受験番号 | B1: 記入日 | C1: 氏名（フリガナ） | D1: 氏名 | E1: 性別 | F1: 生年月日 | G1: 〒 | H1: 現住所 | I1: E-mailアドレス | J1: 電話番号 | K1: 学歴①（年） | L1: 学歴①（月） | M1: 学歴① | N1: 学歴②（年） | O1: 学歴②（月） | P1: 学歴② | Q1: 学歴③（年） | R1: 学歴③（月） | S1: 学歴③ | T1: 学歴④（年） | U1: 学歴④（月） | V1: 学歴④ | W1: 学歴⑤（年） | X1: 学歴⑤（月） | Y1: 学歴⑤ | Z1: 学歴⑥（年） | AA1: 学歴⑥（月） | AB1: 学歴⑥ | AC1: 職歴①（年） | AD1: 職歴①（月） | AE1: 職歴① | AF1: 職歴②（年） | AG1: 職歴②（月） | AH1: 職歴② | AI1: 職歴③（年） | AJ1: 職歴③（月） | AK1: 職歴③ | AL1: 職歴④（年） | AM1: 職歴④（月） | AN1: 職歴④ | AO1: 職歴⑤（年） | AP1: 職歴⑤（月） | AQ1: 職歴⑤ | AR1: 職歴⑥（年） | AS1: 職歴⑥（月） | AT1: 職歴⑥ | AU1: 職歴⑦（年） | AV1: 職歴⑦（月） | AW1: 職歴⑦ | AX1: 職歴⑧（年） | AY1: 職歴⑧（月） | AZ1: 職歴⑧ | BA1: 職歴⑨（年） | BB1: 職歴⑨（月） | BC1: 職歴⑨ | BD1: 職歴⑩（年） | BE1: 職歴⑩（月） | BF1: 職歴⑩ | BG1: 保有資格等①（年） | BH1: 保有資格等①（月） | BI1: 保有資格等① | BJ1: 保有資格等②（年） | BK1: 保有資格等②（月） | BL1: 保有資格等② | BM1: 保有資格等③（年） | BN1: 保有資格等③（月） | BO1: 保有資格等③ | BP1: 保有資格等④（年） | BQ1: 保有資格等④（月） | BR1: 保有資格等④ | BS1: 保有資格等⑤（年） | BT1: 保有資格等⑤（月） | BU1: 保有資格等⑤ | BV1: 保有資格等⑥（年） | BW1: 保有資格等⑥（月） | BX1: 保有資格等⑥ | BY1: 専門分野 | BZ1: 実務経験 | CA1: 志望動機
B2: ='受検申込書（記入用）'!$K$4 -> 0 | C2: ='受検申込書（記入用）'!$B$6 -> 0 | D2: ='受検申込書（記入用）'!$B$7 -> 0 | E2: ='受検申込書（記入用）'!$I$6 -> 0 | F2: ='受検申込書（記入用）'!$K$6 -> 0 | G2: ='受検申込書（記入用）'!$C$8 -> 0 | H2: ='受検申込書（記入用）'!$B$9 -> 0 | I2: ='受検申込書（記入用）'!$B$10 -> 0 | J2: ='受検申込書（記入用）'!$K$10 -> 0 | K2: ='受検申込書（記入用）'!$B$11 -> 0 | L2: ='受検申込書（記入用）'!$E$11 -> 0 | M2: ='受検申込書（記入用）'!$G$11 -> 0 | N2: ='受検申込書（記入用）'!$B$12 -> 0 | O2: ='受検申込書（記入用）'!$E$12 -> 0 | P2: ='受検申込書（記入用）'!$G$12 -> 0 | Q2: ='受検申込書（記入用）'!$B$13 -> 0 | R2: ='受検申込書（記入用）'!$E$13 -> 0 | S2: ='受検申込書（記入用）'!$G$13 -> 0 | T2: ='受検申込書（記入用）'!$B$14 -> 0 | U2: ='受検申込書（記入用）'!$E$14 -> 0 | V2: ='受検申込書（記入用）'!$G$14 -> 0 | W2: ='受検申込書（記入用）'!$B$15 -> 0 | X2: ='受検申込書（記入用）'!$E$15 -> 0 | Y2: ='受検申込書（記入用）'!$G$15 -> 0 | Z2: ='受検申込書（記入用）'!$B$16 -> 0 | AA2: ='受検申込書（記入用）'!$E$16 -> 0 | AB2: ='受検申込書（記入用）'!$G$16 -> 0 | AC2: ='受検申込書（記入用）'!$B$17 -> 0 | AD2: ='受検申込書（記入用）'!$E$17 -> 0 | AE2: ='受検申込書（記入用）'!$G$17 -> 0 | AF2: ='受検申込書（記入用）'!$B$18 -> 0 | AG2: ='受検申込書（記入用）'!$E$18 -> 0 | AH2: ='受検申込書（記入用）'!$G$18 -> 0 | AI2: ='受検申込書（記入用）'!$B$19 -> 0 | AJ2: ='受検申込書（記入用）'!$E$19 -> 0 | AK2: ='受検申込書（記入用）'!$G$19 -> 0 | AL2: ='受検申込書（記入用）'!$B$20 -> 0 | AM2: ='受検申込書（記入用）'!$E$20 -> 0 | AN2: ='受検申込書（記入用）'!$G$20 -> 0 | AO2: ='受検申込書（記入用）'!$B$21 -> 0 | AP2: ='受検申込書（記入用）'!$E$21 -> 0 | AQ2: ='受検申込書（記入用）'!$G$21 -> 0 | AR2: ='受検申込書（記入用）'!$B$22 -> 0 | AS2: ='受検申込書（記入用）'!$E$22 -> 0 | AT2: ='受検申込書（記入用）'!$G$22 -> 0 | AU2: ='受検申込書（記入用）'!$B$23 -> 0 | AV2: ='受検申込書（記入用）'!$E$23 -> 0 | AW2: ='受検申込書（記入用）'!$G$23 -> 0 | AX2: ='受検申込書（記入用）'!$B$24 -> 0 | AY2: ='受検申込書（記入用）'!$E$24 -> 0 | AZ2: ='受検申込書（記入用）'!$G$24 -> 0 | BA2: ='受検申込書（記入用）'!$B$25 -> 0 | BB2: ='受検申込書（記入用）'!$E$25 -> 0 | BC2: ='受検申込書（記入用）'!$G$25 -> 0 | BD2: ='受検申込書（記入用）'!$B$26 -> 0 | BE2: ='受検申込書（記入用）'!$E$26 -> 0 | BF2: ='受検申込書（記入用）'!$G$26 -> 0 | BG2: ='受検申込書（記入用）'!$B$27 -> 0 | BH2: ='受検申込書（記入用）'!$E$27 -> 0 | BI2: ='受検申込書（記入用）'!$G$27 -> 0 | BJ2: ='受検申込書（記入用）'!$B$28 -> 0 | BK2: ='受検申込書（記入用）'!$E$28 -> 0 | BL2: ='受検申込書（記入用）'!$G$28 -> 0 | BM2: ='受検申込書（記入用）'!$B$29 -> 0 | BN2: ='受検申込書（記入用）'!$E$29 -> 0 | BO2: ='受検申込書（記入用）'!$G$29 -> 0 | BP2: ='受検申込書（記入用）'!$B$30 -> 0 | BQ2: ='受検申込書（記入用）'!$E$30 -> 0 | BR2: ='受検申込書（記入用）'!$G$30 -> 0 | BS2: ='受検申込書（記入用）'!$B$31 -> 0 | BT2: ='受検申込書（記入用）'!$E$31 -> 0 | BU2: ='受検申込書（記入用）'!$G$31 -> 0 | BV2: ='受検申込書（記入用）'!$B$32 -> 0 | BW2: ='受検申込書（記入用）'!$E$32 -> 0 | BX2: ='受検申込書（記入用）'!$G$32 -> 0 | BY2: ='受検申込書（記入用）'!B33 -> 0 | BZ2: ='受検申込書（記入用）'!$B$34 -> 0 | CA2: ='受検申込書（記入用）'!$B$35 -> 0
